Dist-Zilla-Plugin-Chrome-ExtraPrompt v0.015 Perl 5 v5.26.1 RC1 x86_64-linux
- Status
- Pass
- From
- Slaven Rezić (SREZIC)
- Dist
-
Dist-Zilla-Plugin-Chrome-ExtraPrompt v0.015
- Platform
- Perl 5 v5.26.1 RC1 x86_64-linux
- Date
- 2017-09-11 20:21:21
- ID
- c674479c-972e-11e7-8f28-a199348ea2c3
This distribution has been tested as part of the CPAN Testers
project, supporting the Perl programming language. See
http://wiki.cpantesters.org/ for more information or email
questions to cpan-testers-discuss@perl.org
--
Dear Karen Etheridge,
This is a computer-generated report for Dist-Zilla-Plugin-Chrome-ExtraPrompt-0.015
on perl 5.26.1, created by CPAN-Reporter-1.2018.
Thank you for uploading your work to CPAN. Congratulations!
All tests were successful.
Sections of this report:
* Tester comments
* Program output
* Prerequisites
* Environment and other context
------------------------------
TESTER COMMENTS
------------------------------
Additional comments from tester:
none provided
------------------------------
PROGRAM OUTPUT
------------------------------
Output from './Build test':
#
# Versions for all modules listed in MYMETA.json (including optional ones):
#
# === Configure Requires ===
#
# Module Want Have
# ------------------- ----- -----
# Module::Build::Tiny 0.034 0.039
#
# === Test Requires ===
#
# Module Want Have
# ----------------------------------------- ----- --------
# Dist::Zilla::Chrome::Test any 6.010
# Dist::Zilla::MVP::Assembler::GlobalConfig any 6.010
# Dist::Zilla::MVP::Reader::Finder any 6.010
# Dist::Zilla::MVP::Section any 6.010
# Dist::Zilla::Role::BeforeBuild any 6.010
# File::Spec any 3.67
# Module::Metadata any 1.000033
# Path::Tiny any 0.104
# Test::DZil any 6.010
# Test::Deep any 1.127
# Test::Fatal any 0.014
# Test::More 0.88 1.302086
# Test::Warnings 0.009 0.026
# if any 0.0606
# lib any 0.64
#
# === Test Recommends ===
#
# Module Want Have
# ---------- -------- --------
# CPAN::Meta 2.120900 2.150010
#
# === Runtime Requires ===
#
# Module Want Have
# ------------------------- ---- ------
# Dist::Zilla::Role::Plugin any 6.010
# File::Spec any 3.67
# IPC::Open3 any 1.20
# Moose any 2.2006
# Moose::Role any 2.2006
# POSIX any 1.76
# namespace::autoclean any 0.28
# strict any 1.11
# warnings any 1.37
#
# === Other Modules ===
#
# Module Have
# ------------- ----
# JSON::PP 2.94
# Pod::Coverage 0.23
# Sub::Name 0.21
# YAML 1.23
# autodie 2.29
#
t/00-report-prereqs.t .. ok
t/01-basic.t ........... ok
t/02-no-distini.t ...... ok
t/03-repeat-prompt.t ... ok
t/04-error.t ........... ok
t/05-kill.t ............ ok
t/zzz-check-breaks.t ... ok
All tests successful.
Files=7, Tests=11, 8 wallclock secs ( 0.02 usr 0.04 sys + 3.53 cusr 0.46 csys = 4.05 CPU)
Result: PASS
------------------------------
PREREQUISITES
------------------------------
Prerequisite modules loaded:
requires:
Module Need Have
----------------------------------------- -------- --------
Dist::Zilla::Role::Plugin 0 6.010
File::Spec 0 3.67
IPC::Open3 0 1.20
Moose 0 2.2006
Moose::Role 0 2.2006
namespace::autoclean 0 0.28
perl 5.006 5.026001
POSIX 0 1.76
strict 0 1.11
warnings 0 1.37
build_requires:
Module Need Have
----------------------------------------- -------- --------
Dist::Zilla::Chrome::Test 0 6.010
Dist::Zilla::MVP::Assembler::GlobalConfig 0 6.010
Dist::Zilla::MVP::Reader::Finder 0 6.010
Dist::Zilla::MVP::Section 0 6.010
Dist::Zilla::Role::BeforeBuild 0 6.010
File::Spec 0 3.67
if 0 0.0606
lib 0 0.64
Module::Metadata 0 1.000033
Path::Tiny 0 0.104
perl 5.006 5.026001
Test::Deep 0 1.127
Test::DZil 0 6.010
Test::Fatal 0 0.014
Test::More 0.88 1.302086
Test::Warnings 0.009 0.026
configure_requires:
Module Need Have
----------------------------------------- -------- --------
Module::Build::Tiny 0.034 0.039
perl 5.006 5.026001
opt_build_requires:
Module Need Have
----------------------------------------- -------- --------
CPAN::Meta 2.120900 2.150010
------------------------------
ENVIRONMENT AND OTHER CONTEXT
------------------------------
Environment variables:
LANG = C
LC_ALL = de_DE.UTF-8
PATH = /usr/local/bin:/usr/bin:/bin:/usr/local/sbin:/usr/sbin:/sbin:/home/cpansand/bin/linux-gnu:/home/cpansand/bin/sh:/home/cpansand/bin:/usr/games:/home/cpansand/devel:/home/eserte/src/srezic-misc/scripts
PERL5LIB =
PERL5OPT =
PERL5_CPANPLUS_IS_RUNNING = 28079
PERL5_CPAN_IS_RUNNING = 28079
PERL5_CPAN_IS_RUNNING_IN_RECURSION = 27185,28079
PERLDOC = -MPod::Perldoc::ToTextOverstrike
PERL_BATCH = yes
PERL_CANARY_STABILITY_NOPROMPT = 1
PERL_CPAN_REPORTER_CONFIG = /var/tmp/cpansmoker-1023/2017091118/cpanreporter_000_config.ini
PERL_EXTUTILS_AUTOINSTALL = --defaultdeps
PERL_PARALLEL_SMOKER = yes
PERL_USE_UNSAFE_INC = 1
SHELL = /usr/bin/zsh
TERM = screen
TMPDIR = /var/tmp/cpansmoker-1023/2017091118
Perl special variables (and OS-specific diagnostics, for MSWin32):
$^X = /opt/perl-5.26.1-RC1/bin/perl
$UID/$EUID = 1023 / 1023
$GID = 1023 1023
$EGID = 1023 1023
Perl module toolchain versions installed:
Module Have
------------------- --------
CPAN 2.18
CPAN::Meta 2.150010
Cwd 3.67
ExtUtils::CBuilder 0.280226
ExtUtils::Command 7.30
ExtUtils::Install 2.14
ExtUtils::MakeMaker 7.30
ExtUtils::Manifest 1.70
ExtUtils::ParseXS 3.35
File::Spec 3.67
JSON 2.94
JSON::PP 2.94
Module::Build 0.4224
Module::Signature 0.81
Parse::CPAN::Meta 2.150010
Test::Harness 3.38
Test::More 1.302086
YAML 1.23
YAML::Syck 1.30
version 0.9917
--
Summary of my perl5 (revision 5 version 26 subversion 1) configuration:
Platform:
osname=linux
osvers=4.9.0-3-amd64
archname=x86_64-linux
uname='linux debian9 4.9.0-3-amd64 #1 smp debian 4.9.30-2+deb9u3 (2017-08-06) x86_64 gnulinux '
config_args='-ds -e -Dprefix=/opt/perl-5.26.1-RC1 -Dcf_email=srezic@cpan.org'
hint=recommended
useposix=true
d_sigaction=define
useithreads=undef
usemultiplicity=undef
use64bitint=define
use64bitall=define
uselongdouble=undef
usemymalloc=n
default_inc_excludes_dot=define
bincompat5005=undef
Compiler:
cc='cc'
ccflags ='-fwrapv -fno-strict-aliasing -pipe -fstack-protector-strong -I/usr/local/include -D_LARGEFILE_SOURCE -D_FILE_OFFSET_BITS=64'
optimize='-O2'
cppflags='-fwrapv -fno-strict-aliasing -pipe -fstack-protector-strong -I/usr/local/include'
ccversion=''
gccversion='6.3.0 20170516'
gccosandvers=''
intsize=4
longsize=8
ptrsize=8
doublesize=8
byteorder=12345678
doublekind=3
d_longlong=define
longlongsize=8
d_longdbl=define
longdblsize=16
longdblkind=3
ivtype='long'
ivsize=8
nvtype='double'
nvsize=8
Off_t='off_t'
lseeksize=8
alignbytes=8
prototype=define
Linker and Libraries:
ld='cc'
ldflags =' -fstack-protector-strong -L/usr/local/lib'
libpth=/usr/local/lib /usr/lib/gcc/x86_64-linux-gnu/6/include-fixed /usr/include/x86_64-linux-gnu /usr/lib /lib/x86_64-linux-gnu /lib/../lib /usr/lib/x86_64-linux-gnu /usr/lib/../lib /lib
libs=-lpthread -lnsl -lgdbm -ldb -ldl -lm -lcrypt -lutil -lc -lgdbm_compat
perllibs=-lpthread -lnsl -ldl -lm -lcrypt -lutil -lc
libc=libc-2.24.so
so=so
useshrplib=false
libperl=libperl.a
gnulibc_version='2.24'
Dynamic Linking:
dlsrc=dl_dlopen.xs
dlext=so
d_dlsymun=undef
ccdlflags='-Wl,-E'
cccdlflags='-fPIC'
lddlflags='-shared -O2 -L/usr/local/lib -fstack-protector-strong'
Characteristics of this binary (from libperl):
Compile-time options:
HAS_TIMES
PERLIO_LAYERS
PERL_COPY_ON_WRITE
PERL_DONT_CREATE_GVSV
PERL_MALLOC_WRAP
PERL_OP_PARENT
PERL_PRESERVE_IVUV
USE_64_BIT_ALL
USE_64_BIT_INT
USE_LARGE_FILES
USE_LOCALE
USE_LOCALE_COLLATE
USE_LOCALE_CTYPE
USE_LOCALE_NUMERIC
USE_LOCALE_TIME
USE_PERLIO
USE_PERL_ATOF
Locally applied patches:
RC1
Built under linux
Compiled at Sep 10 2017 15:50:48
%ENV:
PERL5LIB=""
PERL5OPT=""
PERL5_CPANPLUS_IS_RUNNING="28079"
PERL5_CPAN_IS_RUNNING="28079"
PERL5_CPAN_IS_RUNNING_IN_RECURSION="27185,28079"
PERLDOC="-MPod::Perldoc::ToTextOverstrike"
PERL_BATCH="yes"
PERL_CANARY_STABILITY_NOPROMPT="1"
PERL_CPAN_REPORTER_CONFIG="/var/tmp/cpansmoker-1023/2017091118/cpanreporter_000_config.ini"
PERL_EXTUTILS_AUTOINSTALL="--defaultdeps"
PERL_PARALLEL_SMOKER="yes"
PERL_USE_UNSAFE_INC="1"
@INC:
/opt/perl-5.26.1-RC1/lib/site_perl/5.26.1/x86_64-linux
/opt/perl-5.26.1-RC1/lib/site_perl/5.26.1
/opt/perl-5.26.1-RC1/lib/5.26.1/x86_64-linux
/opt/perl-5.26.1-RC1/lib/5.26.1
.