Google-Ads-AdWords-Client v5.8.2 Perl 5 v5.24.4 x86_64-linux-thread-multi

Status
Pass
From
David Cantrell (DCANTRELL)
Dist
Google-Ads-AdWords-Client v5.8.2
Platform
Perl 5 v5.24.4 x86_64-linux-thread-multi
Date
2020-02-10 18:25:55
ID
c67a2e4e-4c32-11ea-86c8-aa7d052d0de1
This distribution has been tested as part of the CPAN Testers
project, supporting the Perl programming language.  See
http://wiki.cpantesters.org/ for more information or email
questions to cpan-testers-discuss@perl.org


--
Dear Nadine Sundquist,

This is a computer-generated report for Google-Ads-AdWords-Client-5.8.2
on perl 5.24.4, created by CPAN-Reporter-1.2018.

Thank you for uploading your work to CPAN.  Congratulations!
All tests were successful.

Sections of this report:

    * Tester comments
    * Program output
    * Prerequisites
    * Environment and other context

------------------------------
TESTER COMMENTS
------------------------------

Additional comments from tester:

this report is from an automated smoke testing program
and was not reviewed by a human for accuracy

------------------------------
PROGRAM OUTPUT
------------------------------

Output from './Build test':

t/001_require.t ....................... ok
t/011_Client.t ........................ ok
t/012_Serializer.t .................... ok
t/013_Deserializer.t .................. ok
t/014_XPathSAXParser.t ................ ok
t/015_RequestStats.t .................. ok
t/017_OAuth2ApplicationsHandler.t ..... ok
t/018_MapUtils.t ...................... ok
t/019_OAuth2ServiceAccountsHandler.t .. ok
t/020_GenerateOfflineCredentials.t .... ok
t/021_ReportingConfiguration.t ........ ok
t/022_ReportUtils.t ................... ok
t/023_AdsUtilityRegistry.t ............ ok
t/024_BatchJobHandler.t ............... ok
t/025_ReportQueryBuilder.t ............ ok
t/026_ServiceQueryBuilder.t ........... ok
All tests successful.
Files=16, Tests=1859, 89 wallclock secs ( 0.42 usr  0.10 sys +  9.54 cusr  1.19 csys = 11.25 CPU)
Result: PASS

------------------------------
PREREQUISITES
------------------------------

Prerequisite modules loaded:

requires:

    Module                    Need    Have      
    ------------------------- ------- ----------
    Class::Load               0       0.25      
    Class::Std::Fast          0       0.0.8     
    Crypt::OpenSSL::RSA       0       0.31      
    Cwd                       0       3.63_01   
    Data::Uniqid              0       0.12      
    Date::Format              0       2.24      
    Date::Parse               0       2.31      
    Digest::SHA               0       5.95_01   
    File::Basename            0       2.85      
    File::HomeDir             0       1.004     
    File::Path                0       2.12_01   
    File::Spec                0       3.63_01   
    File::Temp                0       0.2304    
    Getopt::Long              0       2.51      
    HTTP::Server::Simple::CGI 0       0         
    IO::Socket::SSL           0       2.066     
    JSON::Parse               0       0.55      
    List::Util                0       1.54      
    Log::Log4perl             0       1.49      
    LWP::Protocol::https      0       6.07      
    LWP::UserAgent            0       6.43      
    Math::Random::MT          0       1.17      
    perl                      v5.14.0 5.024004  
    POSIX                     0       1.65_01   
    SOAP::WSDL                v2.0.10 3.004     
    Template                  0       3.007     
    URI::Escape               0       3.31      
    XML::LibXML               0       2.0202    
    XML::Simple               0       2.25      
    XML::XPath                0       1.44      

build_requires:

    Module                    Need    Have      
    ------------------------- ------- ----------
    Class::Std::Fast          v0.0.5  0.0.8     
    Config::Properties        0       1.80      
    Module::Build             0       0.4231    
    Test::Deep                0       1.128     
    Test::Exception           0       0.43      
    Test::MockObject          0       1.20200122
    Test::MockObject::Extends 0       1.20200122
    Test::More                0       1.302171  

configure_requires:

    Module                    Need    Have      
    ------------------------- ------- ----------
    Module::Build             0.42    0.4231    


------------------------------
ENVIRONMENT AND OTHER CONTEXT
------------------------------

Environment variables:

    AUTOMATED_TESTING = 1
    LANG = en_US.UTF-8
    NONINTERACTIVE_TESTING = 1
    PATH = /usr/local/bin:/usr/bin:/bin:/usr/local/games:/usr/games
    PERL = 5.24.4
    PERL5LIB = 
    PERL5OPT = 
    PERL5_CPANPLUS_IS_RUNNING = 31215
    PERL5_CPAN_IS_RUNNING = 31215
    PERLVER = 5.24.4
    PERL_INLINE_DIRECTORY = /home/david/.Inline-5.24.4
    PERL_MM_USE_DEFAULT = 1
    PERL_USE_UNSAFE_INC = 0
    SHELL = /bin/bash
    TERM = screen

Perl special variables (and OS-specific diagnostics, for MSWin32):

    $^X = /home/david/cpantesting/perl-5.24.4/bin/perl
    $UID/$EUID = 1000 / 1000
    $GID = 1000 27 1000
    $EGID = 1000 27 1000

Perl module toolchain versions installed:

    Module              Have      
    ------------------- ----------
    CPAN                2.11_01   
    CPAN::Meta          2.150005  
    Cwd                 3.63_01   
    ExtUtils::CBuilder  0.280225  
    ExtUtils::Command   7.44      
    ExtUtils::Install   2.06      
    ExtUtils::MakeMaker 7.44      
    ExtUtils::Manifest  1.70      
    ExtUtils::ParseXS   3.31      
    File::Spec          3.63_01   
    JSON                n/a       
    JSON::PP            2.27300_01
    Module::Build       0.4231    
    Module::Signature   n/a       
    Parse::CPAN::Meta   1.4417_001
    Test::Harness       3.36_01   
    Test::More          1.302171  
    YAML                1.30      
    YAML::Syck          n/a       
    version             0.9916    


--

Summary of my perl5 (revision 5 version 24 subversion 4) configuration:
   
  Platform:
    osname=linux, osvers=4.9.0-8-amd64, archname=x86_64-linux-thread-multi
    uname='linux pigsty 4.9.0-8-amd64 #1 smp debian 4.9.144-3 (2019-02-02) x86_64 gnulinux '
    config_args='-de -Duse64bitall -Dusethreads -Dprefix=/home/david/cpantesting/perl-5.24.4'
    hint=recommended, useposix=true, d_sigaction=define
    useithreads=define, usemultiplicity=define
    use64bitint=define, use64bitall=define, uselongdouble=undef
    usemymalloc=n, bincompat5005=undef
  Compiler:
    cc='cc', ccflags ='-D_REENTRANT -D_GNU_SOURCE -fwrapv -fno-strict-aliasing -pipe -fstack-protector-strong -I/usr/local/include -D_LARGEFILE_SOURCE -D_FILE_OFFSET_BITS=64 -D_FORTIFY_SOURCE=2',
    optimize='-O2',
    cppflags='-D_REENTRANT -D_GNU_SOURCE -fwrapv -fno-strict-aliasing -pipe -fstack-protector-strong -I/usr/local/include'
    ccversion='', gccversion='6.3.0 20170516', gccosandvers=''
    intsize=4, longsize=8, ptrsize=8, doublesize=8, byteorder=12345678, doublekind=3
    d_longlong=define, longlongsize=8, d_longdbl=define, longdblsize=16, longdblkind=3
    ivtype='long', ivsize=8, nvtype='double', nvsize=8, Off_t='off_t', lseeksize=8
    alignbytes=8, prototype=define
  Linker and Libraries:
    ld='cc', ldflags =' -fstack-protector-strong -L/usr/local/lib'
    libpth=/usr/local/lib /usr/lib/gcc/x86_64-linux-gnu/6/include-fixed /usr/include/x86_64-linux-gnu /usr/lib /lib/x86_64-linux-gnu /lib/../lib /usr/lib/x86_64-linux-gnu /usr/lib/../lib /lib
    libs=-lpthread -lnsl -ldb -ldl -lm -lcrypt -lutil -lc
    perllibs=-lpthread -lnsl -ldl -lm -lcrypt -lutil -lc
    libc=libc-2.24.so, so=so, useshrplib=false, libperl=libperl.a
    gnulibc_version='2.24'
  Dynamic Linking:
    dlsrc=dl_dlopen.xs, dlext=so, d_dlsymun=undef, ccdlflags='-Wl,-E'
    cccdlflags='-fPIC', lddlflags='-shared -O2 -L/usr/local/lib -fstack-protector-strong'


Characteristics of this binary (from libperl): 
  Compile-time options: HAS_TIMES MULTIPLICITY PERLIO_LAYERS
                        PERL_COPY_ON_WRITE PERL_DONT_CREATE_GVSV
                        PERL_HASH_FUNC_ONE_AT_A_TIME_HARD
                        PERL_IMPLICIT_CONTEXT PERL_MALLOC_WRAP
                        PERL_PRESERVE_IVUV USE_64_BIT_ALL USE_64_BIT_INT
                        USE_ITHREADS USE_LARGE_FILES USE_LOCALE
                        USE_LOCALE_COLLATE USE_LOCALE_CTYPE
                        USE_LOCALE_NUMERIC USE_LOCALE_TIME USE_PERLIO
                        USE_PERL_ATOF USE_REENTRANT_API
  Built under linux
  Compiled at Apr 25 2019 01:35:31
  %ENV:
    PERL="5.24.4"
    PERL5LIB=""
    PERL5OPT=""
    PERL5_CPANPLUS_IS_RUNNING="31215"
    PERL5_CPAN_IS_RUNNING="31215"
    PERLVER="5.24.4"
    PERL_INLINE_DIRECTORY="/home/david/.Inline-5.24.4"
    PERL_MM_USE_DEFAULT="1"
    PERL_USE_UNSAFE_INC="0"
  @INC:
    /home/david/cpantesting/perl-5.24.4/lib/site_perl/5.24.4/x86_64-linux-thread-multi
    /home/david/cpantesting/perl-5.24.4/lib/site_perl/5.24.4
    /home/david/cpantesting/perl-5.24.4/lib/5.24.4/x86_64-linux-thread-multi
    /home/david/cpantesting/perl-5.24.4/lib/5.24.4
    .