Crypt-OpenSSL-RSA v0.30 Perl 5 v5.18.0 i86pc-solaris-multi

Status
Pass
From
Nigel Horne
Dist
Crypt-OpenSSL-RSA v0.30
Platform
Perl 5 v5.18.0 i86pc-solaris-multi
Date
2018-05-10 07:43:05
ID
c67e9242-5425-11e8-9da6-f703c768dc7a
This distribution has been tested as part of the CPAN Testers
project, supporting the Perl programming language.  See
http://wiki.cpantesters.org/ for more information or email
questions to cpan-testers-discuss@perl.org


--
Dear Todd Rinaldo,

This is a computer-generated report for Crypt-OpenSSL-RSA-0.30
on perl 5.18.0, created by CPAN-Reporter-1.2018.

Thank you for uploading your work to CPAN.  Congratulations!
All tests were successful.

Sections of this report:

    * Tester comments
    * Program output
    * Prerequisites
    * Environment and other context

------------------------------
TESTER COMMENTS
------------------------------

Additional comments from tester:

this report is from an automated smoke testing program
and was not reviewed by a human for accuracy

------------------------------
PROGRAM OUTPUT
------------------------------

Output from '/usr/bin/gmake test':

"/mnt/nas/home/republic31/njh/perl5/perlbrew/perls/perl-5.18.0-multi/bin/perl5.18.0" -MExtUtils::Command::MM -e 'cp_nonempty' -- RSA.bs blib/arch/auto/Crypt/OpenSSL/RSA/RSA.bs 644
PERL_DL_NONLAZY=1 "/mnt/nas/home/republic31/njh/perl5/perlbrew/perls/perl-5.18.0-multi/bin/perl5.18.0" "-MExtUtils::Command::MM" "-MTest::Harness" "-e" "undef *Test::Harness::Switches; test_harness(0, 'blib/lib', 'blib/arch')" t/*.t
t/format.t .................. ok
t/bignum.t .................. skipped: Crypt::OpenSSL::Bignum required for bignum tests
t/z_kwalitee.t .............. skipped: This test is only run for the module author
t/z_meta.t .................. skipped: This test is only run for the module author
t/rsa.t ..................... ok
t/z_perl_minimum_version.t .. skipped: Author tests not required for installation
t/z_pod.t ................... skipped: This test is only run for the module author
t/z_pod-coverage.t .......... skipped: This test is only run for the module author
All tests successful.
Files=8, Tests=73,  3 wallclock secs ( 0.25 usr  0.13 sys +  3.76 cusr  3.02 csys =  7.16 CPU)
Result: PASS

------------------------------
PREREQUISITES
------------------------------

Prerequisite modules loaded:

requires:

    Module                 Need  Have    
    ---------------------- ----- --------
    Crypt::OpenSSL::Random 0     0.15    
    perl                   5.006 5.018000
    Test::More             0     1.302122

build_requires:

    Module                 Need  Have    
    ---------------------- ----- --------
    ExtUtils::MakeMaker    0     7.30    

configure_requires:

    Module                 Need  Have    
    ---------------------- ----- --------
    Crypt::OpenSSL::Guess  0.11  0.11    
    ExtUtils::MakeMaker    0     7.30    


------------------------------
ENVIRONMENT AND OTHER CONTEXT
------------------------------

Environment variables:

    AUTOMATED_TESTING = 1
    HARNESS_OPTIONS = j4
    PATH = /export/home/njh/perl5/perlbrew/bin:/export/home/njh/perl5/perlbrew/perls/perl-5.18.0-multi/bin:src/njh/smoker/bin:/usr/bin
    PERL5LIB = /export/home/njh/.cpan/build/Crypt-OpenSSL-Random-0.15-0/blib/arch:/export/home/njh/.cpan/build/Crypt-OpenSSL-Random-0.15-0/blib/lib:/export/home/njh/.cpan/build/Crypt-OpenSSL-Guess-0.11-0/blib/arch:/export/home/njh/.cpan/build/Crypt-OpenSSL-Guess-0.11-0/blib/lib:/export/home/njh/.cpan/build/Clone-0.39-0/blib/arch:/export/home/njh/.cpan/build/Clone-0.39-0/blib/lib:/export/home/njh/.cpan/build/File-ShareDir-Install-0.13-0/blib/arch:/export/home/njh/.cpan/build/File-ShareDir-Install-0.13-0/blib/lib:/export/home/njh/.cpan/build/Mail-AuthenticationResults-1.20180328-0/blib/arch:/export/home/njh/.cpan/build/Mail-AuthenticationResults-1.20180328-0/blib/lib:/export/home/njh/.cpan/build/JSON-2.97001-0/blib/arch:/export/home/njh/.cpan/build/JSON-2.97001-0/blib/lib:/export/home/njh/.cpan/build/ClamAV-Client-0.11-0/blib/arch:/export/home/njh/.cpan/build/ClamAV-Client-0.11-0/blib/lib:/export/home/njh/.cpan/build/Error-0.17025-0/blib/arch:/export/home/njh/.cpan/build/Error-0.17025-0/blib/lib
    PERL5OPT = 
    PERL5_CPANPLUS_IS_RUNNING = 6200
    PERL5_CPAN_IS_RUNNING = 6200
    PERLBREW_HOME = /export/home/njh/.perlbrew
    PERLBREW_MANPATH = /export/home/njh/perl5/perlbrew/perls/perl-5.18.0-multi/man
    PERLBREW_PATH = /export/home/njh/perl5/perlbrew/bin:/export/home/njh/perl5/perlbrew/perls/perl-5.18.0-multi/bin
    PERLBREW_PERL = perl-5.18.0-multi
    PERLBREW_ROOT = /export/home/njh/perl5/perlbrew
    PERLBREW_SHELLRC_VERSION = 0.82
    PERLBREW_VERSION = 0.82
    SHELL = /usr/bin/sh
    TERM = dumb
    TMPDIR = /tmp/testwrapper.6189

Perl special variables (and OS-specific diagnostics, for MSWin32):

    $^X = /mnt/nas/home/republic31/njh/perl5/perlbrew/perls/perl-5.18.0-multi/bin/perl5.18.0
    $UID/$EUID = 100 / 100
    $GID = 10 10
    $EGID = 10 10

Perl module toolchain versions installed:

    Module              Have    
    ------------------- --------
    CPAN                2.16    
    CPAN::Meta          2.143240
    Cwd                 3.40    
    ExtUtils::CBuilder  0.280210
    ExtUtils::Command   7.30    
    ExtUtils::Install   2.06    
    ExtUtils::MakeMaker 7.30    
    ExtUtils::Manifest  1.70    
    ExtUtils::ParseXS   3.18    
    File::Spec          3.40    
    JSON                2.97001 
    JSON::PP            2.27203 
    Module::Build       0.4003  
    Module::Signature   n/a     
    Parse::CPAN::Meta   1.4414  
    Test::Harness       3.42    
    Test::More          1.302122
    YAML                1.24    
    YAML::Syck          1.30    
    version             0.9902  


--

Summary of my perl5 (revision 5 version 18 subversion 0) configuration:
   
  Platform:
    osname=solaris, osvers=2.11, archname=i86pc-solaris-multi
    uname='sunos republic31 5.11 11.3 i86pc i386 i86pc '
    config_args='-de -Dprefix=/export/home/njh/perl5/perlbrew/perls/perl-5.18.0-multi -Dusedevel -Dusemultiplicity -Accflags= -Aeval:scriptdir=/export/home/njh/perl5/perlbrew/perls/perl-5.18.0-multi/bin'
    hint=recommended, useposix=true, d_sigaction=define
    useithreads=undef, usemultiplicity=define
    useperlio=define, d_sfio=undef, uselargefiles=define, usesocks=undef
    use64bitint=undef, use64bitall=undef, uselongdouble=undef
    usemymalloc=n, bincompat5005=undef
  Compiler:
    cc='cc', ccflags ='-fno-strict-aliasing -pipe -fstack-protector -I/usr/gnu/include -D_LARGEFILE_SOURCE -D_FILE_OFFSET_BITS=64 -DPERL_USE_SAFE_PUTENV',
    optimize='-O',
    cppflags='-fno-strict-aliasing -pipe -fstack-protector -I/usr/gnu/include'
    ccversion='', gccversion='4.8.2', gccosandvers=''
    intsize=4, longsize=4, ptrsize=4, doublesize=8, byteorder=1234
    d_longlong=define, longlongsize=8, d_longdbl=define, longdblsize=12
    ivtype='long', ivsize=4, nvtype='double', nvsize=8, Off_t='off_t', lseeksize=8
    alignbytes=4, prototype=define
  Linker and Libraries:
    ld='cc', ldflags =' -fstack-protector -L/usr/gnu/lib '
    libpth=/usr/gnu/lib /usr/lib /usr/ccs/lib
    libs=-lsocket -lnsl -lgdbm -ldb -ldl -lm -lc
    perllibs=-lsocket -lnsl -ldl -lm -lc
    libc=/lib/libc.so, so=so, useshrplib=true, libperl=libperl.so
    gnulibc_version=''
  Dynamic Linking:
    dlsrc=dl_dlopen.xs, dlext=so, d_dlsymun=undef, ccdlflags='  -R /export/home/njh/perl5/perlbrew/perls/perl-5.18.0-multi/lib/5.18.0/i86pc-solaris-multi/CORE'
    cccdlflags='-fPIC', lddlflags='-shared -L/usr/gnu/lib -fstack-protector'


Characteristics of this binary (from libperl): 
  Compile-time options: HAS_TIMES MULTIPLICITY PERLIO_LAYERS
                        PERL_DONT_CREATE_GVSV
                        PERL_HASH_FUNC_ONE_AT_A_TIME_HARD
                        PERL_IMPLICIT_CONTEXT PERL_MALLOC_WRAP
                        PERL_PRESERVE_IVUV PERL_SAWAMPERSAND PERL_USE_DEVEL
                        PERL_USE_SAFE_PUTENV USE_LARGE_FILES USE_LOCALE
                        USE_LOCALE_COLLATE USE_LOCALE_CTYPE
                        USE_LOCALE_NUMERIC USE_PERLIO USE_PERL_ATOF
  Locally applied patches:
	Devel::PatchPerl 1.48
  Built under solaris
  Compiled at Feb  8 2018 14:21:23
  %ENV:
    PERL5LIB="/export/home/njh/.cpan/build/Crypt-OpenSSL-Random-0.15-0/blib/arch:/export/home/njh/.cpan/build/Crypt-OpenSSL-Random-0.15-0/blib/lib:/export/home/njh/.cpan/build/Crypt-OpenSSL-Guess-0.11-0/blib/arch:/export/home/njh/.cpan/build/Crypt-OpenSSL-Guess-0.11-0/blib/lib:/export/home/njh/.cpan/build/Clone-0.39-0/blib/arch:/export/home/njh/.cpan/build/Clone-0.39-0/blib/lib:/export/home/njh/.cpan/build/File-ShareDir-Install-0.13-0/blib/arch:/export/home/njh/.cpan/build/File-ShareDir-Install-0.13-0/blib/lib:/export/home/njh/.cpan/build/Mail-AuthenticationResults-1.20180328-0/blib/arch:/export/home/njh/.cpan/build/Mail-AuthenticationResults-1.20180328-0/blib/lib:/export/home/njh/.cpan/build/JSON-2.97001-0/blib/arch:/export/home/njh/.cpan/build/JSON-2.97001-0/blib/lib:/export/home/njh/.cpan/build/ClamAV-Client-0.11-0/blib/arch:/export/home/njh/.cpan/build/ClamAV-Client-0.11-0/blib/lib:/export/home/njh/.cpan/build/Error-0.17025-0/blib/arch:/export/home/njh/.cpan/build/Error-0.17025-0/blib/lib"
    PERL5OPT=""
    PERL5_CPANPLUS_IS_RUNNING="6200"
    PERL5_CPAN_IS_RUNNING="6200"
    PERLBREW_HOME="/export/home/njh/.perlbrew"
    PERLBREW_MANPATH="/export/home/njh/perl5/perlbrew/perls/perl-5.18.0-multi/man"
    PERLBREW_PATH="/export/home/njh/perl5/perlbrew/bin:/export/home/njh/perl5/perlbrew/perls/perl-5.18.0-multi/bin"
    PERLBREW_PERL="perl-5.18.0-multi"
    PERLBREW_ROOT="/export/home/njh/perl5/perlbrew"
    PERLBREW_SHELLRC_VERSION="0.82"
    PERLBREW_VERSION="0.82"
  @INC:
    /export/home/njh/.cpan/build/Crypt-OpenSSL-Random-0.15-0/blib/arch
    /export/home/njh/.cpan/build/Crypt-OpenSSL-Random-0.15-0/blib/lib
    /export/home/njh/.cpan/build/Crypt-OpenSSL-Guess-0.11-0/blib/arch
    /export/home/njh/.cpan/build/Crypt-OpenSSL-Guess-0.11-0/blib/lib
    /export/home/njh/.cpan/build/Clone-0.39-0/blib/arch
    /export/home/njh/.cpan/build/Clone-0.39-0/blib/lib
    /export/home/njh/.cpan/build/File-ShareDir-Install-0.13-0/blib/arch
    /export/home/njh/.cpan/build/File-ShareDir-Install-0.13-0/blib/lib
    /export/home/njh/.cpan/build/Mail-AuthenticationResults-1.20180328-0/blib/arch
    /export/home/njh/.cpan/build/Mail-AuthenticationResults-1.20180328-0/blib/lib
    /export/home/njh/.cpan/build/JSON-2.97001-0/blib/arch
    /export/home/njh/.cpan/build/JSON-2.97001-0/blib/lib
    /export/home/njh/.cpan/build/ClamAV-Client-0.11-0/blib/arch
    /export/home/njh/.cpan/build/ClamAV-Client-0.11-0/blib/lib
    /export/home/njh/.cpan/build/Error-0.17025-0/blib/arch
    /export/home/njh/.cpan/build/Error-0.17025-0/blib/lib
    /export/home/njh/perl5/perlbrew/perls/perl-5.18.0-multi/lib/site_perl/5.18.0/i86pc-solaris-multi
    /export/home/njh/perl5/perlbrew/perls/perl-5.18.0-multi/lib/site_perl/5.18.0
    /export/home/njh/perl5/perlbrew/perls/perl-5.18.0-multi/lib/5.18.0/i86pc-solaris-multi
    /export/home/njh/perl5/perlbrew/perls/perl-5.18.0-multi/lib/5.18.0
    .