Dist-Zilla-Plugin-ChangelogFromGit-CPAN-Changes v0.230680 Perl 5 v5.24.0 i386-freebsd-thread-multi-64int

Status
Pass
From
Chris Williams (BINGOS)
Dist
Dist-Zilla-Plugin-ChangelogFromGit-CPAN-Changes v0.230680
Platform
Perl 5 v5.24.0 i386-freebsd-thread-multi-64int
Date
2023-03-13 09:23:54
ID
c680682e-c180-11ed-aba6-9a79f339625c
This distribution has been tested as part of the CPAN Testers
project, supporting the Perl programming language.  See
http://wiki.cpantesters.org/ for more information or email
questions to cpan-testers-discuss@perl.org


--

Dear IOANR,

This is a computer-generated error report created automatically by
CPANPLUS, version 0.9914. Testers personal comments may appear
at the end of this report.


Thank you for uploading your work to CPAN.  Congratulations!
All tests were successful.

TEST RESULTS:

Below is the error stack from stage 'make test':

t/00-check-deps.t ...... ok
t/00-compile.t ......... ok
# 
# Versions for all modules listed in MYMETA.json (including optional ones):
# 
# === Configure Requires ===
# 
#     Module               Want  Have
#     ------------------- ----- -----
#     Module::Build::Tiny 0.034 0.039
# 
# === Test Requires ===
# 
#     Module                       Want     Have
#     --------------------------- ----- --------
#     Archive::Tar                  any     2.40
#     Dist::Zilla::File::InMemory   any    6.030
#     ExtUtils::MakeMaker           any     7.64
#     File::Spec                    any     3.75
#     File::chdir                   any   0.1011
#     IO::Handle                    any     1.36
#     IPC::Open3                    any     1.20
#     Path::Tiny                    any    0.144
#     Test::CPAN::Changes           any 0.400002
#     Test::CheckDeps             0.010    0.010
#     Test::DZil                    any    6.030
#     Test::More                   0.94 1.302191
#     Test::Roo                     any    1.004
#     Test::Roo::Role               any    1.004
#     Test::TempDir::Tiny           any    0.018
#     lib                           any     0.63
#     strict                        any     1.11
#     warnings                      any     1.36
# 
# === Test Recommends ===
# 
#     Module         Want     Have
#     ---------- -------- --------
#     CPAN::Meta 2.120900 2.150010
# 
# === Runtime Requires ===
# 
#     Module                              Want     Have
#     ------------------------------- -------- --------
#     CPAN::Changes                   0.400002 0.400002
#     CPAN::Changes::Release               any    undef
#     Class::Load                          any     0.25
#     DateTime                             any     1.59
#     Dist::Zilla                        6.005    6.030
#     Dist::Zilla::Role::AfterBuild        any    6.030
#     Dist::Zilla::Role::FileGatherer      any    6.030
#     Dist::Zilla::Role::Git::Repo         any    2.048
#     Encode                               any     3.19
#     Git::Wrapper                         any    0.048
#     Moose                                any   2.2203
#     Moose::Util::TypeConstraints         any   2.2203
#     perl                             v5.24.0 5.024000
# 
# === Runtime Recommends ===
# 
#     Module             Want    Have
#     ------------------ ---- -------
#     Proc::InvokeEditor  any missing
# 
t/00-report-prereqs.t .. ok
        # Extracting /usr/home/cpan/pit/rel/conf/perl-5.24.0/.cpanplus/5.24.0/build/AfSeLO8Syw/Dist-Zilla-Plugin-ChangelogFromGit-CPAN-Changes-0.230680/t/data/repos/test_repo.tar.gz to /usr/home/cpan/pit/rel/conf/perl-5.24.0/.cpanplus/5.24.0/build/AfSeLO8Syw/Dist-Zilla-Plugin-ChangelogFromGit-CPAN-Changes-0.230680/tmp/t_changes_t/default_1
        # Comparing /usr/home/cpan/pit/rel/conf/perl-5.24.0/.cpanplus/5.24.0/build/AfSeLO8Syw/Dist-Zilla-Plugin-ChangelogFromGit-CPAN-Changes-0.230680/tmp/gRVNXnq4JP/build/Changes to t/data/changes/v1_defaults
        # Comparing /usr/home/cpan/pit/rel/conf/perl-5.24.0/.cpanplus/5.24.0/build/AfSeLO8Syw/Dist-Zilla-Plugin-ChangelogFromGit-CPAN-Changes-0.230680/tmp/qnWQ9on7Oq/build/Changes to t/data/changes/v1_no_author
        # Comparing /usr/home/cpan/pit/rel/conf/perl-5.24.0/.cpanplus/5.24.0/build/AfSeLO8Syw/Dist-Zilla-Plugin-ChangelogFromGit-CPAN-Changes-0.230680/tmp/EYdZd_wShm/build/Changes to t/data/changes/v1_email
        # Comparing /usr/home/cpan/pit/rel/conf/perl-5.24.0/.cpanplus/5.24.0/build/AfSeLO8Syw/Dist-Zilla-Plugin-ChangelogFromGit-CPAN-Changes-0.230680/tmp/_rOrOakECi/build/Changes to t/data/changes/v1_group_author
        # Comparing /usr/home/cpan/pit/rel/conf/perl-5.24.0/.cpanplus/5.24.0/build/AfSeLO8Syw/Dist-Zilla-Plugin-ChangelogFromGit-CPAN-Changes-0.230680/tmp/QdN45kYq49/build/Changes to t/data/changes/v1_group_author_email
t/changes.t ............ ok
        # Extracting /usr/home/cpan/pit/rel/conf/perl-5.24.0/.cpanplus/5.24.0/build/AfSeLO8Syw/Dist-Zilla-Plugin-ChangelogFromGit-CPAN-Changes-0.230680/t/data/repos/first_release.tar.gz to /usr/home/cpan/pit/rel/conf/perl-5.24.0/.cpanplus/5.24.0/build/AfSeLO8Syw/Dist-Zilla-Plugin-ChangelogFromGit-CPAN-Changes-0.230680/tmp/t_first_release_t/default_1
        # Comparing /usr/home/cpan/pit/rel/conf/perl-5.24.0/.cpanplus/5.24.0/build/AfSeLO8Syw/Dist-Zilla-Plugin-ChangelogFromGit-CPAN-Changes-0.230680/tmp/lpEz1RzIJT/build/Changes to t/data/changes/first_release
t/first_release.t ...... ok
All tests successful.
Files=5, Tests=36, 12 wallclock secs ( 0.07 usr  0.05 sys +  6.58 cusr  3.63 csys = 10.33 CPU)
Result: PASS


PREREQUISITES:

Here is a list of prerequisites you specified and versions we
managed to load:

	  Module Name                        Have     Want
	  Archive::Tar                       2.40        0
	  CPAN::Changes                  0.400002 0.400002
	  CPAN::Changes::Release                0        0
	  Class::Load                        0.25        0
	  DateTime                           1.59        0
	  Dist::Zilla                       6.030    6.005
	  Dist::Zilla::File::InMemory       6.030        0
	  Dist::Zilla::Role::AfterBuild     6.030        0
	  Dist::Zilla::Role::FileGatherer    6.030        0
	  Dist::Zilla::Role::Git::Repo      2.048        0
	  Encode                             3.19        0
	  ExtUtils::MakeMaker                7.64        0
	  File::Spec                         3.75        0
	  File::chdir                      0.1011        0
	  Git::Wrapper                      0.048        0
	  IO::Handle                         1.36        0
	  IPC::Open3                         1.20        0
	  Moose                            2.2203        0
	  Moose::Util::TypeConstraints     2.2203        0
	  Path::Tiny                        0.144        0
	  Test::CPAN::Changes            0.400002        0
	  Test::CheckDeps                   0.010    0.010
	  Test::DZil                        6.030        0
	  Test::More                     1.302191     0.94
	  Test::Roo                         1.004        0
	  Test::Roo::Role                   1.004        0
	  Test::TempDir::Tiny               0.018        0
	  lib                                0.63        0
	  strict                             1.11        0
	  warnings                           1.36        0

Perl module toolchain versions installed:
	Module Name                        Have
	CPANPLUS                         0.9914
	CPANPLUS::Dist::Build              0.90
	Cwd                                3.75
	ExtUtils::CBuilder             0.280236
	ExtUtils::Command                  7.64
	ExtUtils::Install                  2.20
	ExtUtils::MakeMaker                7.64
	ExtUtils::Manifest                 1.73
	ExtUtils::ParseXS                  3.44
	File::Spec                         3.75
	Module::Build                    0.4231
	Pod::Parser                        1.63
	Pod::Simple                        3.32
	Test2                          1.302191
	Test::Harness                      3.44
	Test::More                     1.302191
	version                          0.9929

******************************** NOTE ********************************
The comments above are created mechanically, possibly without manual
checking by the sender.  As there are many people performing automatic
tests on each upload to CPAN, it is likely that you will receive
identical messages about the same problem.

If you believe that the message is mistaken, please reply to the first
one with correction and/or additional informations, and do not take
it personally.  We appreciate your patience. :)
**********************************************************************

Additional comments:


This report was machine-generated by CPANPLUS::Dist::YACSmoke 1.08.
Powered by minismokebox version 0.68

CPANPLUS is prefering Build.PL

------------------------------
ENVIRONMENT AND OTHER CONTEXT
------------------------------

Environment variables:

    AUTOMATED_TESTING = 1
    NONINTERACTIVE_TESTING = 1
    PATH = /sbin:/bin:/usr/sbin:/usr/bin:/usr/local/sbin:/usr/local/bin:/home/cpan/bin
    PERL5LIB = /usr/home/cpan/pit/jail/l5KtyahGEZ/lib/perl5:/usr/home/cpan/pit/rel/conf/perl-5.24.0/.cpanplus/5.24.0/build/AfSeLO8Syw/Dist-Zilla-Plugin-ChangelogFromGit-CPAN-Changes-0.230680/blib/lib:/usr/home/cpan/pit/rel/conf/perl-5.24.0/.cpanplus/5.24.0/build/AfSeLO8Syw/Dist-Zilla-Plugin-ChangelogFromGit-CPAN-Changes-0.230680/blib/arch
    PERL5_CPANPLUS_IS_RUNNING = 77336
    PERL5_CPANPLUS_IS_VERSION = 0.9914
    PERL5_MINISMOKEBOX = 0.68
    PERL5_YACSMOKE_BASE = /usr/home/cpan/pit/rel/conf/perl-5.24.0
    PERL_EXTUTILS_AUTOINSTALL = --defaultdeps
    PERL_LOCAL_LIB_ROOT = /usr/home/cpan/pit/jail/l5KtyahGEZ
    PERL_MB_OPT = --install_base "/usr/home/cpan/pit/jail/l5KtyahGEZ"
    PERL_MM_OPT = INSTALL_BASE=/usr/home/cpan/pit/jail/l5KtyahGEZ
    PERL_MM_USE_DEFAULT = 1
    SHELL = /usr/local/bin/bash
    TERM = screen

Perl special variables (and OS-specific diagnostics, for MSWin32):

    Perl: $^X = /usr/home/cpan/pit/rel/perl-5.24.0/bin/perl
    UID:  $<  = 1002
    EUID: $>  = 1002
    GID:  $(  = 1002 1002
    EGID: $)  = 1002 1002


-------------------------------


--

Summary of my perl5 (revision 5 version 24 subversion 0) configuration:
   
  Platform:
    osname=freebsd, osvers=12.3-release, archname=i386-freebsd-thread-multi-64int
    uname='freebsd ffyrc 12.3-release freebsd 12.3-release r371126 generic i386 '
    config_args='-des -Dprefix=/usr/home/cpan/pit/rel/perl-5.24.0 -Dusethreads -Duse64bitint'
    hint=recommended, useposix=true, d_sigaction=define
    useithreads=define, usemultiplicity=define
    use64bitint=define, use64bitall=undef, uselongdouble=undef
    usemymalloc=n, bincompat5005=undef
  Compiler:
    cc='cc', ccflags ='-DHAS_FPSETMASK -DHAS_FLOATINGPOINT_H -fno-strict-aliasing -pipe -fstack-protector-strong -I/usr/local/include',
    optimize='-O2',
    cppflags='-DHAS_FPSETMASK -DHAS_FLOATINGPOINT_H -fno-strict-aliasing -pipe -fstack-protector-strong -I/usr/local/include'
    ccversion='', gccversion='FreeBSD Clang 10.0.1 (git@github.com:llvm/llvm-project.git llvmorg-10.0.1-0-gef32c611aa2)', gccosandvers=''
    intsize=4, longsize=4, ptrsize=4, doublesize=8, byteorder=12345678, doublekind=3
    d_longlong=define, longlongsize=8, d_longdbl=define, longdblsize=12, longdblkind=3
    ivtype='long long', ivsize=8, nvtype='double', nvsize=8, Off_t='off_t', lseeksize=8
    alignbytes=4, prototype=define
  Linker and Libraries:
    ld='cc', ldflags ='-pthread -Wl,-E  -fstack-protector-strong -L/usr/local/lib'
    libpth=/usr/lib /usr/local/lib /usr/lib/clang/10.0.1/lib /usr/lib
    libs=-lpthread -lgdbm -ldl -lm -lcrypt -lutil
    perllibs=-lpthread -ldl -lm -lcrypt -lutil
    libc=, so=so, useshrplib=false, libperl=libperl.a
    gnulibc_version=''
  Dynamic Linking:
    dlsrc=dl_dlopen.xs, dlext=so, d_dlsymun=undef, ccdlflags=' '
    cccdlflags='-DPIC -fPIC', lddlflags='-shared  -L/usr/local/lib -fstack-protector-strong'


Characteristics of this binary (from libperl): 
  Compile-time options: HAS_TIMES MULTIPLICITY PERLIO_LAYERS
                        PERL_COPY_ON_WRITE PERL_DONT_CREATE_GVSV
                        PERL_HASH_FUNC_ONE_AT_A_TIME_HARD
                        PERL_IMPLICIT_CONTEXT PERL_MALLOC_WRAP
                        PERL_PRESERVE_IVUV USE_64_BIT_INT USE_ITHREADS
                        USE_LARGE_FILES USE_LOCALE USE_LOCALE_COLLATE
                        USE_LOCALE_CTYPE USE_LOCALE_NUMERIC USE_LOCALE_TIME
                        USE_PERLIO USE_PERL_ATOF USE_REENTRANT_API
  Locally applied patches:
	Devel::PatchPerl 2.08
  Built under freebsd
  Compiled at Dec 13 2021 23:04:23
  %ENV:
    PERL5LIB="/usr/home/cpan/pit/jail/l5KtyahGEZ/lib/perl5:/usr/home/cpan/pit/rel/conf/perl-5.24.0/.cpanplus/5.24.0/build/AfSeLO8Syw/Dist-Zilla-Plugin-ChangelogFromGit-CPAN-Changes-0.230680/blib/lib:/usr/home/cpan/pit/rel/conf/perl-5.24.0/.cpanplus/5.24.0/build/AfSeLO8Syw/Dist-Zilla-Plugin-ChangelogFromGit-CPAN-Changes-0.230680/blib/arch"
    PERL5_CPANPLUS_IS_RUNNING="77336"
    PERL5_CPANPLUS_IS_VERSION="0.9914"
    PERL5_MINISMOKEBOX="0.68"
    PERL5_YACSMOKE_BASE="/usr/home/cpan/pit/rel/conf/perl-5.24.0"
    PERL_EXTUTILS_AUTOINSTALL="--defaultdeps"
    PERL_LOCAL_LIB_ROOT="/usr/home/cpan/pit/jail/l5KtyahGEZ"
    PERL_MB_OPT="--install_base "/usr/home/cpan/pit/jail/l5KtyahGEZ""
    PERL_MM_OPT="INSTALL_BASE=/usr/home/cpan/pit/jail/l5KtyahGEZ"
    PERL_MM_USE_DEFAULT="1"
  @INC:
    /usr/home/cpan/pit/jail/l5KtyahGEZ/lib/perl5/5.24.0/i386-freebsd-thread-multi-64int
    /usr/home/cpan/pit/jail/l5KtyahGEZ/lib/perl5/5.24.0
    /usr/home/cpan/pit/jail/l5KtyahGEZ/lib/perl5/i386-freebsd-thread-multi-64int
    /usr/home/cpan/pit/jail/l5KtyahGEZ/lib/perl5
    /usr/home/cpan/pit/rel/conf/perl-5.24.0/.cpanplus/5.24.0/build/AfSeLO8Syw/Dist-Zilla-Plugin-ChangelogFromGit-CPAN-Changes-0.230680/blib/lib
    /usr/home/cpan/pit/rel/conf/perl-5.24.0/.cpanplus/5.24.0/build/AfSeLO8Syw/Dist-Zilla-Plugin-ChangelogFromGit-CPAN-Changes-0.230680/blib/arch
    /usr/home/cpan/pit/rel/perl-5.24.0/lib/site_perl/5.24.0/i386-freebsd-thread-multi-64int
    /usr/home/cpan/pit/rel/perl-5.24.0/lib/site_perl/5.24.0
    /usr/home/cpan/pit/rel/perl-5.24.0/lib/5.24.0/i386-freebsd-thread-multi-64int
    /usr/home/cpan/pit/rel/perl-5.24.0/lib/5.24.0
    .