Unicode-Stringprep v1.105 Perl 5 v5.16.2 amd64-netbsd

Status
Pass
From
Nigel Horne
Dist
Unicode-Stringprep v1.105
Platform
Perl 5 v5.16.2 amd64-netbsd
Date
2018-10-26 02:28:08
ID
c68cda8e-d8c6-11e8-88a9-b35f62b887d7
This distribution has been tested as part of the CPAN Testers
project, supporting the Perl programming language.  See
http://wiki.cpantesters.org/ for more information or email
questions to cpan-testers-discuss@perl.org


--
Dear Claus Faerber,

This is a computer-generated report for Unicode-Stringprep-1.105
on perl 5.16.2, created by CPAN-Reporter-1.2018.

Thank you for uploading your work to CPAN.  Congratulations!
All tests were successful.

Sections of this report:

    * Tester comments
    * Program output
    * Prerequisites
    * Environment and other context

------------------------------
TESTER COMMENTS
------------------------------

Additional comments from tester:

this report is from an automated smoke testing program
and was not reviewed by a human for accuracy

------------------------------
PROGRAM OUTPUT
------------------------------

Output from './Build test':

t/00_use.t .......................... ok
t/01_references.t ................... ok
t/10_pod_check.t .................... ok
t/11_pod_coverage.t ................. ok
t/30_mappings.t ..................... ok
t/31_prohibited_characters.t ........ ok
t/31_prohibited_characters_extra.t .. ok
t/32_nfkc_3_2.t ..................... ok
t/99_perl-5.11.3.t .................. ok
t/nameprep.t ........................ ok
t/nameprep_bytes.t .................. ok
t/nameprep_stored.t ................. ok
t/saslprep.t ........................ ok
t/saslprep_bytes.t .................. ok
All tests successful.
Files=14, Tests=200,  2 wallclock secs ( 0.07 usr  0.07 sys +  1.63 cusr  0.44 csys =  2.21 CPU)
Result: PASS

------------------------------
PREREQUISITES
------------------------------

Prerequisite modules loaded:

requires:

    Module             Need     Have    
    ------------------ -------- --------
    perl               5.008003 5.016002
    Unicode::Normalize 1        1.25    

build_requires:

    Module             Need     Have    
    ------------------ -------- --------
    Test::More         0        1.302140
    Test::NoWarnings   0        1.04    

configure_requires:

    Module             Need     Have    
    ------------------ -------- --------
    Module::Build      0.42     0.4224  


------------------------------
ENVIRONMENT AND OTHER CONTEXT
------------------------------

Environment variables:

    AUTOMATED_TESTING = 1
    NONINTERACTIVE_TESTING = 1
    PATH = /home/njh/perl5/perlbrew/bin:/home/njh/perl5/perlbrew/perls/perl-5.16.2/bin:/home/njh/src/njh/smoker/bin:/usr/bin:/bin:/usr/pkg/bin:/usr/local/bin
    PERL5LIB = /home/njh/.cpan/build/XAO-Base-1.23-14/blib/arch:/home/njh/.cpan/build/XAO-Base-1.23-14/blib/lib:/home/njh/.cpan/build/Test-Unit-Lite-0.1202-14/blib/arch:/home/njh/.cpan/build/Test-Unit-Lite-0.1202-14/blib/lib:/home/njh/.cpan/build/Error-0.17026-13/blib/arch:/home/njh/.cpan/build/Error-0.17026-13/blib/lib
    PERL5OPT = 
    PERL5_CPANPLUS_IS_RUNNING = 1003
    PERL5_CPAN_IS_RUNNING = 1003
    PERLBREW_HOME = /home/njh/.perlbrew
    PERLBREW_MANPATH = /home/njh/perl5/perlbrew/perls/perl-5.16.2/man
    PERLBREW_PATH = /home/njh/perl5/perlbrew/bin:/home/njh/perl5/perlbrew/perls/perl-5.16.2/bin
    PERLBREW_PERL = perl-5.16.2
    PERLBREW_ROOT = /home/njh/perl5/perlbrew
    PERLBREW_SHELLRC_VERSION = 0.82
    PERLBREW_VERSION = 0.82
    PERL_MM_USE_DEFAULT = 1
    SHELL = /bin/sh
    TMPDIR = /tmp/testwrapper.387

Perl special variables (and OS-specific diagnostics, for MSWin32):

    $^X = /home/njh/perl5/perlbrew/perls/perl-5.16.2/bin/perl
    $UID/$EUID = 1000 / 1000
    $GID = 100 100 0
    $EGID = 100 100 0

Perl module toolchain versions installed:

    Module              Have    
    ------------------- --------
    CPAN                2.16    
    CPAN::Meta          2.150010
    Cwd                 3.75    
    ExtUtils::CBuilder  0.280230
    ExtUtils::Command   7.34    
    ExtUtils::Install   2.14    
    ExtUtils::MakeMaker 7.34    
    ExtUtils::Manifest  1.71    
    ExtUtils::ParseXS   3.35    
    File::Spec          3.75    
    JSON                2.97001 
    JSON::PP            2.97001 
    Module::Build       0.4224  
    Module::Signature   n/a     
    Parse::CPAN::Meta   2.150010
    Test::Harness       3.42    
    Test::More          1.302140
    YAML                1.26    
    YAML::Syck          1.30    
    version             0.9924  


--

Summary of my perl5 (revision 5 version 16 subversion 2) configuration:
   
  Platform:
    osname=netbsd, osvers=7.1.2, archname=amd64-netbsd
    uname='netbsd vultr2.bandsman.co.uk 7.1.2 netbsd 7.1.2 (generic.201803151611z) amd64 '
    config_args='-de -Dprefix=/home/njh/perl5/perlbrew/perls/perl-5.16.2 -Aeval:scriptdir=/home/njh/perl5/perlbrew/perls/perl-5.16.2/bin'
    hint=recommended, useposix=true, d_sigaction=define
    useithreads=undef, usemultiplicity=undef
    useperlio=define, d_sfio=undef, uselargefiles=define, usesocks=undef
    use64bitint=define, use64bitall=define, uselongdouble=undef
    usemymalloc=n, bincompat5005=undef
  Compiler:
    cc='cc', ccflags ='-fno-strict-aliasing -pipe -fstack-protector -I/usr/pkg/include',
    optimize='-O',
    cppflags='-fno-strict-aliasing -pipe -fstack-protector -I/usr/pkg/include'
    ccversion='', gccversion='4.8.5', gccosandvers=''
    intsize=4, longsize=8, ptrsize=8, doublesize=8, byteorder=12345678
    d_longlong=define, longlongsize=8, d_longdbl=define, longdblsize=16
    ivtype='long', ivsize=8, nvtype='double', nvsize=8, Off_t='off_t', lseeksize=8
    alignbytes=8, prototype=define
  Linker and Libraries:
    ld='cc', ldflags =' -Wl,-rpath,/usr/pkg/lib -Wl,-rpath,/usr/local/lib -fstack-protector -L/usr/pkg/lib'
    libpth=/usr/pkg/lib /lib /usr/lib
    libs=-lm -lcrypt -lutil -lc -lposix
    perllibs=-lm -lcrypt -lutil -lc -lposix
    libc=/lib/libc.so, so=so, useshrplib=false, libperl=libperl.a
    gnulibc_version=''
  Dynamic Linking:
    dlsrc=dl_dlopen.xs, dlext=so, d_dlsymun=undef, ccdlflags='-Wl,-E '
    cccdlflags='-DPIC -fPIC ', lddlflags='-shared  -L/usr/pkg/lib -fstack-protector'


Characteristics of this binary (from libperl): 
  Compile-time options: HAS_TIMES PERLIO_LAYERS PERL_DONT_CREATE_GVSV
                        PERL_MALLOC_WRAP PERL_PRESERVE_IVUV USE_64_BIT_ALL
                        USE_64_BIT_INT USE_LARGE_FILES USE_LOCALE
                        USE_LOCALE_COLLATE USE_LOCALE_CTYPE
                        USE_LOCALE_NUMERIC USE_PERLIO USE_PERL_ATOF
  Locally applied patches:
	Devel::PatchPerl 1.48
  Built under netbsd
  Compiled at Sep 29 2018 01:39:14
  %ENV:
    PERL5LIB="/home/njh/.cpan/build/XAO-Base-1.23-14/blib/arch:/home/njh/.cpan/build/XAO-Base-1.23-14/blib/lib:/home/njh/.cpan/build/Test-Unit-Lite-0.1202-14/blib/arch:/home/njh/.cpan/build/Test-Unit-Lite-0.1202-14/blib/lib:/home/njh/.cpan/build/Error-0.17026-13/blib/arch:/home/njh/.cpan/build/Error-0.17026-13/blib/lib"
    PERL5OPT=""
    PERL5_CPANPLUS_IS_RUNNING="1003"
    PERL5_CPAN_IS_RUNNING="1003"
    PERLBREW_HOME="/home/njh/.perlbrew"
    PERLBREW_MANPATH="/home/njh/perl5/perlbrew/perls/perl-5.16.2/man"
    PERLBREW_PATH="/home/njh/perl5/perlbrew/bin:/home/njh/perl5/perlbrew/perls/perl-5.16.2/bin"
    PERLBREW_PERL="perl-5.16.2"
    PERLBREW_ROOT="/home/njh/perl5/perlbrew"
    PERLBREW_SHELLRC_VERSION="0.82"
    PERLBREW_VERSION="0.82"
    PERL_MM_USE_DEFAULT="1"
  @INC:
    /home/njh/.cpan/build/XAO-Base-1.23-14/blib/arch
    /home/njh/.cpan/build/XAO-Base-1.23-14/blib/lib
    /home/njh/.cpan/build/Test-Unit-Lite-0.1202-14/blib/arch
    /home/njh/.cpan/build/Test-Unit-Lite-0.1202-14/blib/lib
    /home/njh/.cpan/build/Error-0.17026-13/blib/arch
    /home/njh/.cpan/build/Error-0.17026-13/blib/lib
    /home/njh/perl5/perlbrew/perls/perl-5.16.2/lib/site_perl/5.16.2/amd64-netbsd
    /home/njh/perl5/perlbrew/perls/perl-5.16.2/lib/site_perl/5.16.2
    /home/njh/perl5/perlbrew/perls/perl-5.16.2/lib/5.16.2/amd64-netbsd
    /home/njh/perl5/perlbrew/perls/perl-5.16.2/lib/5.16.2
    .