Report for DBD-SQLite-Amalgamation-3.6.16

Back
From: metabase:user:9820532a-708b-1014-9a05-b18a96298da1
Subject: PASS DBD-SQLite-Amalgamation-3.6.16 v5.15.5 FreeBSD
Date: 2011-12-06T12:06:49Z

This distribution has been tested as part of the CPAN Testers
project, supporting the Perl programming language.  See
http://wiki.cpantesters.org/ for more information or email
questions to cpan-testers-discuss@perl.org


--
Dear Audrey Tang,

This is a computer-generated report for DBD-SQLite-Amalgamation-3.6.16
on perl 5.15.5, created by CPAN-Reporter-1.2002.

Thank you for uploading your work to CPAN.  Congratulations!
All tests were successful.

Sections of this report:

    * Tester comments
    * Program output
    * Prerequisites
    * Environment and other context

------------------------------
TESTER COMMENTS
------------------------------

Additional comments from tester:

this report is from an automated smoke testing program
and was not reviewed by a human for accuracy

------------------------------
PROGRAM OUTPUT
------------------------------

Output from '/usr/bin/make test':

PERL_DL_NONLAZY=1 /usr/home/test/perl5/perlbrew/perls/perl-5.15.5-th/bin/perl5.15.5 "-MExtUtils::Command::MM" "-e" "test_harness(0, 'blib/lib', 'blib/arch')" t/*.t
# $DBI::VERSION=1.616
t/01_compile.t ............................... ok
# sqlite_version=3.6.16
t/02_logon.t ................................. ok
# sqlite_version=3.6.16
t/02_logon_func.t ............................ ok
t/03_create_table.t .......................... ok
t/04_insert.t ................................ ok
t/05_select.t ................................ ok
t/06_tran.t .................................. ok
t/07_error.t ................................. ok
t/08_busy.t .................................. ok
t/08_busy_func.t ............................. ok
t/09_create_function.t ....................... ok
t/09_create_function_func.t .................. ok
t/10_create_aggregate.t ...................... ok
t/10_create_aggregate_func.t ................. ok
t/12_unicode.t ............................... ok
t/13_create_collation.t ...................... ok
t/13_create_collation_func.t ................. ok
t/14_progress_handler.t ...................... ok
t/14_progress_handler_func.t ................. ok
t/15_ak_dbd.t ................................ ok
t/16_column_info.t ........................... ok
t/17_createdrop.t ............................ ok
t/18_insertfetch.t ........................... ok
t/19_bindparam.t ............................. ok
t/20_blobs.t ................................. ok
t/21_blobtext.t .............................. ok
t/22_listfields.t ............................ ok
t/23_nulls.t ................................. ok
t/24_numrows.t ............................... ok
t/25_chopblanks.t ............................ ok
t/26_commit.t ................................ ok
t/27_metadata.t .............................. ok
t/28_schemachange.t .......................... ok
t/29_cppcomments.t ........................... ok
t/30_auto_rollback.t ......................... ok
t/31_bind_weird_number_param.t ............... ok
t/32_inactive_error.t ........................ ok
t/33_non_latin_path.t ........................ ok
t/34_online_backup.t ......................... ok
t/34_online_backup_func.t .................... ok
t/35_table_info.t ............................ ok
t/97_meta.t .................................. ok
t/98_pod.t ................................... ok
t/99_pmv.t ................................... skipped: Perl::MinimumVersion 1.20 not available for testing
t/rt_15186_prepcached.t ...................... ok
t/rt_21406_auto_finish.t ..................... ok
t/rt_25371_asymmetric_unicode.t .............. ok
t/rt_25460_numeric_aggregate.t ............... ok
t/rt_25924_user_defined_func_unicode.t ....... ok
t/rt_25924_user_defined_func_unicode_func.t .. ok
t/rt_27553_prepared_cache_and_analyze.t ...... ok
t/rt_29058_group_by.t ........................ ok
t/rt_29629_sqlite_where_length.t ............. ok
t/rt_31324_full_names.t ...................... ok
t/rt_32889_prepare_cached_reexecute.t ........ ok
t/rt_36836_duplicate_key.t ................... ok
t/rt_36838_unique_and_bus_error.t ............ ok
t/rt_40594_nullable.t ........................ ok
All tests successful.
Files=58, Tests=754, 28 wallclock secs ( 0.67 usr  0.94 sys +  3.91 cusr  2.02 csys =  7.54 CPU)
Result: PASS

------------------------------
PREREQUISITES
------------------------------

Prerequisite modules loaded:

requires:

    Module              Need  Have    
    ------------------- ----- --------
    DBI                 1.57  1.616   
    File::Spec          0.82  3.33    
    perl                5.006 5.015005
    Test::More          0.42  0.98    

build_requires:

    Module              Need  Have    
    ------------------- ----- --------
    ExtUtils::MakeMaker 0     6.62    


------------------------------
ENVIRONMENT AND OTHER CONTEXT
------------------------------

Environment variables:

    AUTOMATED_TESTING = 1
    LANG = C
    LC_ALL = C
    PATH = /home/test/perl5/perlbrew/bin:/home/test/perl5/perlbrew/perls/perl-5.15.5-th/bin:~/bin:/sbin:/bin:/usr/sbin:/usr/bin:/usr/games:/usr/local/sbin:/usr/local/bin:/home/test/bin
    PATH_WITHOUT_PERLBREW = ~/bin:/sbin:/bin:/usr/sbin:/usr/bin:/usr/games:/usr/local/sbin:/usr/local/bin:/home/test/bin
    PERL5LIB = 
    PERL5OPT = 
    PERL5_CPANPLUS_IS_RUNNING = 34270
    PERL5_CPAN_IS_RUNNING = 34270
    PERL5_CPAN_IS_RUNNING_IN_RECURSION = 1046,34270
    PERLBREW_BASHRC_VERSION = 0.33
    PERLBREW_HOME = /home/test/.perlbrew
    PERLBREW_PATH = /home/test/perl5/perlbrew/bin:/home/test/perl5/perlbrew/perls/perl-5.15.5-th/bin
    PERLBREW_PERL = perl-5.15.5-th
    PERLBREW_ROOT = /home/test/perl5/perlbrew
    PERLBREW_VERSION = 0.33
    PERL_CPANM_OPT = --prompt --mirror http://172.16.1.3/cpan/
    PERL_CR_SMOKER_CURRENT = DBD-SQLite-Amalgamation-3.6.16
    PERL_EXTUTILS_AUTOINSTALL = --defaultdeps
    PERL_MM_USE_DEFAULT = 1
    SHELL = /usr/local/bin/bash
    TERM = linux

Perl special variables (and OS-specific diagnostics, for MSWin32):

    $^X = /usr/home/test/perl5/perlbrew/perls/perl-5.15.5-th/bin/perl5.15.5
    $UID/$EUID = 1002 / 1002
    $GID = 1002 1002
    $EGID = 1002 1002

Perl module toolchain versions installed:

    Module              Have    
    ------------------- --------
    CPAN                1.9800  
    CPAN::Meta          2.112621
    Cwd                 3.33    
    ExtUtils::CBuilder  0.280202
    ExtUtils::Command   1.17    
    ExtUtils::Install   1.57    
    ExtUtils::MakeMaker 6.62    
    ExtUtils::Manifest  1.60    
    ExtUtils::ParseXS   3.05    
    File::Spec          3.33    
    JSON                2.53    
    JSON::PP            2.27008 
    Module::Build       0.3800  
    Module::Signature   n/a     
    Parse::CPAN::Meta   1.4401  
    Test::Harness       3.23    
    Test::More          0.98    
    YAML                0.73    
    YAML::Syck          1.19    
    version             0.95    


--

Summary of my perl5 (revision 5 version 15 subversion 5) configuration:
   
  Platform:
    osname=freebsd, osvers=8.1-release, archname=amd64-freebsd-thread-multi
    uname='freebsd fbsd.local 8.1-release freebsd 8.1-release #0: mon jul 19 02:36:49 utc 2010 root@mason.cse.buffalo.edu:usrobjusrsrcsysgeneric amd64 '
    config_args='-de -Dprefix=/home/test/perl5/perlbrew/perls/perl-5.15.5-th -Dusethreads -Dusedevel'
    hint=recommended, useposix=true, d_sigaction=define
    useithreads=define, usemultiplicity=define
    useperlio=define, d_sfio=undef, uselargefiles=define, usesocks=undef
    use64bitint=define, use64bitall=define, uselongdouble=undef
    usemymalloc=n, bincompat5005=undef
  Compiler:
    cc='cc', ccflags ='-DHAS_FPSETMASK -DHAS_FLOATINGPOINT_H -fno-strict-aliasing -pipe -fstack-protector -I/usr/local/include',
    optimize='-O',
    cppflags='-DHAS_FPSETMASK -DHAS_FLOATINGPOINT_H -fno-strict-aliasing -pipe -fstack-protector -I/usr/local/include'
    ccversion='', gccversion='4.2.1 20070719  [FreeBSD]', gccosandvers=''
    intsize=4, longsize=8, ptrsize=8, doublesize=8, byteorder=12345678
    d_longlong=define, longlongsize=8, d_longdbl=define, longdblsize=16
    ivtype='long', ivsize=8, nvtype='double', nvsize=8, Off_t='off_t', lseeksize=8
    alignbytes=8, prototype=define
  Linker and Libraries:
    ld='cc', ldflags ='-pthread -Wl,-E  -fstack-protector -L/usr/local/lib'
    libpth=/usr/lib /usr/local/lib
    libs=-lm -lcrypt
    perllibs=-lm -lcrypt
    libc=, so=so, useshrplib=false, libperl=libperl.a
    gnulibc_version=''
  Dynamic Linking:
    dlsrc=dl_dlopen.xs, dlext=so, d_dlsymun=undef, ccdlflags=' '
    cccdlflags='-DPIC -fPIC', lddlflags='-shared  -L/usr/local/lib -fstack-protector'


Characteristics of this binary (from libperl): 
  Compile-time options: HAS_TIMES MULTIPLICITY PERLIO_LAYERS
                        PERL_DONT_CREATE_GVSV PERL_IMPLICIT_CONTEXT
                        PERL_MALLOC_WRAP PERL_PRESERVE_IVUV PERL_USE_DEVEL
                        USE_64_BIT_ALL USE_64_BIT_INT USE_ITHREADS
                        USE_LARGE_FILES USE_LOCALE USE_LOCALE_COLLATE
                        USE_LOCALE_CTYPE USE_LOCALE_NUMERIC USE_PERLIO
                        USE_PERL_ATOF USE_REENTRANT_API
  Built under freebsd
  Compiled at Nov 29 2011 23:43:57
  %ENV:
    PERL5LIB=""
    PERL5OPT=""
    PERL5_CPANPLUS_IS_RUNNING="34270"
    PERL5_CPAN_IS_RUNNING="34270"
    PERL5_CPAN_IS_RUNNING_IN_RECURSION="1046,34270"
    PERLBREW_BASHRC_VERSION="0.33"
    PERLBREW_HOME="/home/test/.perlbrew"
    PERLBREW_PATH="/home/test/perl5/perlbrew/bin:/home/test/perl5/perlbrew/perls/perl-5.15.5-th/bin"
    PERLBREW_PERL="perl-5.15.5-th"
    PERLBREW_ROOT="/home/test/perl5/perlbrew"
    PERLBREW_VERSION="0.33"
    PERL_CPANM_OPT="--prompt --mirror http://172.16.1.3/cpan/"
    PERL_CR_SMOKER_CURRENT="DBD-SQLite-Amalgamation-3.6.16"
    PERL_EXTUTILS_AUTOINSTALL="--defaultdeps"
    PERL_MM_USE_DEFAULT="1"
  @INC:
    /home/test/perl5/perlbrew/perls/perl-5.15.5-th/lib/site_perl/5.15.5/amd64-freebsd-thread-multi
    /home/test/perl5/perlbrew/perls/perl-5.15.5-th/lib/site_perl/5.15.5
    /home/test/perl5/perlbrew/perls/perl-5.15.5-th/lib/5.15.5/amd64-freebsd-thread-multi
    /home/test/perl5/perlbrew/perls/perl-5.15.5-th/lib/5.15.5
    .