Report for Spark-Form-0.2103-TRIAL

Back
From: metabase:user:320bfe00-2aae-11df-837a-5e0a49663a4f
Subject: PASS Spark-Form-0.2103-TRIAL v5.24.1 GNU/Linux
Date: 2017-03-23T09:04:52Z

This distribution has been tested as part of the CPAN Testers
project, supporting the Perl programming language.  See
http://wiki.cpantesters.org/ for more information or email
questions to cpan-testers-discuss@perl.org


--
Dear Kent Fredric,

This is a computer-generated report for Spark-Form-0.2103-TRIAL
on perl 5.24.1, created by CPAN-Reporter-1.2018.

Thank you for uploading your work to CPAN.  Congratulations!
All tests were successful.

Sections of this report:

    * Tester comments
    * Program output
    * Prerequisites
    * Environment and other context

------------------------------
TESTER COMMENTS
------------------------------

Additional comments from tester:

this report is from an automated smoke testing program
and was not reviewed by a human for accuracy

------------------------------
PROGRAM OUTPUT
------------------------------

Output from './Build test':

t/00-compile.t ................ ok
# Testing Spark::Form 0.2103, Perl 5.024001, /home/sand/src/perl/repoperls/installed-perls/host/k93msid/v5.24.1/5ea4/bin/perl
t/00-load.t ................... ok
# 
# 
# perl: v5.24.1 (wanted any version) on linux from /home/sand/src/perl/repoperls/installed-perls/host/k93msid/v5.24.1/5ea4/bin/perl
# 
# Carp                                          => 1.40       (want any version)
# Data::Couplet                                 => 0.02004314 (want 0.02004312)
# Data::Dumper                                  => 2.161      (want any version)
# Dist::Zilla::PluginBundle::Author::KENTNL     => module not found. (want 1.0.0)  
# Dist::Zilla::PluginBundle::Author::KENTNL::Lite => module not found. (want 0.01009803)
# English                                       => 1.10       (want any version)
# File::Find                                    => 1.34       (want any version)
# File::Temp                                    => 0.2304     (want any version)
# HTML::Tiny                                    => 1.05       (want any version)
# List::MoreUtils                               => 0.416      (want any version)
# List::Util                                    => 1.47       (want any version)
# Module::Build                                 => 0.422      (want 0.3601) 
# Module::Pluggable::Object                     => 5.2        (want any version)
# Moose                                         => 2.2004     (want 0.90)   
# Moose::Role                                   => 2.2004     (want 0.90)   
# MooseX::Clone                                 => 0.06       (want any version)
# MooseX::LazyRequire                           => 0.11       (want 0.04)   
# MooseX::Types                                 => 0.50       (want 0.20)   
# MooseX::Types::Moose                          => 0.50       (want any version)
# Scalar::Util                                  => 1.47       (want any version)
# Test::More                                    => 1.302078   (want 0.88)   
# namespace::autoclean                          => 0.28       (want any version)
# 
# Thanks for using my code.  I hope it works for you.
# If not, please try and include this output in the bug report.
# That will help me reproduce the issue and solve you problem.
# 
t/000-report-versions-tiny.t .. ok
t/02-simple.t ................. ok
t/03-form-register.t .......... ok
t/04-form-custom-lazy.t ....... ok
t/05-confirm.t ................ ok
t/06-maxlength.t .............. ok
t/07-minlength.t .............. ok
t/08-notempty.t ............... ok
t/09-regex.t .................. ok
t/10-combinatorics.t .......... ok
t/11-reset.t .................. ok
t/12-checkbox.t ............... ok
t/13-select.t ................. ok
t/14-list.t ................... ok
t/15-submit.t ................. ok
t/16-file.t ................... ok
t/17-text.t ................... ok
t/18-textarea.t ............... ok
t/19-button.t ................. ok
t/20-hidden.t ................. ok
t/21-image.t .................. ok
t/22-multiselect.t ............ ok
t/23-password.t ............... ok
t/24-radio.t .................. ok
t/25-noload.t ................. ok
t/26-clone.t .................. ok
t/27-partial_clone.t .......... ok
t/28-compose.t ................ ok
t/29-partial-fill.t ........... ok
t/author-critic.t ............. skipped: these tests are for testing by the author
t/release-cpan-changes.t ...... skipped: these tests are for release candidate testing
t/release-distmeta.t .......... skipped: these tests are for release candidate testing
t/release-eol.t ............... skipped: these tests are for release candidate testing
t/release-kwalitee.t .......... skipped: these tests are for release candidate testing
t/release-pod-coverage.t ...... skipped: these tests are for release candidate testing
t/release-pod-syntax.t ........ skipped: these tests are for release candidate testing
All tests successful.
Files=38, Tests=131, 62 wallclock secs ( 0.09 usr  0.34 sys + 30.35 cusr  3.34 csys = 34.12 CPU)
Result: PASS

------------------------------
PREREQUISITES
------------------------------

Prerequisite modules loaded:

requires:

    Module                    Need       Have      
    ------------------------- ---------- ----------
    Carp                      0          1.40      
    Data::Couplet             0.02004312 0.02004314
    HTML::Tiny                0          1.05      
    List::MoreUtils           0          0.416     
    List::Util                0          1.47      
    Module::Pluggable::Object 0          5.2       
    Moose                     0.90       2.2004    
    Moose::Role               0.90       2.2004    
    MooseX::Clone             0          0.06      
    MooseX::LazyRequire       0.04       0.11      
    MooseX::Types             0.20       0.50      
    MooseX::Types::Moose      0          0.50      
    namespace::autoclean      0          0.28      
    Scalar::Util              0          1.47      

build_requires:

    Module                    Need       Have      
    ------------------------- ---------- ----------
    Data::Dumper              0          2.161     
    English                   0          1.10      
    File::Find                0          1.34      
    File::Temp                0          0.2304    
    Module::Build             0.3601     0.4220    
    Test::More                0.88       1.302078  

configure_requires:

    Module                    Need       Have      
    ------------------------- ---------- ----------
    Module::Build             0.3601     0.4220    


------------------------------
ENVIRONMENT AND OTHER CONTEXT
------------------------------

Environment variables:

    AUTOMATED_TESTING = 1
    LANG = en_US.UTF-8
    PATH = /home/sand/bin:/usr/local/bin:/usr/bin:/bin:/usr/games:/usr/local/perl/bin:/usr/X11/bin:/sbin:/usr/sbin
    PERL5LIB = 
    PERL5OPT = 
    PERL5_CPANPLUS_IS_RUNNING = 3683
    PERL5_CPAN_IS_RUNNING = 3683
    PERL_CANARY_STABILITY_NOPROMPT = 1
    PERL_MM_USE_DEFAULT = 1
    PERL_USE_UNSAFE_INC = 1
    SHELL = /usr/bin/zsh
    TERM = screen

Perl special variables (and OS-specific diagnostics, for MSWin32):

    $^X = /home/sand/src/perl/repoperls/installed-perls/host/k93msid/v5.24.1/5ea4/bin/perl
    $UID/$EUID = 1005 / 1005
    $GID = 1005 1005
    $EGID = 1005 1005

Perl module toolchain versions installed:

    Module              Have      
    ------------------- ----------
    CPAN                2.17      
    CPAN::Meta          2.150010  
    Cwd                 3.63_01   
    ExtUtils::CBuilder  0.280225  
    ExtUtils::Command   7.24      
    ExtUtils::Install   2.04      
    ExtUtils::MakeMaker 7.24      
    ExtUtils::Manifest  1.70      
    ExtUtils::ParseXS   3.31      
    File::Spec          3.63_01   
    JSON                2.90      
    JSON::PP            2.27300_01
    Module::Build       0.4220    
    Module::Signature   0.81      
    Parse::CPAN::Meta   2.150010  
    Test::Harness       3.38      
    Test::More          1.302078  
    YAML                1.23      
    YAML::Syck          1.29      
    version             0.9916    


--

Summary of my perl5 (revision 5 version 24 subversion 1) configuration:
  Derived from: 443bd156a6baaf7a8fe6b6b05fcf6c4178140ed2
  Platform:
    osname=linux, osvers=4.9.0-2-amd64, archname=x86_64-linux-thread-multi-ld
    uname='linux k93msid 4.9.0-2-amd64 #1 smp debian 4.9.13-1 (2017-02-27) x86_64 gnulinux '
    config_args='-Dprefix=/home/sand/src/perl/repoperls/installed-perls/host/k93msid/v5.24.1/5ea4 -Dmyhostname=k93msid -Dinstallusrbinperl=n -Uversiononly -Dusedevel -des -Ui_db -Dlibswanted=cl pthread socket inet nsl gdbm dbm malloc dl ld sun m crypt sec util c cposix posix ucb BSD gdbm_compat -Duseithreads -Duselongdouble -DDEBUGGING=-g'
    hint=recommended, useposix=true, d_sigaction=define
    useithreads=define, usemultiplicity=define
    use64bitint=define, use64bitall=define, uselongdouble=define
    usemymalloc=n, bincompat5005=undef
  Compiler:
    cc='cc', ccflags ='-D_REENTRANT -D_GNU_SOURCE -fwrapv -fno-strict-aliasing -pipe -fstack-protector-strong -I/usr/local/include -D_LARGEFILE_SOURCE -D_FILE_OFFSET_BITS=64',
    optimize='-O2 -g',
    cppflags='-D_REENTRANT -D_GNU_SOURCE -fwrapv -fno-strict-aliasing -pipe -fstack-protector-strong -I/usr/local/include'
    ccversion='', gccversion='6.3.0 20170316', gccosandvers=''
    intsize=4, longsize=8, ptrsize=8, doublesize=8, byteorder=12345678, doublekind=3
    d_longlong=define, longlongsize=8, d_longdbl=define, longdblsize=16, longdblkind=3
    ivtype='long', ivsize=8, nvtype='long double', nvsize=16, Off_t='off_t', lseeksize=8
    alignbytes=16, prototype=define
  Linker and Libraries:
    ld='cc', ldflags =' -fstack-protector-strong -L/usr/local/lib'
    libpth=/usr/local/lib /usr/lib/gcc/x86_64-linux-gnu/6/include-fixed /usr/include/x86_64-linux-gnu /usr/lib /lib/x86_64-linux-gnu /lib/../lib /usr/lib/x86_64-linux-gnu /usr/lib/../lib /lib
    libs=-lpthread -lnsl -ldl -lm -lcrypt -lutil -lc
    perllibs=-lpthread -lnsl -ldl -lm -lcrypt -lutil -lc
    libc=libc-2.24.so, so=so, useshrplib=false, libperl=libperl.a
    gnulibc_version='2.24'
  Dynamic Linking:
    dlsrc=dl_dlopen.xs, dlext=so, d_dlsymun=undef, ccdlflags='-Wl,-E'
    cccdlflags='-fPIC', lddlflags='-shared -O2 -g -L/usr/local/lib -fstack-protector-strong'


Characteristics of this binary (from libperl): 
  Compile-time options: HAS_TIMES MULTIPLICITY PERLIO_LAYERS
                        PERL_COPY_ON_WRITE PERL_DONT_CREATE_GVSV
                        PERL_HASH_FUNC_ONE_AT_A_TIME_HARD
                        PERL_IMPLICIT_CONTEXT PERL_MALLOC_WRAP
                        PERL_PRESERVE_IVUV PERL_USE_DEVEL USE_64_BIT_ALL
                        USE_64_BIT_INT USE_ITHREADS USE_LARGE_FILES
                        USE_LOCALE USE_LOCALE_COLLATE USE_LOCALE_CTYPE
                        USE_LOCALE_NUMERIC USE_LOCALE_TIME USE_LONG_DOUBLE
                        USE_PERLIO USE_PERL_ATOF USE_REENTRANT_API
  Locally applied patches:
	uncommitted-changes
  Built under linux
  Compiled at Mar 18 2017 16:46:38
  %ENV:
    PERL5LIB=""
    PERL5OPT=""
    PERL5_CPANPLUS_IS_RUNNING="3683"
    PERL5_CPAN_IS_RUNNING="3683"
    PERL_CANARY_STABILITY_NOPROMPT="1"
    PERL_MM_USE_DEFAULT="1"
    PERL_USE_UNSAFE_INC="1"
  @INC:
    /home/sand/src/perl/repoperls/installed-perls/host/k93msid/v5.24.1/5ea4/lib/site_perl/5.24.1/x86_64-linux-thread-multi-ld
    /home/sand/src/perl/repoperls/installed-perls/host/k93msid/v5.24.1/5ea4/lib/site_perl/5.24.1
    /home/sand/src/perl/repoperls/installed-perls/host/k93msid/v5.24.1/5ea4/lib/5.24.1/x86_64-linux-thread-multi-ld
    /home/sand/src/perl/repoperls/installed-perls/host/k93msid/v5.24.1/5ea4/lib/5.24.1
    .