Report for Gedcom-Date-0.06

Back
From: metabase:user:30f4dfbe-2aae-11df-837a-5e0a49663a4f
Subject: PASS Gedcom-Date-0.06 v5.14.2 Mac OS X
Date: 2015-07-18T04:09:25Z

This distribution has been tested as part of the CPAN Testers
project, supporting the Perl programming language.  See
http://wiki.cpantesters.org/ for more information or email
questions to cpan-testers-discuss@perl.org


--
Dear Ron Savage,

This is a computer-generated report for Gedcom-Date-0.06
on perl 5.14.2, created by CPAN-Reporter-1.2011.

Thank you for uploading your work to CPAN.  Congratulations!
All tests were successful.

Sections of this report:

    * Tester comments
    * Program output
    * Prerequisites
    * Environment and other context

------------------------------
TESTER COMMENTS
------------------------------

Additional comments from tester:

none provided

------------------------------
PROGRAM OUTPUT
------------------------------

Output from './Build test':

t/001_load.t ..... ok
t/003_convert.t .. ok
t/100_compare.t .. ok
t/002_parse.t .... ok
The long_date_format method in DateTime::Locale::Base has been deprecated. Please see the DateTime::Locale distribution's Changes file for details at /Users/njh/.cpan/build/Gedcom-Date-0.06-rhmn0K/blib/lib/Gedcom/Date/Simple.pm line 181.
The long_date_format method in DateTime::Locale::Base has been deprecated. Please see the DateTime::Locale distribution's Changes file for details at /Users/njh/.cpan/build/Gedcom-Date-0.06-rhmn0K/blib/lib/Gedcom/Date/Simple.pm line 181.
The long_date_format method in DateTime::Locale::Base has been deprecated. Please see the DateTime::Locale distribution's Changes file for details at /Users/njh/.cpan/build/Gedcom-Date-0.06-rhmn0K/blib/lib/Gedcom/Date/Simple.pm line 181.
t/200_add.t ...... ok
The long_date_format method in DateTime::Locale::Base has been deprecated. Please see the DateTime::Locale distribution's Changes file for details at /Users/njh/.cpan/build/Gedcom-Date-0.06-rhmn0K/blib/lib/Gedcom/Date/Simple.pm line 181.
The long_date_format method in DateTime::Locale::Base has been deprecated. Please see the DateTime::Locale distribution's Changes file for details at /Users/njh/.cpan/build/Gedcom-Date-0.06-rhmn0K/blib/lib/Gedcom/Date/Simple.pm line 181.
The long_date_format method in DateTime::Locale::Base has been deprecated. Please see the DateTime::Locale distribution's Changes file for details at /Users/njh/.cpan/build/Gedcom-Date-0.06-rhmn0K/blib/lib/Gedcom/Date/Simple.pm line 181.
The long_date_format method in DateTime::Locale::Base has been deprecated. Please see the DateTime::Locale distribution's Changes file for details at /Users/njh/.cpan/build/Gedcom-Date-0.06-rhmn0K/blib/lib/Gedcom/Date/Simple.pm line 181.
The long_date_format method in DateTime::Locale::Base has been deprecated. Please see the DateTime::Locale distribution's Changes file for details at /Users/njh/.cpan/build/Gedcom-Date-0.06-rhmn0K/blib/lib/Gedcom/Date/Simple.pm line 181.
The long_date_format method in DateTime::Locale::Base has been deprecated. Please see the DateTime::Locale distribution's Changes file for details at /Users/njh/.cpan/build/Gedcom-Date-0.06-rhmn0K/blib/lib/Gedcom/Date/Simple.pm line 181.
The long_date_format method in DateTime::Locale::Base has been deprecated. Please see the DateTime::Locale distribution's Changes file for details at /Users/njh/.cpan/build/Gedcom-Date-0.06-rhmn0K/blib/lib/Gedcom/Date/Simple.pm line 181.
The long_date_format method in DateTime::Locale::Base has been deprecated. Please see the DateTime::Locale distribution's Changes file for details at /Users/njh/.cpan/build/Gedcom-Date-0.06-rhmn0K/blib/lib/Gedcom/Date/Simple.pm line 181.
The long_date_format method in DateTime::Locale::Base has been deprecated. Please see the DateTime::Locale distribution's Changes file for details at /Users/njh/.cpan/build/Gedcom-Date-0.06-rhmn0K/blib/lib/Gedcom/Date/Simple.pm line 181.
The long_date_format method in DateTime::Locale::Base has been deprecated. Please see the DateTime::Locale distribution's Changes file for details at /Users/njh/.cpan/build/Gedcom-Date-0.06-rhmn0K/blib/lib/Gedcom/Date/Simple.pm line 181.
The long_date_format method in DateTime::Locale::Base has been deprecated. Please see the DateTime::Locale distribution's Changes file for details at /Users/njh/.cpan/build/Gedcom-Date-0.06-rhmn0K/blib/lib/Gedcom/Date/Simple.pm line 181.
The long_date_format method in DateTime::Locale::Base has been deprecated. Please see the DateTime::Locale distribution's Changes file for details at /Users/njh/.cpan/build/Gedcom-Date-0.06-rhmn0K/blib/lib/Gedcom/Date/Simple.pm line 181.
The long_date_format method in DateTime::Locale::Base has been deprecated. Please see the DateTime::Locale distribution's Changes file for details at /Users/njh/.cpan/build/Gedcom-Date-0.06-rhmn0K/blib/lib/Gedcom/Date/Simple.pm line 181.
The long_date_format method in DateTime::Locale::Base has been deprecated. Please see the DateTime::Locale distribution's Changes file for details at /Users/njh/.cpan/build/Gedcom-Date-0.06-rhmn0K/blib/lib/Gedcom/Date/Simple.pm line 181.
The long_date_format method in DateTime::Locale::Base has been deprecated. Please see the DateTime::Locale distribution's Changes file for details at /Users/njh/.cpan/build/Gedcom-Date-0.06-rhmn0K/blib/lib/Gedcom/Date/Simple.pm line 181.
The long_date_format method in DateTime::Locale::Base has been deprecated. Please see the DateTime::Locale distribution's Changes file for details at /Users/njh/.cpan/build/Gedcom-Date-0.06-rhmn0K/blib/lib/Gedcom/Date/Simple.pm line 181.
The long_date_format method in DateTime::Locale::Base has been deprecated. Please see the DateTime::Locale distribution's Changes file for details at /Users/njh/.cpan/build/Gedcom-Date-0.06-rhmn0K/blib/lib/Gedcom/Date/Simple.pm line 181.
The long_date_format method in DateTime::Locale::Base has been deprecated. Please see the DateTime::Locale distribution's Changes file for details at /Users/njh/.cpan/build/Gedcom-Date-0.06-rhmn0K/blib/lib/Gedcom/Date/Simple.pm line 181.
The long_date_format method in DateTime::Locale::Base has been deprecated. Please see the DateTime::Locale distribution's Changes file for details at /Users/njh/.cpan/build/Gedcom-Date-0.06-rhmn0K/blib/lib/Gedcom/Date/Simple.pm line 181.
The long_date_format method in DateTime::Locale::Base has been deprecated. Please see the DateTime::Locale distribution's Changes file for details at /Users/njh/.cpan/build/Gedcom-Date-0.06-rhmn0K/blib/lib/Gedcom/Date/Simple.pm line 181.
The long_date_format method in DateTime::Locale::Base has been deprecated. Please see the DateTime::Locale distribution's Changes file for details at /Users/njh/.cpan/build/Gedcom-Date-0.06-rhmn0K/blib/lib/Gedcom/Date/Simple.pm line 181.
The long_date_format method in DateTime::Locale::Base has been deprecated. Please see the DateTime::Locale distribution's Changes file for details at /Users/njh/.cpan/build/Gedcom-Date-0.06-rhmn0K/blib/lib/Gedcom/Date/Simple.pm line 181.
The long_date_format method in DateTime::Locale::Base has been deprecated. Please see the DateTime::Locale distribution's Changes file for details at /Users/njh/.cpan/build/Gedcom-Date-0.06-rhmn0K/blib/lib/Gedcom/Date/Simple.pm line 181.
The long_date_format method in DateTime::Locale::Base has been deprecated. Please see the DateTime::Locale distribution's Changes file for details at /Users/njh/.cpan/build/Gedcom-Date-0.06-rhmn0K/blib/lib/Gedcom/Date/Simple.pm line 181.
The long_date_format method in DateTime::Locale::Base has been deprecated. Please see the DateTime::Locale distribution's Changes file for details at /Users/njh/.cpan/build/Gedcom-Date-0.06-rhmn0K/blib/lib/Gedcom/Date/Simple.pm line 181.
The long_date_format method in DateTime::Locale::Base has been deprecated. Please see the DateTime::Locale distribution's Changes file for details at /Users/njh/.cpan/build/Gedcom-Date-0.06-rhmn0K/blib/lib/Gedcom/Date/Simple.pm line 181.
The long_date_format method in DateTime::Locale::Base has been deprecated. Please see the DateTime::Locale distribution's Changes file for details at /Users/njh/.cpan/build/Gedcom-Date-0.06-rhmn0K/blib/lib/Gedcom/Date/Simple.pm line 181.
The long_date_format method in DateTime::Locale::Base has been deprecated. Please see the DateTime::Locale distribution's Changes file for details at /Users/njh/.cpan/build/Gedcom-Date-0.06-rhmn0K/blib/lib/Gedcom/Date/Simple.pm line 181.
The long_date_format method in DateTime::Locale::Base has been deprecated. Please see the DateTime::Locale distribution's Changes file for details at /Users/njh/.cpan/build/Gedcom-Date-0.06-rhmn0K/blib/lib/Gedcom/Date/Simple.pm line 181.
t/201_clone.t .... ok
The long_date_format method in DateTime::Locale::Base has been deprecated. Please see the DateTime::Locale distribution's Changes file for details at /Users/njh/.cpan/build/Gedcom-Date-0.06-rhmn0K/blib/lib/Gedcom/Date/Simple.pm line 181.
The long_date_format method in DateTime::Locale::Base has been deprecated. Please see the DateTime::Locale distribution's Changes file for details at /Users/njh/.cpan/build/Gedcom-Date-0.06-rhmn0K/blib/lib/Gedcom/Date/Simple.pm line 181.
The long_date_format method in DateTime::Locale::Base has been deprecated. Please see the DateTime::Locale distribution's Changes file for details at /Users/njh/.cpan/build/Gedcom-Date-0.06-rhmn0K/blib/lib/Gedcom/Date/Simple.pm line 181.
The long_date_format method in DateTime::Locale::Base has been deprecated. Please see the DateTime::Locale distribution's Changes file for details at /Users/njh/.cpan/build/Gedcom-Date-0.06-rhmn0K/blib/lib/Gedcom/Date/Simple.pm line 181.
The long_date_format method in DateTime::Locale::Base has been deprecated. Please see the DateTime::Locale distribution's Changes file for details at /Users/njh/.cpan/build/Gedcom-Date-0.06-rhmn0K/blib/lib/Gedcom/Date/Simple.pm line 181.
The long_date_format method in DateTime::Locale::Base has been deprecated. Please see the DateTime::Locale distribution's Changes file for details at /Users/njh/.cpan/build/Gedcom-Date-0.06-rhmn0K/blib/lib/Gedcom/Date/Simple.pm line 181.
The long_date_format method in DateTime::Locale::Base has been deprecated. Please see the DateTime::Locale distribution's Changes file for details at /Users/njh/.cpan/build/Gedcom-Date-0.06-rhmn0K/blib/lib/Gedcom/Date/Simple.pm line 181.
t/101_output.t ... ok
All tests successful.
Files=7, Tests=110,  0 wallclock secs ( 0.05 usr  0.01 sys +  1.00 cusr  0.08 csys =  1.14 CPU)
Result: PASS

------------------------------
PREREQUISITES
------------------------------

Prerequisite modules loaded:

requires:

    Module           Need Have    
    ---------------- ---- --------
    DateTime         0.15 1.12    
    Params::Validate 0    1.18    

build_requires:

    Module           Need Have    
    ---------------- ---- --------
    Test::More       0    1.001014

configure_requires:

    Module           Need Have    
    ---------------- ---- --------
    Module::Build    0.36 0.4211  


------------------------------
ENVIRONMENT AND OTHER CONTEXT
------------------------------

Environment variables:

    HARNESS_OPTIONS = c:j4
    LANG = en_US.UTF-8
    PATH = /Users/njh/perl5/perlbrew/bin:/Users/njh/perl5/perlbrew/perls/perl-5.14.2/bin:/usr/local/bin:/usr/bin:/bin:/usr/sbin:/sbin:/Users/njh/bin
    PERL5LIB = 
    PERL5OPT = 
    PERL5_CPANPLUS_IS_RUNNING = 3449
    PERL5_CPAN_IS_RUNNING = 3449
    PERLBREW_BASHRC_VERSION = 0.71
    PERLBREW_HOME = /Users/njh/.perlbrew
    PERLBREW_MANPATH = /Users/njh/perl5/perlbrew/perls/perl-5.14.2/man
    PERLBREW_PATH = /Users/njh/perl5/perlbrew/bin:/Users/njh/perl5/perlbrew/perls/perl-5.14.2/bin
    PERLBREW_PERL = perl-5.14.2
    PERLBREW_ROOT = /Users/njh/perl5/perlbrew
    PERLBREW_VERSION = 0.71
    SHELL = /bin/bash
    TERM = xterm-256color
    TMPDIR = /var/folders/8v/329gghld15g2ls572lrpg_yw0000gn/T/

Perl special variables (and OS-specific diagnostics, for MSWin32):

    $^X = /Users/njh/perl5/perlbrew/perls/perl-5.14.2/bin/perl5.14.2
    $UID/$EUID = 501 / 501
    $GID = 501 501 12 20 61 401 402 100
    $EGID = 501 501 12 20 61 401 402 100

Perl module toolchain versions installed:

    Module              Have    
    ------------------- --------
    CPAN                2.10    
    CPAN::Meta          2.142690
    Cwd                 3.47    
    ExtUtils::CBuilder  0.280220
    ExtUtils::Command   1.18    
    ExtUtils::Install   2.04    
    ExtUtils::MakeMaker 7.04    
    ExtUtils::Manifest  1.68    
    ExtUtils::ParseXS   3.24    
    File::Spec          3.47    
    JSON                2.90    
    JSON::PP            2.27300 
    Module::Build       0.4211  
    Module::Signature   n/a     
    Parse::CPAN::Meta   1.4414  
    Test::Harness       3.35    
    Test::More          1.001014
    YAML                1.15    
    YAML::Syck          1.29    
    version             0.9909  


--

Summary of my perl5 (revision 5 version 14 subversion 2) configuration:
   
  Platform:
    osname=darwin, osvers=13.3.0, archname=darwin-thread-multi-2level
    uname='darwin mac.bandsman.co.uk 13.3.0 darwin kernel version 13.3.0: tue jun 3 21:27:35 pdt 2014; root:xnu-2422.110.17~1release_x86_64 x86_64 '
    config_args='-de -Dprefix=/Users/njh/perl5/perlbrew/perls/perl-5.14.2 -Duseithreads -Dusemultiplicity -Dusedevel -Accflags=-O2 -W -Wformat=2 -Wswitch -Wshadow -Wwrite-strings -Wuninitialized -Wall -pipe -mtune=native -march=native -Aeval:scriptdir=/Users/njh/perl5/perlbrew/perls/perl-5.14.2/bin'
    hint=recommended, useposix=true, d_sigaction=define
    useithreads=define, usemultiplicity=define
    useperlio=define, d_sfio=undef, uselargefiles=define, usesocks=undef
    use64bitint=define, use64bitall=define, uselongdouble=undef
    usemymalloc=n, bincompat5005=undef
  Compiler:
    cc='cc', ccflags ='-fno-common -DPERL_DARWIN -O2 -W -Wformat=2 -Wswitch -Wshadow -Wwrite-strings -Wuninitialized -Wall -pipe -mtune=native -march=native -fno-strict-aliasing -fstack-protector',
    optimize='-O3',
    cppflags='-fno-common -DPERL_DARWIN -O2 -W -Wformat=2 -Wswitch -Wshadow -Wwrite-strings -Wuninitialized -Wall -pipe -mtune=native -march=native -fno-strict-aliasing -fstack-protector'
    ccversion='', gccversion='4.2.1 Compatible Apple LLVM 5.1 (clang-503.0.40)', gccosandvers=''
    intsize=4, longsize=8, ptrsize=8, doublesize=8, byteorder=12345678
    d_longlong=define, longlongsize=8, d_longdbl=define, longdblsize=16
    ivtype='long', ivsize=8, nvtype='double', nvsize=8, Off_t='off_t', lseeksize=8
    alignbytes=8, prototype=define
  Linker and Libraries:
    ld='env MACOSX_DEPLOYMENT_TARGET=10.3 cc', ldflags =' -fstack-protector'
    libpth=/usr/lib
    libs=-ldbm -ldl -lm -lutil -lc
    perllibs=-ldl -lm -lutil -lc
    libc=, so=dylib, useshrplib=false, libperl=libperl.a
    gnulibc_version=''
  Dynamic Linking:
    dlsrc=dl_dlopen.xs, dlext=bundle, d_dlsymun=undef, ccdlflags=' '
    cccdlflags=' ', lddlflags=' -bundle -undefined dynamic_lookup -fstack-protector'


Characteristics of this binary (from libperl): 
  Compile-time options: MULTIPLICITY PERL_DONT_CREATE_GVSV
                        PERL_IMPLICIT_CONTEXT PERL_MALLOC_WRAP
                        PERL_PRESERVE_IVUV PERL_USE_DEVEL USE_64_BIT_ALL
                        USE_64_BIT_INT USE_ITHREADS USE_LARGE_FILES
                        USE_PERLIO USE_PERL_ATOF USE_REENTRANT_API
  Built under darwin
  Compiled at Sep 16 2014 20:43:26
  %ENV:
    PERL5LIB=""
    PERL5OPT=""
    PERL5_CPANPLUS_IS_RUNNING="3449"
    PERL5_CPAN_IS_RUNNING="3449"
    PERLBREW_BASHRC_VERSION="0.71"
    PERLBREW_HOME="/Users/njh/.perlbrew"
    PERLBREW_MANPATH="/Users/njh/perl5/perlbrew/perls/perl-5.14.2/man"
    PERLBREW_PATH="/Users/njh/perl5/perlbrew/bin:/Users/njh/perl5/perlbrew/perls/perl-5.14.2/bin"
    PERLBREW_PERL="perl-5.14.2"
    PERLBREW_ROOT="/Users/njh/perl5/perlbrew"
    PERLBREW_VERSION="0.71"
  @INC:
    /Users/njh/perl5/perlbrew/perls/perl-5.14.2/lib/site_perl/5.14.2/darwin-thread-multi-2level
    /Users/njh/perl5/perlbrew/perls/perl-5.14.2/lib/site_perl/5.14.2
    /Users/njh/perl5/perlbrew/perls/perl-5.14.2/lib/5.14.2/darwin-thread-multi-2level
    /Users/njh/perl5/perlbrew/perls/perl-5.14.2/lib/5.14.2
    .