Back
From: metabase:user:6970b1ae-1421-11e4-ab07-c64c76713efd
Subject: PASS MooseX-Types-DateTime-MoreCoercions-0.14 v5.16.2 Mac OS X
Date: 2014-09-12T02:16:16Z
This distribution has been tested as part of the CPAN Testers
project, supporting the Perl programming language. See
http://wiki.cpantesters.org/ for more information or email
questions to cpan-testers-discuss@perl.org
--
Dear Karen Etheridge,
This is a computer-generated report for MooseX-Types-DateTime-MoreCoercions-0.14
on perl 5.16.2, created by CPAN-Reporter-1.2011.
Thank you for uploading your work to CPAN. Congratulations!
All tests were successful.
Sections of this report:
* Tester comments
* Program output
* Prerequisites
* Environment and other context
------------------------------
TESTER COMMENTS
------------------------------
Additional comments from tester:
this report is from an automated smoke testing program
and was not reviewed by a human for accuracy
------------------------------
PROGRAM OUTPUT
------------------------------
Output from './Build test':
#
# Versions for all modules listed in MYMETA.json (including optional ones):
#
# === Configure Requires ===
#
# Module Want Have
# ------------------- ----- -----
# ExtUtils::MakeMaker any 6.98
# Module::Build::Tiny 0.037 0.038
#
# === Test Requires ===
#
# Module Want Have
# ------------------- ---- --------
# ExtUtils::MakeMaker any 6.98
# File::Spec any 3.47
# Test::Fatal any 0.013
# Test::More any 1.001006
# ok any 0.11
#
# === Test Recommends ===
#
# Module Want Have
# ---------- -------- --------
# CPAN::Meta 2.120900 2.142060
#
# === Runtime Requires ===
#
# Module Want Have
# ----------------------- ------ ------
# DateTime 0.4302 1.12
# DateTime::Duration 0.4302 1.12
# DateTimeX::Easy 0.085 0.089
# Dist::CheckConflicts any 0.11
# Moose 0.41 2.1211
# MooseX::Types 0.04 0.45
# MooseX::Types::DateTime 0.07 0.10
# MooseX::Types::Moose 0.04 0.45
# Time::Duration::Parse 0.06 0.11
# if any 0.0602
# namespace::clean 0.08 0.25
# strict any 1.07
# warnings any 1.13
#
t/00-report-prereqs.t .. ok
t/01_basic.t ........... ok
t/zzz-check-breaks.t ... ok
All tests successful.
Files=3, Tests=31, 6 wallclock secs ( 0.04 usr 0.01 sys + 5.35 cusr 0.23 csys = 5.63 CPU)
Result: PASS
------------------------------
PREREQUISITES
------------------------------
Prerequisite modules loaded:
requires:
Module Need Have
----------------------- ------ --------
DateTime 0.4302 1.12
DateTime::Duration 0.4302 1.12
DateTimeX::Easy 0.085 0.089
if 0 0.0602
Moose 0.41 2.1211
MooseX::Types 0.04 0.45
MooseX::Types::DateTime 0.07 0.10
MooseX::Types::Moose 0.04 0.45
namespace::clean 0.08 0.25
perl 5.006 5.016002
strict 0 1.07
Time::Duration::Parse 0.06 0.11
warnings 0 1.13
build_requires:
Module Need Have
----------------------- ------ --------
ExtUtils::MakeMaker 0 6.98
File::Spec 0 3.47
ok 0 0.11
Test::Fatal 0 0.013
Test::More 0 1.001006
configure_requires:
Module Need Have
----------------------- ------ --------
ExtUtils::MakeMaker 0 6.98
Module::Build::Tiny 0.037 0.038
------------------------------
ENVIRONMENT AND OTHER CONTEXT
------------------------------
Environment variables:
AUTOMATED_TESTING = 1
LANG = en_US.UTF-8
PATH = /usr/bin:/bin:/usr/sbin:/sbin:/usr/local/bin:/Users/dhorner/Downloads/adt-bundle-mac-x86_64-20140321/sdk/tools:/Users/dhorner/Downloads/adt-bundle-mac-x86_64-20140321/sdk/platform-tools
PERL5LIB =
PERL5OPT =
PERL5_CPANPLUS_IS_RUNNING = 59177
PERL5_CPAN_IS_RUNNING = 59177
PERL5_CPAN_IS_RUNNING_IN_RECURSION = 45740,59177
PERL_CR_SMOKER_CURRENT = MooseX-Types-DateTime-MoreCoercions-0.14
PERL_EXTUTILS_AUTOINSTALL = --defaultdeps
PERL_MM_USE_DEFAULT = 1
SHELL = /bin/bash
TERM = xterm-256color
VERSIONER_PERL_PREFER_32_BIT = no
VERSIONER_PERL_VERSION = 5.16
Perl special variables (and OS-specific diagnostics, for MSWin32):
$^X = /usr/bin/perl
$UID/$EUID = 0 / 0
$GID = 0 0 1 2 3 4 5 8 9 12 20 29 61 80 401 33 98 100 204 398 399
$EGID = 0 0 1 2 3 4 5 8 9 12 20 29 61 80 401 33 98 100 204 398 399
Perl module toolchain versions installed:
Module Have
------------------- --------
CPAN 2.05
CPAN::Meta 2.142060
Cwd 3.47
ExtUtils::CBuilder 0.280219
ExtUtils::Command 1.18
ExtUtils::Install 1.68
ExtUtils::MakeMaker 6.98
ExtUtils::Manifest 1.66
ExtUtils::ParseXS 3.24
File::Spec 3.47
JSON 2.90
JSON::PP 2.27203
Module::Build 0.4210
Module::Signature n/a
Parse::CPAN::Meta 1.4414
Test::Harness 3.33
Test::More 1.001006
YAML 1.11
YAML::Syck 1.27
version 0.9909
--
Summary of my perl5 (revision 5 version 16 subversion 2) configuration:
Platform:
osname=darwin, osvers=13.0, archname=darwin-thread-multi-2level
uname='darwin jackson.apple.com 13.0 darwin kernel version 13.0.0: tue jul 30 20:52:22 pdt 2013; root:xnu-2422.1.53~3release_x86_64 x86_64 '
config_args='-ds -e -Dprefix=/usr -Dccflags=-g -pipe -Dldflags= -Dman3ext=3pm -Duseithreads -Duseshrplib -Dinc_version_list=none -Dcc=cc'
hint=recommended, useposix=true, d_sigaction=define
useithreads=define, usemultiplicity=define
useperlio=define, d_sfio=undef, uselargefiles=define, usesocks=undef
use64bitint=define, use64bitall=define, uselongdouble=undef
usemymalloc=n, bincompat5005=undef
Compiler:
cc='cc', ccflags ='-arch x86_64 -arch i386 -g -pipe -fno-common -DPERL_DARWIN -fno-strict-aliasing -fstack-protector -I/usr/local/include',
optimize='-Os',
cppflags='-g -pipe -fno-common -DPERL_DARWIN -fno-strict-aliasing -fstack-protector -I/usr/local/include'
ccversion='', gccversion='4.2.1 Compatible Apple LLVM 5.0 (clang-500.0.68)', gccosandvers=''
intsize=4, longsize=8, ptrsize=8, doublesize=8, byteorder=12345678
d_longlong=define, longlongsize=8, d_longdbl=define, longdblsize=16
ivtype='long', ivsize=8, nvtype='double', nvsize=8, Off_t='off_t', lseeksize=8
alignbytes=8, prototype=define
Linker and Libraries:
ld='cc -mmacosx-version-min=10.9', ldflags ='-arch x86_64 -arch i386 -fstack-protector -L/usr/local/lib'
libpth=/usr/local/lib /usr/lib
libs=
perllibs=
libc=, so=dylib, useshrplib=true, libperl=libperl.dylib
gnulibc_version=''
Dynamic Linking:
dlsrc=dl_dlopen.xs, dlext=bundle, d_dlsymun=undef, ccdlflags=' '
cccdlflags=' ', lddlflags='-arch x86_64 -arch i386 -bundle -undefined dynamic_lookup -L/usr/local/lib -fstack-protector'
Characteristics of this binary (from libperl):
Compile-time options: HAS_TIMES MULTIPLICITY PERLIO_LAYERS
PERL_DONT_CREATE_GVSV PERL_IMPLICIT_CONTEXT
PERL_MALLOC_WRAP PERL_PRESERVE_IVUV USE_64_BIT_ALL
USE_64_BIT_INT USE_ITHREADS USE_LARGE_FILES
USE_LOCALE USE_LOCALE_COLLATE USE_LOCALE_CTYPE
USE_LOCALE_NUMERIC USE_PERLIO USE_PERL_ATOF
USE_REENTRANT_API
Locally applied patches:
/Library/Perl/Updates/<version> comes before system perl directories
installprivlib and installarchlib points to the Updates directory
CVE-2013-1667 hashtable DOS fix
Built under darwin
Compiled at Aug 25 2013 01:24:40
%ENV:
PERL5LIB=""
PERL5OPT=""
PERL5_CPANPLUS_IS_RUNNING="59177"
PERL5_CPAN_IS_RUNNING="59177"
PERL5_CPAN_IS_RUNNING_IN_RECURSION="45740,59177"
PERL_CR_SMOKER_CURRENT="MooseX-Types-DateTime-MoreCoercions-0.14"
PERL_EXTUTILS_AUTOINSTALL="--defaultdeps"
PERL_MM_USE_DEFAULT="1"
@INC:
/Library/Perl/5.16/darwin-thread-multi-2level
/Library/Perl/5.16
/Network/Library/Perl/5.16/darwin-thread-multi-2level
/Network/Library/Perl/5.16
/Library/Perl/Updates/5.16.2/darwin-thread-multi-2level
/Library/Perl/Updates/5.16.2
/System/Library/Perl/5.16/darwin-thread-multi-2level
/System/Library/Perl/5.16
/System/Library/Perl/Extras/5.16/darwin-thread-multi-2level
/System/Library/Perl/Extras/5.16
.