Report for String-Errf-0.007

Back
From: metabase:user:30977d10-2aae-11df-837a-5e0a49663a4f
Subject: PASS String-Errf-0.007 v5.22.1 
Date: 2016-03-19T03:53:48Z

This distribution has been tested as part of the CPAN Testers
project, supporting the Perl programming language.  See
http://wiki.cpantesters.org/ for more information or email
questions to cpan-testers-discuss@perl.org


--
Dear Ricardo SIGNES,

This is a computer-generated report for String-Errf-0.007
on perl 5.22.1, created by CPAN-Reporter-1.2015.

Thank you for uploading your work to CPAN.  Congratulations!
All tests were successful.

Sections of this report:

    * Tester comments
    * Program output
    * Prerequisites
    * Environment and other context

------------------------------
TESTER COMMENTS
------------------------------

Additional comments from tester:

none provided

------------------------------
PROGRAM OUTPUT
------------------------------

Output from 'C:\bin\dev\c\bin\dmake.exe test':

"C:\bin\dev\perl\bin\perl.exe" "-MExtUtils::Command::MM" "-MTest::Harness" "-e" "undef *Test::Harness::Switches; test_harness(0, 'blib\lib', 'blib\arch')" t/*.t
# 
# 
# Generated by Dist::Zilla::Plugin::ReportVersions::Tiny v1.10
# perl: 5.022001 (wanted any version) on MSWin32 from C:\bin\dev\perl\bin\perl.exe
# 
# Carp                                          => 1.38       (want any version)
# Date::Format                                  => 2.24       (want any version)
# ExtUtils::MakeMaker                           => 7.1        (want 6.30)   
# JSON                                          => 2.90       (want 2)      
# Params::Util                                  => 1.07       (want any version)
# Scalar::Util                                  => 1.42       (want any version)
# String::Formatter                             => 0.102084   (want 0.102081)
# Sub::Exporter                                 => 0.987      (want any version)
# Test::More                                    => 1.001014   (want 0.96)   
# Time::Piece                                   => 1.31       (want any version)
# autodie                                       => 2.29       (want any version)
# parent                                        => 0.234      (want any version)
# strict                                        => 1.09       (want any version)
# warnings                                      => 1.34       (want any version)
# 
# Thanks for using my code.  I hope it works for you.
# If not, please try and include this output in the bug report.
# That will help me reproduce the issue and solve your problem.
# 
t/000-report-versions-tiny.t .. ok
t/bad.t ....................... ok
t/basic.t ..................... ok
All tests successful.
Files=3, Tests=5,  1 wallclock secs ( 0.03 usr +  0.03 sys =  0.06 CPU)
Result: PASS

------------------------------
PREREQUISITES
------------------------------

Prerequisite modules loaded:

requires:

    Module              Need     Have    
    ------------------- -------- --------
    Carp                0        1.38    
    Params::Util        0        1.07    
    parent              0        0.234   
    Scalar::Util        0        1.42    
    strict              0        1.09    
    String::Formatter   0.102081 0.102084
    Sub::Exporter       0        0.987   
    Time::Piece         0        1.31    
    warnings            0        1.34    

build_requires:

    Module              Need     Have    
    ------------------- -------- --------
    autodie             0        2.29    
    Date::Format        0        2.24    
    JSON                2        2.90    
    Test::More          0.96     1.001014

configure_requires:

    Module              Need     Have    
    ------------------- -------- --------
    ExtUtils::MakeMaker 6.30     7.10    


------------------------------
ENVIRONMENT AND OTHER CONTEXT
------------------------------

Environment variables:

    COMSPEC = C:\WINDOWS\system32\cmd.exe
    NONINTERACTIVE_TESTING = 1
    NUMBER_OF_PROCESSORS = 8
    PATH = C:\Program Files\Far Manager\;C:\WINDOWS\system32;C:\WINDOWS;C:\WINDOWS\System32\Wbem;C:\WINDOWS\System32\WindowsPowerShell\v1.0\;C:\Program Files (x86)\NVIDIA Corporation\PhysX\Common;C:\Program Files (x86)\QuickTime\QTSystem\;C:\bin\dev\c\bin;C:\bin\dev\perl\site\bin;C:\bin\dev\perl\bin
    PERL5LIB = 
    PERL5OPT = 
    PERL5_CPANPLUS_IS_RUNNING = 11480
    PERL5_CPAN_IS_RUNNING = 11480
    PERL_MM_USE_DEFAULT = 1
    PROCESSOR_IDENTIFIER = Intel64 Family 6 Model 60 Stepping 3, GenuineIntel
    TEMP = C:\WINDOWS\TEMP

Perl special variables (and OS-specific diagnostics, for MSWin32):

    $^X = C:\bin\dev\perl\bin\perl.exe
    $UID/$EUID = 0 / 0
    $GID = 0
    $EGID = 0
    Win32::GetOSName = Win10
    Win32::GetOSVersion = , 10, 0, 10586, 2, 0, 0, 768, 1
    Win32::FsType = NTFS
    Win32::IsAdminUser = 1

Perl module toolchain versions installed:

    Module              Have    
    ------------------- --------
    CPAN                2.11    
    CPAN::Meta          2.150005
    Cwd                 3.60    
    ExtUtils::CBuilder  0.280224
    ExtUtils::Command   7.10    
    ExtUtils::Install   2.04    
    ExtUtils::MakeMaker 7.10    
    ExtUtils::Manifest  1.70    
    ExtUtils::ParseXS   3.30    
    File::Spec          3.60    
    JSON                2.90    
    JSON::PP            2.27300 
    Module::Build       0.4214  
    Module::Signature   0.79    
    Parse::CPAN::Meta   1.4417  
    Test::Harness       3.36    
    Test::More          1.001014
    YAML                1.15    
    YAML::Syck          n/a     
    version             0.9912  


--

Summary of my perl5 (revision 5 version 22 subversion 1) configuration:
   
  Platform:
    osname=MSWin32, osvers=6.3, archname=MSWin32-x64-multi-thread
    uname='Win32 strawberry-perl 5.22.1.2 #1 Wed Jan  6 19:19:42 2016 x64'
    config_args='undef'
    hint=recommended, useposix=true, d_sigaction=undef
    useithreads=define, usemultiplicity=define
    use64bitint=define, use64bitall=undef, uselongdouble=undef
    usemymalloc=n, bincompat5005=undef
  Compiler:
    cc='gcc', ccflags =' -s -O2 -DWIN32 -DWIN64 -DCONSERVATIVE  -DPERL_TEXTMODE_SCRIPTS -DPERL_IMPLICIT_CONTEXT -DPERL_IMPLICIT_SYS -fwrapv -fno-strict-aliasing -mms-bitfields',
    optimize='-s -O2',
    cppflags='-DWIN32'
    ccversion='', gccversion='4.9.2', gccosandvers=''
    intsize=4, longsize=4, ptrsize=8, doublesize=8, byteorder=12345678, doublekind=3
    d_longlong=define, longlongsize=8, d_longdbl=define, longdblsize=16, longdblkind=3
    ivtype='long long', ivsize=8, nvtype='double', nvsize=8, Off_t='long long', lseeksize=8
    alignbytes=8, prototype=define
  Linker and Libraries:
    ld='g++', ldflags ='-s -L"C:\bin\dev\perl\lib\CORE" -L"C:\bin\dev\c\lib"'
    libpth=C:\bin\dev\c\lib C:\bin\dev\c\x86_64-w64-mingw32\lib C:\bin\dev\c\lib\gcc\x86_64-w64-mingw32\4.9.2
    libs=-lmoldname -lkernel32 -luser32 -lgdi32 -lwinspool -lcomdlg32 -ladvapi32 -lshell32 -lole32 -loleaut32 -lnetapi32 -luuid -lws2_32 -lmpr -lwinmm -lversion -lodbc32 -lodbccp32 -lcomctl32
    perllibs=-lmoldname -lkernel32 -luser32 -lgdi32 -lwinspool -lcomdlg32 -ladvapi32 -lshell32 -lole32 -loleaut32 -lnetapi32 -luuid -lws2_32 -lmpr -lwinmm -lversion -lodbc32 -lodbccp32 -lcomctl32
    libc=, so=dll, useshrplib=true, libperl=libperl522.a
    gnulibc_version=''
  Dynamic Linking:
    dlsrc=dl_win32.xs, dlext=xs.dll, d_dlsymun=undef, ccdlflags=' '
    cccdlflags=' ', lddlflags='-mdll -s -L"C:\bin\dev\perl\lib\CORE" -L"C:\bin\dev\c\lib"'


Characteristics of this binary (from libperl): 
  Compile-time options: HAS_TIMES HAVE_INTERP_INTERN MULTIPLICITY
                        PERLIO_LAYERS PERL_DONT_CREATE_GVSV
                        PERL_HASH_FUNC_ONE_AT_A_TIME_HARD
                        PERL_IMPLICIT_CONTEXT PERL_IMPLICIT_SYS
                        PERL_MALLOC_WRAP PERL_NEW_COPY_ON_WRITE
                        PERL_PRESERVE_IVUV USE_64_BIT_INT USE_ITHREADS
                        USE_LARGE_FILES USE_LOCALE USE_LOCALE_COLLATE
                        USE_LOCALE_CTYPE USE_LOCALE_NUMERIC USE_LOCALE_TIME
                        USE_PERLIO USE_PERL_ATOF
  Built under MSWin32
  Compiled at Jan  6 2016 19:25:30
  %ENV:
    PERL5_CPANPLUS_IS_RUNNING="11480"
    PERL5_CPAN_IS_RUNNING="11480"
    PERL_MM_USE_DEFAULT="1"
  @INC:
    C:/bin/dev/perl/site/lib
    C:/bin/dev/perl/vendor/lib
    C:/bin/dev/perl/lib
    .