Back
From: metabase:user:314402c4-2aae-11df-837a-5e0a49663a4f
Subject: PASS WWW-Mechanize-Firefox-Extended-0.03 v5.21.11 FreeBSD
Date: 2015-05-20T03:39:10Z
This distribution has been tested as part of the CPAN Testers
project, supporting the Perl programming language. See
http://wiki.cpantesters.org/ for more information or email
questions to cpan-testers-discuss@perl.org
--
Dear Hoe-Kit Chew,
This is a computer-generated report for WWW-Mechanize-Firefox-Extended-0.03
on perl 5.21.11, created by CPAN-Reporter-1.2014.
Thank you for uploading your work to CPAN. Congratulations!
All tests were successful.
Sections of this report:
* Tester comments
* Program output
* Prerequisites
* Environment and other context
------------------------------
TESTER COMMENTS
------------------------------
Additional comments from tester:
none provided
------------------------------
PROGRAM OUTPUT
------------------------------
Output from '/usr/bin/make test':
PERL_DL_NONLAZY=1 "/usr/perl5.21.11p/bin/perl5.21.11" "-MExtUtils::Command::MM" "-MTest::Harness" "-e" "undef *Test::Harness::Switches; test_harness(0, 'blib/lib', 'blib/arch')" t/*.t
# Testing WWW::Mechanize::Firefox::Extended 0.03, Perl 5.021011
# AutoLoader 5.74
# Carp 1.36
# Config 5.021011
# DynaLoader 1.32
# Encode 2.73
# Encode::Alias 2.19
# Encode::Config 2.05
# Encode::Encoding 2.07
# Exporter 5.72
# Exporter::Heavy 5.72
# Fcntl 1.13
# File::Basename 2.85
# Firefox::Application 0.78
# HTML::Selector::XPath 0.18
# HTTP::Cookies 6.01
# HTTP::Cookies::MozRepl 0.78
# HTTP::Cookies::Netscape 6.00
# HTTP::Date 6.02
# HTTP::Headers 6.05
# HTTP::Headers::Util 6.03
# HTTP::Message 6.06
# HTTP::Request 6.00
# HTTP::Request::Common 6.04
# HTTP::Response 6.04
# HTTP::Status 6.03
# JSON 2.90
# JSON::XS 3.01
# List::Util 1.42
# Log::Agent 1
# Log::Agent::Formatting <unknown>
# Log::Agent::Message <unknown>
# Log::Agent::Priorities <unknown>
# MIME::Base64 3.15
# MozRepl::RemoteObject 0.39
# MozRepl::RemoteObject::Methods 0.39
# PerlIO 1.09
# Scalar::Util 1.42
# Storable 2.53
# Test::Builder 1.001014
# Test::Builder::Module 1.001014
# Test::More 1.001014
# Time::HiRes 1.9726
# Time::Local 1.2300
# Types::Serialiser 1.0
# URI 1.67
# URI::Escape 3.31
# WWW::Mechanize::Firefox 0.78
# WWW::Mechanize::Firefox::Extended 0.03
# WWW::Mechanize::Link <unknown>
# XSLoader 0.20
# attributes 0.27
# base 2.22
# bytes 1.04
# common::sense 3.73
# constant 1.33
# lib 0.63
# overload 1.25
# overloading 0.02
# parent 0.232
# strict 1.09
# vars 1.03
# warnings 1.32
# warnings::register 1.04
t/00-load.t ............. ok
t/10-hasAll-hasAny.t .... skipped: Couldn't connect to MozRepl: Failed to connect to , problem connecting to "localhost", port 4242: Connection refused at /usr/perl5.21.11p/lib/site_perl/5.21.11/MozRepl/Client.pm line 144
t/20-waitAll-waitAny.t .. skipped: Couldn't connect to MozRepl: Failed to connect to , problem connecting to "localhost", port 4242: Connection refused at /usr/perl5.21.11p/lib/site_perl/5.21.11/MozRepl/Client.pm line 144
t/manifest.t ............ skipped: Author tests not required for installation
t/pod.t ................. ok
All tests successful.
Files=5, Tests=3, 3 wallclock secs ( 0.12 usr 0.07 sys + 1.97 cusr 0.30 csys = 2.45 CPU)
Result: PASS
------------------------------
PREREQUISITES
------------------------------
Prerequisite modules loaded:
requires:
Module Need Have
----------------------- ----- --------
perl 5.006 5.021011
Time::HiRes 0 1.9726
WWW::Mechanize::Firefox 0 0.78
build_requires:
Module Need Have
----------------------- ----- --------
Test::More 0 1.001014
configure_requires:
Module Need Have
----------------------- ----- --------
ExtUtils::MakeMaker 0 7.04
------------------------------
ENVIRONMENT AND OTHER CONTEXT
------------------------------
Environment variables:
DBIC_NO_WARN_BAD_PERL = 1
LC_ALL = de_DE.ISO8859-1
PATH = /usr/local/bin:/usr/bin:/bin:/usr/local/sbin:/usr/sbin:/sbin:/home/cpansand/bin/freebsd10.0:/home/cpansand/bin/sh:/home/cpansand/bin:/usr/games:/home/cpansand/devel:/home/eserte/src/srezic-misc/scripts
PERL5LIB =
PERL5OPT =
PERL5_CPANPLUS_IS_RUNNING = 74631
PERL5_CPAN_IS_RUNNING = 74631
PERL5_CPAN_IS_RUNNING_IN_RECURSION = 74593,74631
PERLDOC = -MPod::Perldoc::ToTextOverstrike
PERL_BATCH = yes
PERL_CPAN_REPORTER_CONFIG = /var/tmp/cpansmoker-1023/cpanreporter_000_config.ini
PERL_EXTUTILS_AUTOINSTALL = --defaultdeps
PERL_HTML_DISPLAY_CLASS = HTML::Display::Mozilla
SHELL = /usr/local/bin/zsh
TERM = screen
TMPDIR = /var/tmp/cpansmoker-1023
Perl special variables (and OS-specific diagnostics, for MSWin32):
$^X = /usr/perl5.21.11p/bin/perl5.21.11
$UID/$EUID = 1023 / 1023
$GID = 1023 1023
$EGID = 1023 1023
Perl module toolchain versions installed:
Module Have
------------------- --------
CPAN 2.11
CPAN::Meta 2.150001
Cwd 3.56
ExtUtils::CBuilder 0.280221
ExtUtils::Command 1.20
ExtUtils::Install 2.04
ExtUtils::MakeMaker 7.04
ExtUtils::Manifest 1.70
ExtUtils::ParseXS 3.28
File::Spec 3.56
JSON 2.90
JSON::PP 2.27300
Module::Build 0.4212
Module::Signature 0.79
Parse::CPAN::Meta 1.4414
Test::Harness 3.35
Test::More 1.001014
YAML 1.15
YAML::Syck 1.29
version 0.9909
--
Summary of my perl5 (revision 5 version 21 subversion 11) configuration:
Platform:
osname=freebsd, osvers=10.1-release, archname=amd64-freebsd
uname='freebsd cvrsnica-freebsd-101.herceg.de 10.1-release freebsd 10.1-release #0 r274401: tue nov 11 21:02:49 utc 2014 root@releng1.nyi.freebsd.org:usrobjusrsrcsysgeneric amd64 '
config_args='-ds -e -Dprefix=/usr/perl5.21.11p -Dusedevel -Dusemallocwrap=no -Dcf_email=srezic@cpan.org'
hint=recommended, useposix=true, d_sigaction=define
useithreads=undef, usemultiplicity=undef
use64bitint=define, use64bitall=define, uselongdouble=undef
usemymalloc=n, bincompat5005=undef
Compiler:
cc='cc', ccflags ='-DHAS_FPSETMASK -DHAS_FLOATINGPOINT_H -fno-strict-aliasing -pipe -fstack-protector -I/usr/local/include -D_FORTIFY_SOURCE=2',
optimize='-O',
cppflags='-DHAS_FPSETMASK -DHAS_FLOATINGPOINT_H -fno-strict-aliasing -pipe -fstack-protector -I/usr/local/include'
ccversion='', gccversion='4.2.1 Compatible FreeBSD Clang 3.4.1 (tags/RELEASE_34/dot1-final 208032)', gccosandvers=''
intsize=4, longsize=8, ptrsize=8, doublesize=8, byteorder=12345678, doublekind=3
d_longlong=define, longlongsize=8, d_longdbl=define, longdblsize=16, longdblkind=3
ivtype='long', ivsize=8, nvtype='double', nvsize=8, Off_t='off_t', lseeksize=8
alignbytes=8, prototype=define
Linker and Libraries:
ld='cc', ldflags ='-pthread -Wl,-E -fstack-protector -L/usr/local/lib'
libpth=/usr/lib /usr/local/lib /usr/include/clang/3.4.1 /usr/lib
libs=-lpthread -lgdbm -lm -lcrypt -lutil -lc
perllibs=-lpthread -lm -lcrypt -lutil -lc
libc=, so=so, useshrplib=false, libperl=libperl.a
gnulibc_version=''
Dynamic Linking:
dlsrc=dl_dlopen.xs, dlext=so, d_dlsymun=undef, ccdlflags=' '
cccdlflags='-DPIC -fPIC', lddlflags='-shared -L/usr/local/lib -fstack-protector'
Characteristics of this binary (from libperl):
Compile-time options: HAS_TIMES PERLIO_LAYERS PERL_DONT_CREATE_GVSV
PERL_HASH_FUNC_ONE_AT_A_TIME_HARD
PERL_NEW_COPY_ON_WRITE PERL_PRESERVE_IVUV
PERL_USE_DEVEL USE_64_BIT_ALL USE_64_BIT_INT
USE_LARGE_FILES USE_LOCALE USE_LOCALE_COLLATE
USE_LOCALE_CTYPE USE_LOCALE_NUMERIC USE_LOCALE_TIME
USE_PERLIO USE_PERL_ATOF
Built under freebsd
Compiled at Apr 21 2015 02:47:11
%ENV:
PERL5LIB=""
PERL5OPT=""
PERL5_CPANPLUS_IS_RUNNING="74631"
PERL5_CPAN_IS_RUNNING="74631"
PERL5_CPAN_IS_RUNNING_IN_RECURSION="74593,74631"
PERLDOC="-MPod::Perldoc::ToTextOverstrike"
PERL_BATCH="yes"
PERL_CPAN_REPORTER_CONFIG="/var/tmp/cpansmoker-1023/cpanreporter_000_config.ini"
PERL_EXTUTILS_AUTOINSTALL="--defaultdeps"
PERL_HTML_DISPLAY_CLASS="HTML::Display::Mozilla"
@INC:
/usr/perl5.21.11p/lib/site_perl/5.21.11/amd64-freebsd
/usr/perl5.21.11p/lib/site_perl/5.21.11
/usr/perl5.21.11p/lib/5.21.11/amd64-freebsd
/usr/perl5.21.11p/lib/5.21.11
.