Report for Template-Plugin-Bootstrap-Pagination-0.002000

Back
From: metabase:user:30f4dfbe-2aae-11df-837a-5e0a49663a4f
Subject: PASS Template-Plugin-Bootstrap-Pagination-0.002000 v5.14.2 Mac OS X
Date: 2014-11-11T08:50:24Z

This distribution has been tested as part of the CPAN Testers
project, supporting the Perl programming language.  See
http://wiki.cpantesters.org/ for more information or email
questions to cpan-testers-discuss@perl.org


--
Dear Manfred Stock,

This is a computer-generated report for Template-Plugin-Bootstrap-Pagination-0.002000
on perl 5.14.2, created by CPAN-Reporter-1.2011.

Thank you for uploading your work to CPAN.  Congratulations!
All tests were successful.

Sections of this report:

    * Tester comments
    * Program output
    * Prerequisites
    * Environment and other context

------------------------------
TESTER COMMENTS
------------------------------

Additional comments from tester:

this report is from an automated smoke testing program
and was not reviewed by a human for accuracy

------------------------------
PROGRAM OUTPUT
------------------------------

Output from './Build test':

t/00-compile.t ............................ ok
# 
# 
# Generated by Dist::Zilla::Plugin::ReportVersions::Tiny v1.10
# perl: 5.014002 (wanted any version) on darwin from /Users/hornenj/perl5/perlbrew/perls/perl-5.14.2/bin/perl
# 
# Carp                                          => 1.3301     (want any version)
# Data::Page                                    => 2.02       (want any version)
# File::Find                                    => 1.19       (want any version)
# File::Temp                                    => 0.2304     (want any version)
# HTML::Entities                                => 3.69       (want any version)
# MRO::Compat                                   => 0.12       (want any version)
# Module::Build                                 => 0.421      (want 0.3601) 
# Scalar::Util                                  => 1.41       (want any version)
# Template                                      => 2.26       (want any version)
# Template::Exception                           => 2.7        (want any version)
# Template::Plugin                              => 2.7        (want any version)
# Test::Exception                               => 0.35       (want any version)
# Test::More                                    => 1.001009   (want 0.94)   
# parent                                        => 0.228      (want any version)
# strict                                        => 1.04       (want any version)
# warnings                                      => 1.12       (want any version)
# 
# Thanks for using my code.  I hope it works for you.
# If not, please try and include this output in the bug report.
# That will help me reproduce the issue and solve your problem.
# 
t/000-report-versions-tiny.t .............. ok
t/author-critic.t ......................... skipped: these tests are for testing by the author
t/author-test-eol.t ....................... skipped: these tests are for testing by the author
t/release-cpan-changes.t .................. skipped: these tests are for release candidate testing
t/release-distmeta.t ...................... skipped: these tests are for release candidate testing
t/release-pod-coverage.t .................. skipped: these tests are for release candidate testing
t/release-pod-syntax.t .................... skipped: these tests are for release candidate testing
t/template.plugin.bootstrap.pagination.t .. ok
All tests successful.
Files=9, Tests=12,  0 wallclock secs ( 0.03 usr  0.01 sys +  0.32 cusr  0.05 csys =  0.41 CPU)
Result: PASS

------------------------------
PREREQUISITES
------------------------------

Prerequisite modules loaded:

requires:

    Module              Need   Have    
    ------------------- ------ --------
    Carp                0      1.3301  
    HTML::Entities      0      3.69    
    MRO::Compat         0      0.12    
    parent              0      0.228   
    Scalar::Util        0      1.41    
    strict              0      1.04    
    Template::Exception 0      2.7     
    Template::Plugin    0      2.7     
    warnings            0      1.12    

build_requires:

    Module              Need   Have    
    ------------------- ------ --------
    Data::Page          0      2.02    
    File::Find          0      1.19    
    File::Temp          0      0.2304  
    Module::Build       0.3601 0.4210  
    Template            0      2.26    
    Test::Exception     0      0.35    
    Test::More          0.94   1.001009

configure_requires:

    Module              Need   Have    
    ------------------- ------ --------
    Module::Build       0.3601 0.4210  


------------------------------
ENVIRONMENT AND OTHER CONTEXT
------------------------------

Environment variables:

    AUTOMATED_TESTING = 1
    LANG = en_US.UTF-8
    LC_ALL = POSIX
    LD_LIBRARY_PATH = :/net/traces01.be-md.ncbi.nlm.nih.gov/trace_software/vdb/mac/release/x86_64/lib
    PATH = /Users/hornenj/perl5/perlbrew/bin:/Users/hornenj/perl5/perlbrew/perls/perl-5.21.4/bin:/Users/hornenj/perl5/perlbrew/bin:/Users/hornenj/perl5/perlbrew/perls/perl-5.14.2/bin:/Users/hornenj/bin:/sw/lib/perl5/ExtUtils:/sw/bin:/am/ncbiapdata/bin:/usr/bin:/bin:/usr/X11R6/bin:/netopt/ncbi_tools/bin:/usr/local/ncbi/blast/bin:/net/traces01.be-md.ncbi.nlm.nih.gov/trace_software/vdb/mac/release/x86_64/bin
    PERL5LIB = /Users/hornenj/.cpan/build/Data-Page-2.02-jmVrQE/blib/arch:/Users/hornenj/.cpan/build/Data-Page-2.02-jmVrQE/blib/lib
    PERL5OPT = 
    PERL5_CPANPLUS_IS_RUNNING = 84002
    PERL5_CPAN_IS_RUNNING = 84002
    PERL5_MINISMOKEBOX = 0.58
    PERLBREW_BASHRC_VERSION = 0.69
    PERLBREW_HOME = /Users/hornenj/.perlbrew
    PERLBREW_MANPATH = /Users/hornenj/perl5/perlbrew/perls/perl-5.21.4/man
    PERLBREW_PATH = /Users/hornenj/perl5/perlbrew/bin:/Users/hornenj/perl5/perlbrew/perls/perl-5.21.4/bin
    PERLBREW_PERL = perl-5.21.4
    PERLBREW_ROOT = /Users/hornenj/perl5/perlbrew
    PERLBREW_VERSION = 0.69
    PERL_EXTUTILS_AUTOINSTALL = --defaultdeps
    PERL_MM_USE_DEFAULT = 1
    SHELL = /bin/bash
    TERM = xterm-256color
    TMPDIR = /var/folders/pz/pd7y1qjs6s3cbk170cw50fjc000c61/T/
    VERSIONER_PERL_PREFER_32_BIT = no
    VERSIONER_PERL_VERSION = 5.16
    ac_cv_path_INTLTOOL_PERL = /usr/bin/perl

Perl special variables (and OS-specific diagnostics, for MSWin32):

    $^X = /Users/hornenj/perl5/perlbrew/perls/perl-5.14.2/bin/perl
    $UID/$EUID = 12481 / 12481
    $GID = 14 14 5344 527 241
    $EGID = 14 14 5344 527 241

Perl module toolchain versions installed:

    Module              Have    
    ------------------- --------
    CPAN                2.05    
    CPAN::Meta          2.142690
    Cwd                 3.47    
    ExtUtils::CBuilder  0.280220
    ExtUtils::Command   1.18    
    ExtUtils::Install   2.04    
    ExtUtils::MakeMaker 7.02    
    ExtUtils::Manifest  1.68    
    ExtUtils::ParseXS   3.24    
    File::Spec          3.47    
    JSON                2.90    
    JSON::PP            2.27300 
    Module::Build       0.4210  
    Module::Signature   n/a     
    Parse::CPAN::Meta   1.4414  
    Test::Harness       3.34    
    Test::More          1.001009
    YAML                1.13    
    YAML::Syck          1.27    
    version             0.9909  


--

Summary of my perl5 (revision 5 version 14 subversion 2) configuration:
   
  Platform:
    osname=darwin, osvers=12.5.0, archname=darwin-thread-multi-2level
    uname='darwin ncbimac2008.ncbi.nlm.nih.gov 12.5.0 darwin kernel version 12.5.0: sun sep 29 13:33:47 pdt 2013; root:xnu-2050.48.12~1release_x86_64 x86_64 '
    config_args='-de -Dprefix=/Users/hornenj/perl5/perlbrew/perls/perl-5.14.2 -Duseithreads -Dusemultiplicity -Accflags=-O2 -W -Wformat=2 -Wswitch -Wshadow -Wwrite-strings -Wuninitialized -Wall -pipe -mtune=native -march=native -fomit-frame-pointer -msse2 -msse -mmmx -pedantic -D_FORTIFY_SOURCE=2 -Wpointer-arith -Wstrict-prototypes -fstack-protector -Wstack-protector -Wextra -Wbad-function-cast -Wcast-align -Wcast-qual -Wdisabled-optimization -Wendif-labels -Wfloat-equal -Wformat-nonliteral -Winline -Wmissing-declarations -Wmissing-prototypes -Wnested-externs -Wpointer-arith -Wundef -Wformat-security -fassociative-math -Acc=cc -Aeval:scriptdir=/Users/hornenj/perl5/perlbrew/perls/perl-5.14.2/bin'
    hint=recommended, useposix=true, d_sigaction=define
    useithreads=define, usemultiplicity=define
    useperlio=define, d_sfio=undef, uselargefiles=define, usesocks=undef
    use64bitint=define, use64bitall=define, uselongdouble=undef
    usemymalloc=n, bincompat5005=undef
  Compiler:
    cc=' cc', ccflags ='-fno-common -DPERL_DARWIN -O2 -W -Wformat=2 -Wswitch -Wshadow -Wwrite-strings -Wuninitialized -Wall -pipe -mtune=native -march=native -fomit-frame-pointer -msse2 -msse -mmmx -pedantic -D_FORTIFY_SOURCE=2 -Wpointer-arith -Wstrict-prototypes -fstack-protector -Wstack-protector -Wextra -Wbad-function-cast -Wcast-align -Wcast-qual -Wdisabled-optimization -Wendif-labels -Wfloat-equal -Wformat-nonliteral -Winline -Wmissing-declarations -Wmissing-prototypes -Wnested-externs -Wpointer-arith -Wundef -Wformat-security -fassociative-math -fno-strict-aliasing -I/usr/local/include',
    optimize='-O3',
    cppflags='-fno-common -DPERL_DARWIN -O2 -W -Wformat=2 -Wswitch -Wshadow -Wwrite-strings -Wuninitialized -Wall -pipe -mtune=native -march=native -fomit-frame-pointer -msse2 -msse -mmmx -pedantic -D_FORTIFY_SOURCE=2 -Wpointer-arith -Wstrict-prototypes -fstack-protector -Wstack-protector -Wextra -Wbad-function-cast -Wcast-align -Wcast-qual -Wdisabled-optimization -Wendif-labels -Wfloat-equal -Wformat-nonliteral -Winline -Wmissing-declarations -Wmissing-prototypes -Wnested-externs -Wpointer-arith -Wundef -Wformat-security -fassociative-math -fno-strict-aliasing -I/usr/local/include'
    ccversion='', gccversion='4.2.1 Compatible Apple LLVM 4.2 (clang-425.0.24)', gccosandvers=''
    intsize=4, longsize=8, ptrsize=8, doublesize=8, byteorder=12345678
    d_longlong=define, longlongsize=8, d_longdbl=define, longdblsize=16
    ivtype='long', ivsize=8, nvtype='double', nvsize=8, Off_t='off_t', lseeksize=8
    alignbytes=8, prototype=define
  Linker and Libraries:
    ld='env MACOSX_DEPLOYMENT_TARGET=10.3 cc', ldflags =' -fstack-protector -L/usr/local/lib'
    libpth=/usr/local/lib /usr/lib
    libs=-ldbm -ldl -lm -lutil -lc
    perllibs=-ldl -lm -lutil -lc
    libc=, so=dylib, useshrplib=false, libperl=libperl.a
    gnulibc_version=''
  Dynamic Linking:
    dlsrc=dl_dlopen.xs, dlext=bundle, d_dlsymun=undef, ccdlflags=' '
    cccdlflags=' ', lddlflags=' -bundle -undefined dynamic_lookup -L/usr/local/lib -fstack-protector'


Characteristics of this binary (from libperl): 
  Compile-time options: MULTIPLICITY PERL_DONT_CREATE_GVSV
                        PERL_IMPLICIT_CONTEXT PERL_MALLOC_WRAP
                        PERL_PRESERVE_IVUV USE_64_BIT_ALL USE_64_BIT_INT
                        USE_ITHREADS USE_LARGE_FILES USE_PERLIO USE_PERL_ATOF
                        USE_REENTRANT_API
  Built under darwin
  Compiled at Sep 15 2014 09:56:44
  %ENV:
    PERL5LIB="/Users/hornenj/.cpan/build/Data-Page-2.02-jmVrQE/blib/arch:/Users/hornenj/.cpan/build/Data-Page-2.02-jmVrQE/blib/lib"
    PERL5OPT=""
    PERL5_CPANPLUS_IS_RUNNING="84002"
    PERL5_CPAN_IS_RUNNING="84002"
    PERL5_MINISMOKEBOX="0.58"
    PERLBREW_BASHRC_VERSION="0.69"
    PERLBREW_HOME="/Users/hornenj/.perlbrew"
    PERLBREW_MANPATH="/Users/hornenj/perl5/perlbrew/perls/perl-5.21.4/man"
    PERLBREW_PATH="/Users/hornenj/perl5/perlbrew/bin:/Users/hornenj/perl5/perlbrew/perls/perl-5.21.4/bin"
    PERLBREW_PERL="perl-5.21.4"
    PERLBREW_ROOT="/Users/hornenj/perl5/perlbrew"
    PERLBREW_VERSION="0.69"
    PERL_EXTUTILS_AUTOINSTALL="--defaultdeps"
    PERL_MM_USE_DEFAULT="1"
  @INC:
    /Users/hornenj/.cpan/build/Data-Page-2.02-jmVrQE/blib/arch
    /Users/hornenj/.cpan/build/Data-Page-2.02-jmVrQE/blib/lib
    /Users/hornenj/perl5/perlbrew/perls/perl-5.14.2/lib/site_perl/5.14.2/darwin-thread-multi-2level
    /Users/hornenj/perl5/perlbrew/perls/perl-5.14.2/lib/site_perl/5.14.2
    /Users/hornenj/perl5/perlbrew/perls/perl-5.14.2/lib/5.14.2/darwin-thread-multi-2level
    /Users/hornenj/perl5/perlbrew/perls/perl-5.14.2/lib/5.14.2
    .