Report for Thread-Queue-3.02

Back
From: metabase:user:322078bc-2aae-11df-837a-5e0a49663a4f
Subject: PASS Thread-Queue-3.02 v5.12.4 Windows (Cygwin)
Date: 2013-02-22T09:25:20Z

This distribution has been tested as part of the CPAN Testers
project, supporting the Perl programming language.  See
http://wiki.cpantesters.org/ for more information or email
questions to cpan-testers-discuss@perl.org


--

Dear JDHEDDEN,

This is a computer-generated error report created automatically by
CPANPLUS, version 0.9134. Testers personal comments may appear
at the end of this report.


Thank you for uploading your work to CPAN.  Congratulations!
All tests were successful.

TEST RESULTS:

Below is the error stack from stage 'make test':

PERL_DL_NONLAZY=1 /home/cwill1is/perl-5.12.4/bin/perl.exe "-MExtUtils::Command::MM" "-e" "test_harness(0, 'blib/lib', 'blib/arch')" t/*.t
t/00_load.t ....... ok
# Testing Thread::Queue 3.02
t/01_basic.t ...... ok
t/02_refs.t ....... ok
t/03_peek.t ....... ok
t/04_errs.t ....... ok
t/05_extract.t .... ok
t/06_insert.t ..... ok
t/07_lock.t ....... ok
t/08_nothreads.t .. ok
t/09_ended.t ...... ok
t/10_timed.t ...... ok
t/99_pod.t ........ skipped: Module maintainer tests
All tests successful.
Files=12, Tests=323, 27 wallclock secs ( 0.06 usr  0.02 sys +  0.87 cusr  0.44 csys =  1.39 CPU)
Result: PASS


PREREQUISITES:

Here is a list of prerequisites you specified and versions we
managed to load:

	  Module Name                        Have     Want
	  ExtUtils::MakeMaker                6.64        0
	  Scalar::Util                       1.27      1.1
	  Test::More                         0.98      0.5
	  Thread::Semaphore                  2.12        0
	  threads::shared                    1.43     1.21

Perl module toolchain versions installed:
	Module Name                        Have
	CPANPLUS                         0.9134
	CPANPLUS::Dist::Build              0.70
	Cwd                                3.40
	ExtUtils::CBuilder             0.280205
	ExtUtils::Command                  1.17
	ExtUtils::Install                  1.55
	ExtUtils::MakeMaker                6.64
	ExtUtils::Manifest                 1.61
	ExtUtils::ParseXS                  3.18
	File::Spec                         3.40
	Module::Build                    0.4003
	Pod::Parser                        1.60
	Pod::Simple                        3.25
	Test::Harness                      3.26
	Test::More                         0.98
	version                          0.9901

******************************** NOTE ********************************
The comments above are created mechanically, possibly without manual
checking by the sender.  As there are many people performing automatic
tests on each upload to CPAN, it is likely that you will receive
identical messages about the same problem.

If you believe that the message is mistaken, please reply to the first
one with correction and/or additional informations, and do not take
it personally.  We appreciate your patience. :)
**********************************************************************

Additional comments:


This report was machine-generated by CPANPLUS::Dist::YACSmoke 0.84.

------------------------------
ENVIRONMENT AND OTHER CONTEXT
------------------------------

Environment variables:

    AUTOMATED_TESTING = 1
    COMSPEC = C:\WINDOWS\system32\cmd.exe
    LANG = en_US.UTF-8
    PATH = /home/cwill1is/perl-5.12.4/bin:/usr/local/bin:/usr/bin:/cygdrive/c/WINDOWS/system32:/cygdrive/c/WINDOWS:/cygdrive/c/WINDOWS/System32/Wbem:/cygdrive/c/strawberry/c/bin:/cygdrive/c/strawberry/perl/site/bin:/cygdrive/c/strawberry/perl/bin:/bin
    PERL5LIB = :/home/cwill1is/.cpanplus/5.12.4/build/Thread-Queue-3.02/blib/lib:/home/cwill1is/.cpanplus/5.12.4/build/Thread-Queue-3.02/blib/arch
    PERL5_CPANIDX_URL = http://cpan.mirror.local/cpanidx/
    PERL5_CPANPLUS_IS_RUNNING = 3920
    PERL5_CPANPLUS_IS_VERSION = 0.9134
    PERL_EXTUTILS_AUTOINSTALL = --defaultdeps
    PERL_MM_USE_DEFAULT = 1
    SHELL = /bin/bash
    TERM = xterm

Perl special variables (and OS-specific diagnostics, for MSWin32):

    Perl: $^X = /home/cwill1is/perl-5.12.4/bin/perl
    UID:  $<  = 11964
    EUID: $>  = 11964
    GID:  $(  = 10513 0 544 545 10513
    EGID: $)  = 10513 0 544 545 10513


-------------------------------


--

Summary of my perl5 (revision 5 version 12 subversion 4) configuration:
   
  Platform:
    osname=cygwin, osvers=1.7.9(0.23753), archname=cygwin-thread-multi-64int
    uname='cygwin_nt-5.2 citu003v 1.7.9(0.23753) 2011-03-29 10:10 i686 cygwin '
    config_args='-des -Dprefix=/home/cwill1is/perl-5.12.4 -Dusethreads -Duse64bitint'
    hint=recommended, useposix=true, d_sigaction=define
    useithreads=define, usemultiplicity=define
    useperlio=define, d_sfio=undef, uselargefiles=define, usesocks=undef
    use64bitint=define, use64bitall=undef, uselongdouble=undef
    usemymalloc=y, bincompat5005=undef
  Compiler:
    cc='gcc', ccflags ='-DPERL_USE_SAFE_PUTENV -U__STRICT_ANSI__ -fno-strict-aliasing -pipe -fstack-protector',
    optimize='-O3',
    cppflags='-DPERL_USE_SAFE_PUTENV -U__STRICT_ANSI__ -fno-strict-aliasing -pipe -fstack-protector'
    ccversion='', gccversion='4.3.4 20090804 (release) 1', gccosandvers=''
    intsize=4, longsize=4, ptrsize=4, doublesize=8, byteorder=12345678
    d_longlong=define, longlongsize=8, d_longdbl=define, longdblsize=12
    ivtype='long long', ivsize=8, nvtype='double', nvsize=8, Off_t='off_t', lseeksize=8
    alignbytes=8, prototype=define
  Linker and Libraries:
    ld='g++', ldflags =' -Wl,--enable-auto-import -Wl,--export-all-symbols -Wl,--stack,8388608 -Wl,--enable-auto-image-base -fstack-protector -L/usr/local/lib'
    libpth=/usr/local/lib /usr/lib /lib
    libs=-lgdbm -ldb -ldl -lcrypt -lgdbm_compat
    perllibs=-ldl -lcrypt
    libc=/usr/lib/libc.a, so=dll, useshrplib=true, libperl=cygperl5_12_4.dll
    gnulibc_version=''
  Dynamic Linking:
    dlsrc=dl_dlopen.xs, dlext=dll, d_dlsymun=undef, ccdlflags=' '
    cccdlflags=' ', lddlflags=' --shared  -Wl,--enable-auto-import -Wl,--export-all-symbols -Wl,--stack,8388608 -Wl,--enable-auto-image-base -L/usr/local/lib -fstack-protector'


Characteristics of this binary (from libperl): 
  Compile-time options: MULTIPLICITY MYMALLOC PERL_DONT_CREATE_GVSV
                        PERL_IMPLICIT_CONTEXT PERL_USE_SAFE_PUTENV
                        USE_64_BIT_INT USE_ITHREADS USE_LARGE_FILES
                        USE_PERLIO USE_PERL_ATOF USE_REENTRANT_API
  Built under cygwin
  Compiled at Jun 29 2011 15:24:57
  %ENV:
    PERL5LIB=":/home/cwill1is/.cpanplus/5.12.4/build/Thread-Queue-3.02/blib/lib:/home/cwill1is/.cpanplus/5.12.4/build/Thread-Queue-3.02/blib/arch"
    PERL5_CPANIDX_URL="http://cpan.mirror.local/cpanidx/"
    PERL5_CPANPLUS_IS_RUNNING="3920"
    PERL5_CPANPLUS_IS_VERSION="0.9134"
    PERL_EXTUTILS_AUTOINSTALL="--defaultdeps"
    PERL_MM_USE_DEFAULT="1"
    CYGWIN=""
  @INC:
    /home/cwill1is/.cpanplus/5.12.4/build/Thread-Queue-3.02/blib/lib
    /home/cwill1is/.cpanplus/5.12.4/build/Thread-Queue-3.02/blib/arch
    /home/cwill1is/perl-5.12.4/lib/site_perl/5.12.4/cygwin-thread-multi-64int
    /home/cwill1is/perl-5.12.4/lib/site_perl/5.12.4
    /home/cwill1is/perl-5.12.4/lib/5.12.4/cygwin-thread-multi-64int
    /home/cwill1is/perl-5.12.4/lib/5.12.4
    .