Smart-Comments v1.0.4 Perl 5 v5.10.1 MSWin32-x86-multi-thread

Status
Pass
From
Apocalypse (APOCAL)
Dist
Smart-Comments v1.0.4
Platform
Perl 5 v5.10.1 MSWin32-x86-multi-thread
Date
2010-04-28 09:23:59
ID
c6f11afc-52a7-11df-a5d8-c5537b45d684
This distribution has been tested as part of the CPAN Testers
project, supporting the Perl programming language.  See
http://wiki.cpantesters.org/ for more information or email
questions to cpan-testers-discuss@perl.org


--

Dear Alexandr Ciornii,
    
This is a computer-generated error report created automatically by
CPANPLUS, version 0.9003. Testers personal comments may appear 
at the end of this report.

MAKE TEST passed:
# Testing Smart::Comments 1.0.4
t\00.load.t ................. ok
t\ENV_0.t ................... ok
t\ENV_1.t ................... ok
t\ENV_str.t ................. ok
t\assert.t .................. ok
t\brackets.t ................ ok
t\c_like_for_loop.t ......... ok
t\check.t ................... ok
t\confirm.t ................. ok
t\ensure.t .................. ok
t\insist.t .................. ok
t\labelled_perlish_loop.t ... ok
t\message.t ................. ok
t\perlish_for.t ............. ok
t\perlish_for_percentage.t .. ok
t\pod-coverage.t ............ skipped: Test::Pod::Coverage 1.04 required for testing POD coverage
t\pod.t ..................... skipped: Test::Pod 1.14 required for testing POD
t\require.t ................. ok
t\selective.t ............... ok
t\simple_perlish_for.t ...... ok
t\var.t ..................... ok
t\verify.t .................. ok
t\while.t ................... ok
t\while_num.t ............... ok
All tests successful.
Files=24, Tests=119,  3 wallclock secs ( 0.19 usr +  0.03 sys =  0.22 CPU)
Result: PASS

[MSG] [Wed Apr 28 02:23:46 2010] Sending test report for 'Smart-Comments-1.0.4'

This report was machine-generated by CPANPLUS::Dist::YACSmoke 0.54.

------------------------------
ENVIRONMENT AND OTHER CONTEXT
------------------------------

Environment variables:

    AUTOMATED_TESTING = 1
    COMSPEC = C:\WINDOWS\system32\cmd.exe
    NUMBER_OF_PROCESSORS = 2
    PATH = C:\WINDOWS\system32;C:\WINDOWS;C:\WINDOWS\System32\Wbem;c:\Program Files\ATI Technologies\ATI.ACE\Core-Static;C:\WINDOWS\system32\WindowsPowerShell\v1.0;C:\strawberry\c\bin;C:\strawberry\perl\bin
    PERL5LIB = ;C:\cpansmoke\cpanp_conf\strawberry_perl_5.10.1.1_default\.cpanplus\5.10.1\build\Smart-Comments-1.0.4\blib\lib;C:\cpansmoke\cpanp_conf\strawberry_perl_5.10.1.1_default\.cpanplus\5.10.1\build\Smart-Comments-1.0.4\blib\arch
    PERL5_CPANIDX_URL = http://192.168.0.200:11110/CPANIDX/
    PERL5_CPANPLUS_IS_RUNNING = 2576
    PERL5_CPANPLUS_IS_VERSION = 0.9003
    PERL5_YACSMOKE_BASE = C:\cpansmoke\cpanp_conf\strawberry_perl_5.10.1.1_default
    PERL_CPANSMOKER_HOST = strawberry_perl_5.10.1.1_default / Windows XP 32bit
    PERL_EXTUTILS_AUTOINSTALL = --defaultdeps
    PERL_MM_USE_DEFAULT = 1
    PROCESSOR_IDENTIFIER = x86 Family 6 Model 15 Stepping 13, GenuineIntel
    TERM = dumb

Perl special variables (and OS-specific diagnostics, for MSWin32):

    Perl: $^X = C:\strawberry\perl\bin\perl.exe
    UID:  $<  = 0
    EUID: $>  = 0
    GID:  $(  = 0
    EGID: $)  = 0
    Win32::GetOSName = WinXP/.Net
    Win32::GetOSVersion = Service Pack 3, 5, 1, 2600, 2, 3, 0, 256, 1
    Win32::IsAdminUser = 1


-------------------------------


--

Summary of my perl5 (revision 5 version 10 subversion 1) configuration:
   
  Platform:
    osname=MSWin32, osvers=5.1, archname=MSWin32-x86-multi-thread
    uname='Win32 strawberryperl 5.10.1.1 #1 1264655466 i386'
    config_args='undef'
    hint=recommended, useposix=true, d_sigaction=undef
    useithreads=define, usemultiplicity=define
    useperlio=define, d_sfio=undef, uselargefiles=define, usesocks=undef
    use64bitint=undef, use64bitall=undef, uselongdouble=undef
    usemymalloc=n, bincompat5005=undef
  Compiler:
    cc='gcc', ccflags =' -s -O2 -DWIN32 -DHAVE_DES_FCRYPT  -DUSE_SITECUSTOMIZE -DPERL_IMPLICIT_CONTEXT -DPERL_IMPLICIT_SYS -fno-strict-aliasing -DPERL_MSVCRT_READFIX',
    optimize='-s -O2',
    cppflags='-DWIN32'
    ccversion='', gccversion='3.4.5', gccosandvers=''
    intsize=4, longsize=4, ptrsize=4, doublesize=8, byteorder=1234
    d_longlong=undef, longlongsize=8, d_longdbl=define, longdblsize=12
    ivtype='long', ivsize=4, nvtype='double', nvsize=8, Off_t='long long', lseeksize=8
    alignbytes=8, prototype=define
  Linker and Libraries:
    ld='g++', ldflags ='-s -L"C:\strawberry\perl\lib\CORE" -L"C:\strawberry\c\lib"'
    libpth=C:\strawberry\c\lib
    libs= -lmoldname -lkernel32 -luser32 -lgdi32 -lwinspool -lcomdlg32 -ladvapi32 -lshell32 -lole32 -loleaut32 -lnetapi32 -luuid -lws2_32 -lmpr -lwinmm -lversion -lodbc32 -lodbccp32
    perllibs= -lmoldname -lkernel32 -luser32 -lgdi32 -lwinspool -lcomdlg32 -ladvapi32 -lshell32 -lole32 -loleaut32 -lnetapi32 -luuid -lws2_32 -lmpr -lwinmm -lversion -lodbc32 -lodbccp32
    libc=, so=dll, useshrplib=true, libperl=libperl510.a
    gnulibc_version=''
  Dynamic Linking:
    dlsrc=dl_win32.xs, dlext=dll, d_dlsymun=undef, ccdlflags=' '
    cccdlflags=' ', lddlflags='-mdll -s -L"C:\strawberry\perl\lib\CORE" -L"C:\strawberry\c\lib"'


Characteristics of this binary (from libperl): 
  Compile-time options: MULTIPLICITY PERL_DONT_CREATE_GVSV
                        PERL_IMPLICIT_CONTEXT PERL_IMPLICIT_SYS
                        PERL_MALLOC_WRAP PL_OP_SLAB_ALLOC USE_ITHREADS
                        USE_LARGE_FILES USE_PERLIO USE_SITECUSTOMIZE
  Built under MSWin32
  Compiled at Jan 27 2010 23:29:51
  %ENV:
    PERL5LIB=";C:\cpansmoke\cpanp_conf\strawberry_perl_5.10.1.1_default\.cpanplus\5.10.1\build\Smart-Comments-1.0.4\blib\lib;C:\cpansmoke\cpanp_conf\strawberry_perl_5.10.1.1_default\.cpanplus\5.10.1\build\Smart-Comments-1.0.4\blib\arch"
    PERL5_CPANIDX_URL="http://192.168.0.200:11110/CPANIDX/"
    PERL5_CPANPLUS_IS_RUNNING="2576"
    PERL5_CPANPLUS_IS_VERSION="0.9003"
    PERL5_YACSMOKE_BASE="C:\cpansmoke\cpanp_conf\strawberry_perl_5.10.1.1_default"
    PERL_CPANSMOKER_HOST="strawberry_perl_5.10.1.1_default / Windows XP 32bit"
    PERL_EXTUTILS_AUTOINSTALL="--defaultdeps"
    PERL_MM_USE_DEFAULT="1"
  @INC:
    C:\cpansmoke\cpanp_conf\strawberry_perl_5.10.1.1_default\.cpanplus\5.10.1\build\Smart-Comments-1.0.4\blib\lib
    C:\cpansmoke\cpanp_conf\strawberry_perl_5.10.1.1_default\.cpanplus\5.10.1\build\Smart-Comments-1.0.4\blib\arch
    C:/strawberry/perl/lib
    C:/strawberry/perl/site/lib
    C:\strawberry\perl\vendor\lib
    .