HTTP-Session2 v1.10 Perl 5 v5.16.3 x86_64-linux-thread-multi

Status
Pass
From
David Cantrell (DCANTRELL)
Dist
HTTP-Session2 v1.10
Platform
Perl 5 v5.16.3 x86_64-linux-thread-multi
Date
2020-11-10 13:58:14
ID
c6ff86dc-235c-11eb-add6-9768a1724e2f
This distribution has been tested as part of the CPAN Testers
project, supporting the Perl programming language.  See
http://wiki.cpantesters.org/ for more information or email
questions to cpan-testers-discuss@perl.org


--
Dear Author,

This is a computer-generated report for HTTP-Session2-1.10
on perl 5.16.3, created by CPAN-Reporter-1.2018.

Thank you for uploading your work to CPAN.  Congratulations!
All tests were successful.

Sections of this report:

    * Tester comments
    * Program output
    * Prerequisites
    * Environment and other context

------------------------------
TESTER COMMENTS
------------------------------

Additional comments from tester:

this report is from an automated smoke testing program
and was not reviewed by a human for accuracy

------------------------------
PROGRAM OUTPUT
------------------------------

Output from './Build test':

t/00_compile.t .............. ok
Secret string too short at /home/david/cpantesting/perl-5.16.3/.cpan/build/HTTP-Session2-1.10-ng7aen/blib/lib/HTTP/Session2/Base.pm line 79.
	HTTP::Session2::Base::__ANON__('HTTP::Session2::ServerStore=HASH(0x5615a571d8d8)', 's3cret') called at t/01_server_side.t line 23
	main::__ANON__('client -> server: request without cookie', 'CODE(0x5615a5715670)') called at t/01_server_side.t line 25
	main::__ANON__() called at /home/david/cpantesting/perl-5.16.3/lib/site_perl/5.16.3/Test/Builder.pm line 374
	eval {...} called at /home/david/cpantesting/perl-5.16.3/lib/site_perl/5.16.3/Test/Builder.pm line 374
	Test::Builder::subtest('Test::Builder=HASH(0x5615a4ee2708)', 'First request', 'CODE(0x5615a56f3110)') called at /home/david/cpantesting/perl-5.16.3/lib/site_perl/5.16.3/Test/More.pm line 809
	Test::More::subtest('First request', 'CODE(0x5615a56f3110)') called at t/01_server_side.t line 11
	main::scenario('First request', 'CODE(0x5615a56f3110)') called at t/01_server_side.t line 31
Secret string too short at /home/david/cpantesting/perl-5.16.3/.cpan/build/HTTP-Session2-1.10-ng7aen/blib/lib/HTTP/Session2/Base.pm line 79.
	HTTP::Session2::Base::__ANON__('HTTP::Session2::ServerStore=HASH(0x5615a571ba88)', 's3cret') called at t/01_server_side.t line 40
	main::__ANON__('client -> server: request without cookie', 'CODE(0x5615a53d4f48)') called at t/01_server_side.t line 42
	main::__ANON__() called at /home/david/cpantesting/perl-5.16.3/lib/site_perl/5.16.3/Test/Builder.pm line 374
	eval {...} called at /home/david/cpantesting/perl-5.16.3/lib/site_perl/5.16.3/Test/Builder.pm line 374
	Test::Builder::subtest('Test::Builder=HASH(0x5615a4ee2708)', 'Store something without login', 'CODE(0x5615a56f8990)') called at /home/david/cpantesting/perl-5.16.3/lib/site_perl/5.16.3/Test/More.pm line 809
	Test::More::subtest('Store something without login', 'CODE(0x5615a56f8990)') called at t/01_server_side.t line 11
	main::scenario('Store something without login', 'CODE(0x5615a56f8990)') called at t/01_server_side.t line 58
Secret string too short at /home/david/cpantesting/perl-5.16.3/.cpan/build/HTTP-Session2-1.10-ng7aen/blib/lib/HTTP/Session2/Base.pm line 79.
	HTTP::Session2::Base::__ANON__('HTTP::Session2::ServerStore=HASH(0x5615a57265b8)', 's3cret') called at t/01_server_side.t line 70
	main::__ANON__('client -> server: request without cookie', 'CODE(0x5615a5715358)') called at t/01_server_side.t line 72
	main::__ANON__() called at /home/david/cpantesting/perl-5.16.3/lib/site_perl/5.16.3/Test/Builder.pm line 374
	eval {...} called at /home/david/cpantesting/perl-5.16.3/lib/site_perl/5.16.3/Test/Builder.pm line 374
	Test::Builder::subtest('Test::Builder=HASH(0x5615a4ee2708)', 'Login', 'CODE(0x5615a54beb10)') called at /home/david/cpantesting/perl-5.16.3/lib/site_perl/5.16.3/Test/More.pm line 809
	Test::More::subtest('Login', 'CODE(0x5615a54beb10)') called at t/01_server_side.t line 11
	main::scenario('Login', 'CODE(0x5615a54beb10)') called at t/01_server_side.t line 96
Secret string too short at /home/david/cpantesting/perl-5.16.3/.cpan/build/HTTP-Session2-1.10-ng7aen/blib/lib/HTTP/Session2/Base.pm line 79.
	HTTP::Session2::Base::__ANON__('HTTP::Session2::ServerStore=HASH(0x5615a572b788)', 's3cret') called at t/01_server_side.t line 108
	main::__ANON__('client -> server: request without cookie', 'CODE(0x5615a5735cb8)') called at t/01_server_side.t line 110
	main::__ANON__() called at /home/david/cpantesting/perl-5.16.3/lib/site_perl/5.16.3/Test/Builder.pm line 374
	eval {...} called at /home/david/cpantesting/perl-5.16.3/lib/site_perl/5.16.3/Test/Builder.pm line 374
	Test::Builder::subtest('Test::Builder=HASH(0x5615a4ee2708)', 'In a login session', 'CODE(0x5615a54bf3f8)') called at /home/david/cpantesting/perl-5.16.3/lib/site_perl/5.16.3/Test/More.pm line 809
	Test::More::subtest('In a login session', 'CODE(0x5615a54bf3f8)') called at t/01_server_side.t line 11
	main::scenario('In a login session', 'CODE(0x5615a54bf3f8)') called at t/01_server_side.t line 124
Secret string too short at /home/david/cpantesting/perl-5.16.3/.cpan/build/HTTP-Session2-1.10-ng7aen/blib/lib/HTTP/Session2/Base.pm line 79.
	HTTP::Session2::Base::__ANON__('HTTP::Session2::ServerStore=HASH(0x5615a57362b8)', 's3cret') called at t/01_server_side.t line 136
	main::__ANON__('client -> server: request without cookie', 'CODE(0x5615a57154d8)') called at t/01_server_side.t line 138
	main::__ANON__() called at /home/david/cpantesting/perl-5.16.3/lib/site_perl/5.16.3/Test/Builder.pm line 374
	eval {...} called at /home/david/cpantesting/perl-5.16.3/lib/site_perl/5.16.3/Test/Builder.pm line 374
	Test::Builder::subtest('Test::Builder=HASH(0x5615a4ee2708)', 'Invalid session id', 'CODE(0x5615a57078f0)') called at /home/david/cpantesting/perl-5.16.3/lib/site_perl/5.16.3/Test/More.pm line 809
	Test::More::subtest('Invalid session id', 'CODE(0x5615a57078f0)') called at t/01_server_side.t line 11
	main::scenario('Invalid session id', 'CODE(0x5615a57078f0)') called at t/01_server_side.t line 153
Secret string too short at /home/david/cpantesting/perl-5.16.3/.cpan/build/HTTP-Session2-1.10-ng7aen/blib/lib/HTTP/Session2/Base.pm line 79.
	HTTP::Session2::Base::__ANON__('HTTP::Session2::ServerStore=HASH(0x5615a571e370)', 's3cret') called at t/01_server_side.t line 160
	main::__ANON__('client -> server: request without cookie', 'CODE(0x5615a5715310)') called at t/01_server_side.t line 167
	main::__ANON__() called at /home/david/cpantesting/perl-5.16.3/lib/site_perl/5.16.3/Test/Builder.pm line 374
	eval {...} called at /home/david/cpantesting/perl-5.16.3/lib/site_perl/5.16.3/Test/Builder.pm line 374
	Test::Builder::subtest('Test::Builder=HASH(0x5615a4ee2708)', 'Logout', 'CODE(0x5615a5707fb0)') called at /home/david/cpantesting/perl-5.16.3/lib/site_perl/5.16.3/Test/More.pm line 809
	Test::More::subtest('Logout', 'CODE(0x5615a5707fb0)') called at t/01_server_side.t line 11
	main::scenario('Logout', 'CODE(0x5615a5707fb0)') called at t/01_server_side.t line 182
t/01_server_side.t .......... ok
Secret string too short at /home/david/cpantesting/perl-5.16.3/.cpan/build/HTTP-Session2-1.10-ng7aen/blib/lib/HTTP/Session2/Base.pm line 79.
	HTTP::Session2::Base::__ANON__('HTTP::Session2::ClientStore=HASH(0x56231938e360)', 's3cret') called at t/02_client_side.t line 17
	main::__ANON__('client -> server: request without cookie', 'CODE(0x562319385830)') called at t/02_client_side.t line 22
	main::__ANON__() called at /home/david/cpantesting/perl-5.16.3/lib/site_perl/5.16.3/Test/Builder.pm line 374
	eval {...} called at /home/david/cpantesting/perl-5.16.3/lib/site_perl/5.16.3/Test/Builder.pm line 374
	Test::Builder::subtest('Test::Builder=HASH(0x562318b2b158)', 'First request', 'CODE(0x5623191d2d58)') called at /home/david/cpantesting/perl-5.16.3/lib/site_perl/5.16.3/Test/More.pm line 809
	Test::More::subtest('First request', 'CODE(0x5623191d2d58)') called at t/02_client_side.t line 9
	main::scenario('First request', 'CODE(0x5623191d2d58)') called at t/02_client_side.t line 28
Secret string too short at /home/david/cpantesting/perl-5.16.3/.cpan/build/HTTP-Session2-1.10-ng7aen/blib/lib/HTTP/Session2/Base.pm line 79.
	HTTP::Session2::Base::__ANON__('HTTP::Session2::ClientStore=HASH(0x56231938d898)', 's3cret') called at t/02_client_side.t line 33
	main::__ANON__('client -> server: request without cookie', 'CODE(0x56231901d9a8)') called at t/02_client_side.t line 38
	main::__ANON__() called at /home/david/cpantesting/perl-5.16.3/lib/site_perl/5.16.3/Test/Builder.pm line 374
	eval {...} called at /home/david/cpantesting/perl-5.16.3/lib/site_perl/5.16.3/Test/Builder.pm line 374
	Test::Builder::subtest('Test::Builder=HASH(0x562318b2b158)', 'Store something without login', 'CODE(0x562319372880)') called at /home/david/cpantesting/perl-5.16.3/lib/site_perl/5.16.3/Test/More.pm line 809
	Test::More::subtest('Store something without login', 'CODE(0x562319372880)') called at t/02_client_side.t line 9
	main::scenario('Store something without login', 'CODE(0x562319372880)') called at t/02_client_side.t line 54
Do not use HTTP::Session2::ClientStore. Use HTTP::Session2::ServerStore or HTTP::Session2::ClientStore2 instead. at /home/david/cpantesting/perl-5.16.3/.cpan/build/HTTP-Session2-1.10-ng7aen/blib/lib/HTTP/Session2/ClientStore.pm line 25.
Secret string too short at /home/david/cpantesting/perl-5.16.3/.cpan/build/HTTP-Session2-1.10-ng7aen/blib/lib/HTTP/Session2/Base.pm line 79.
	HTTP::Session2::Base::__ANON__('HTTP::Session2::ClientStore=HASH(0x56231938e5d0)', 's3cret') called at t/02_client_side.t line 60
	main::__ANON__('client -> server: request without cookie', 'CODE(0x562319395e58)') called at t/02_client_side.t line 66
	main::__ANON__() called at /home/david/cpantesting/perl-5.16.3/lib/site_perl/5.16.3/Test/Builder.pm line 374
	eval {...} called at /home/david/cpantesting/perl-5.16.3/lib/site_perl/5.16.3/Test/Builder.pm line 374
	Test::Builder::subtest('Test::Builder=HASH(0x562318b2b158)', 'Login', 'CODE(0x562319372cd0)') called at /home/david/cpantesting/perl-5.16.3/lib/site_perl/5.16.3/Test/More.pm line 809
	Test::More::subtest('Login', 'CODE(0x562319372cd0)') called at t/02_client_side.t line 9
	main::scenario('Login', 'CODE(0x562319372cd0)') called at t/02_client_side.t line 86
Do not use HTTP::Session2::ClientStore. Use HTTP::Session2::ServerStore or HTTP::Session2::ClientStore2 instead. at /home/david/cpantesting/perl-5.16.3/.cpan/build/HTTP-Session2-1.10-ng7aen/blib/lib/HTTP/Session2/ClientStore.pm line 35.
Do not use HTTP::Session2::ClientStore. Use HTTP::Session2::ServerStore or HTTP::Session2::ClientStore2 instead. at /home/david/cpantesting/perl-5.16.3/.cpan/build/HTTP-Session2-1.10-ng7aen/blib/lib/HTTP/Session2/ClientStore.pm line 25.
Secret string too short at /home/david/cpantesting/perl-5.16.3/.cpan/build/HTTP-Session2-1.10-ng7aen/blib/lib/HTTP/Session2/Base.pm line 79.
	HTTP::Session2::Base::__ANON__('HTTP::Session2::ClientStore=HASH(0x56231939ac28)', 's3cret') called at t/02_client_side.t line 92
	main::__ANON__('client -> server: request without cookie', 'CODE(0x56231939aa60)') called at t/02_client_side.t line 98
	main::__ANON__() called at /home/david/cpantesting/perl-5.16.3/lib/site_perl/5.16.3/Test/Builder.pm line 374
	eval {...} called at /home/david/cpantesting/perl-5.16.3/lib/site_perl/5.16.3/Test/Builder.pm line 374
	Test::Builder::subtest('Test::Builder=HASH(0x562318b2b158)', 'In a login session', 'CODE(0x562319377cd0)') called at /home/david/cpantesting/perl-5.16.3/lib/site_perl/5.16.3/Test/More.pm line 809
	Test::More::subtest('In a login session', 'CODE(0x562319377cd0)') called at t/02_client_side.t line 9
	main::scenario('In a login session', 'CODE(0x562319377cd0)') called at t/02_client_side.t line 107
Do not use HTTP::Session2::ClientStore. Use HTTP::Session2::ServerStore or HTTP::Session2::ClientStore2 instead. at /home/david/cpantesting/perl-5.16.3/.cpan/build/HTTP-Session2-1.10-ng7aen/blib/lib/HTTP/Session2/ClientStore.pm line 35.
Do not use HTTP::Session2::ClientStore. Use HTTP::Session2::ServerStore or HTTP::Session2::ClientStore2 instead. at /home/david/cpantesting/perl-5.16.3/.cpan/build/HTTP-Session2-1.10-ng7aen/blib/lib/HTTP/Session2/ClientStore.pm line 25.
Secret string too short at /home/david/cpantesting/perl-5.16.3/.cpan/build/HTTP-Session2-1.10-ng7aen/blib/lib/HTTP/Session2/Base.pm line 79.
	HTTP::Session2::Base::__ANON__('HTTP::Session2::ClientStore=HASH(0x562319385d28)', 's3cret') called at t/02_client_side.t line 112
	main::__ANON__('client -> server: request without cookie', 'CODE(0x56231938f9b0)') called at t/02_client_side.t line 118
	main::__ANON__() called at /home/david/cpantesting/perl-5.16.3/lib/site_perl/5.16.3/Test/Builder.pm line 374
	eval {...} called at /home/david/cpantesting/perl-5.16.3/lib/site_perl/5.16.3/Test/Builder.pm line 374
	Test::Builder::subtest('Test::Builder=HASH(0x562318b2b158)', 'Logout', 'CODE(0x562319378318)') called at /home/david/cpantesting/perl-5.16.3/lib/site_perl/5.16.3/Test/More.pm line 809
	Test::More::subtest('Logout', 'CODE(0x562319378318)') called at t/02_client_side.t line 9
	main::scenario('Logout', 'CODE(0x562319378318)') called at t/02_client_side.t line 131
t/02_client_side.t .......... ok
Secret string too short at /home/david/cpantesting/perl-5.16.3/.cpan/build/HTTP-Session2-1.10-ng7aen/blib/lib/HTTP/Session2/Base.pm line 79.
	HTTP::Session2::Base::__ANON__('HTTP::Session2::ServerStore=HASH(0x55802f41db48)', 's3cret') called at t/03_mech.t line 121
	main::server_session('HASH(0x55802f41a280)') called at t/03_mech.t line 17
	main::__ANON__('HASH(0x55802f41a280)') called at /home/david/cpantesting/perl-5.16.3/lib/site_perl/5.16.3/Test/WWW/Mechanize/PSGI.pm line 46
	Test::WWW::Mechanize::PSGI::try {...} () called at /home/david/cpantesting/perl-5.16.3/lib/site_perl/5.16.3/Try/Tiny.pm line 102
	eval {...} called at /home/david/cpantesting/perl-5.16.3/lib/site_perl/5.16.3/Try/Tiny.pm line 93
	Try::Tiny::try('CODE(0x55802f41a1d8)', 'Try::Tiny::Catch=REF(0x55802e7ed5b0)') called at /home/david/cpantesting/perl-5.16.3/lib/site_perl/5.16.3/Test/WWW/Mechanize/PSGI.pm line 53
	Test::WWW::Mechanize::PSGI::simple_request('Test::WWW::Mechanize::PSGI=HASH(0x55802f2ded00)', 'HTTP::Request=HASH(0x55802f39d270)', undef, undef) called at /home/david/cpantesting/perl-5.16.3/lib/site_perl/5.16.3/LWP/UserAgent.pm line 300
	LWP::UserAgent::request('Test::WWW::Mechanize::PSGI=HASH(0x55802f2ded00)', 'HTTP::Request=HASH(0x55802f39d270)') called at /home/david/cpantesting/perl-5.16.3/lib/site_perl/5.16.3/WWW/Mechanize.pm line 1462
	WWW::Mechanize::_make_request('Test::WWW::Mechanize::PSGI=HASH(0x55802f2ded00)', 'HTTP::Request=HASH(0x55802f39d270)') called at /home/david/cpantesting/perl-5.16.3/lib/site_perl/5.16.3/WWW/Mechanize.pm line 1302
	WWW::Mechanize::request('Test::WWW::Mechanize::PSGI=HASH(0x55802f2ded00)', 'HTTP::Request=HASH(0x55802f39d270)') called at /home/david/cpantesting/perl-5.16.3/lib/site_perl/5.16.3/LWP/UserAgent.pm line 444
	LWP::UserAgent::get('Test::WWW::Mechanize::PSGI=HASH(0x55802f2ded00)', '/') called at /home/david/cpantesting/perl-5.16.3/lib/site_perl/5.16.3/WWW/Mechanize.pm line 123
	WWW::Mechanize::get('Test::WWW::Mechanize::PSGI=HASH(0x55802f2ded00)', '/') called at /home/david/cpantesting/perl-5.16.3/lib/site_perl/5.16.3/Test/WWW/Mechanize.pm line 179
	Test::WWW::Mechanize::get_ok('Test::WWW::Mechanize::PSGI=HASH(0x55802f2ded00)', '/') called at t/03_mech.t line 74
Secret string too short at /home/david/cpantesting/perl-5.16.3/.cpan/build/HTTP-Session2-1.10-ng7aen/blib/lib/HTTP/Session2/Base.pm line 79.
	HTTP::Session2::Base::__ANON__('HTTP::Session2::ServerStore=HASH(0x55802f429570)', 's3cret') called at t/03_mech.t line 121
	main::server_session('HASH(0x55802f41e4d8)') called at t/03_mech.t line 17
	main::__ANON__('HASH(0x55802f41e4d8)') called at /home/david/cpantesting/perl-5.16.3/lib/site_perl/5.16.3/Test/WWW/Mechanize/PSGI.pm line 46
	Test::WWW::Mechanize::PSGI::try {...} () called at /home/david/cpantesting/perl-5.16.3/lib/site_perl/5.16.3/Try/Tiny.pm line 102
	eval {...} called at /home/david/cpantesting/perl-5.16.3/lib/site_perl/5.16.3/Try/Tiny.pm line 93
	Try::Tiny::try('CODE(0x55802f41e790)', 'Try::Tiny::Catch=REF(0x55802f41a658)') called at /home/david/cpantesting/perl-5.16.3/lib/site_perl/5.16.3/Test/WWW/Mechanize/PSGI.pm line 53
	Test::WWW::Mechanize::PSGI::simple_request('Test::WWW::Mechanize::PSGI=HASH(0x55802f2ded00)', 'HTTP::Request=HASH(0x55802f41e478)', undef, undef) called at /home/david/cpantesting/perl-5.16.3/lib/site_perl/5.16.3/LWP/UserAgent.pm line 300
	LWP::UserAgent::request('Test::WWW::Mechanize::PSGI=HASH(0x55802f2ded00)', 'HTTP::Request=HASH(0x55802f41e478)') called at /home/david/cpantesting/perl-5.16.3/lib/site_perl/5.16.3/WWW/Mechanize.pm line 1462
	WWW::Mechanize::_make_request('Test::WWW::Mechanize::PSGI=HASH(0x55802f2ded00)', 'HTTP::Request=HASH(0x55802f41e478)') called at /home/david/cpantesting/perl-5.16.3/lib/site_perl/5.16.3/WWW/Mechanize.pm line 1302
	WWW::Mechanize::request('Test::WWW::Mechanize::PSGI=HASH(0x55802f2ded00)', 'HTTP::Request=HASH(0x55802f41e478)') called at /home/david/cpantesting/perl-5.16.3/lib/site_perl/5.16.3/LWP/UserAgent.pm line 487
	LWP::UserAgent::post('Test::WWW::Mechanize::PSGI=HASH(0x55802f2ded00)', 'http://localhost/wishlist?foo', 'HASH(0x55802ef9c330)') called at /home/david/cpantesting/perl-5.16.3/lib/site_perl/5.16.3/WWW/Mechanize.pm line 139
	WWW::Mechanize::post('Test::WWW::Mechanize::PSGI=HASH(0x55802f2ded00)', '/wishlist?foo', 'HASH(0x55802ef9c330)') called at /home/david/cpantesting/perl-5.16.3/lib/site_perl/5.16.3/Test/WWW/Mechanize.pm line 285
	Test::WWW::Mechanize::post_ok('Test::WWW::Mechanize::PSGI=HASH(0x55802f2ded00)', '/wishlist?foo') called at t/03_mech.t line 75
Secret string too short at /home/david/cpantesting/perl-5.16.3/.cpan/build/HTTP-Session2-1.10-ng7aen/blib/lib/HTTP/Session2/Base.pm line 79.
	HTTP::Session2::Base::__ANON__('HTTP::Session2::ServerStore=HASH(0x55802f429e10)', 's3cret') called at t/03_mech.t line 121
	main::server_session('HASH(0x55802f429438)') called at t/03_mech.t line 17
	main::__ANON__('HASH(0x55802f429438)') called at /home/david/cpantesting/perl-5.16.3/lib/site_perl/5.16.3/Test/WWW/Mechanize/PSGI.pm line 46
	Test::WWW::Mechanize::PSGI::try {...} () called at /home/david/cpantesting/perl-5.16.3/lib/site_perl/5.16.3/Try/Tiny.pm line 102
	eval {...} called at /home/david/cpantesting/perl-5.16.3/lib/site_perl/5.16.3/Try/Tiny.pm line 93
	Try::Tiny::try('CODE(0x55802f41e970)', 'Try::Tiny::Catch=REF(0x55802f429450)') called at /home/david/cpantesting/perl-5.16.3/lib/site_perl/5.16.3/Test/WWW/Mechanize/PSGI.pm line 53
	Test::WWW::Mechanize::PSGI::simple_request('Test::WWW::Mechanize::PSGI=HASH(0x55802f2ded00)', 'HTTP::Request=HASH(0x55802f41a730)', undef, undef) called at /home/david/cpantesting/perl-5.16.3/lib/site_perl/5.16.3/LWP/UserAgent.pm line 300
	LWP::UserAgent::request('Test::WWW::Mechanize::PSGI=HASH(0x55802f2ded00)', 'HTTP::Request=HASH(0x55802f41a730)') called at /home/david/cpantesting/perl-5.16.3/lib/site_perl/5.16.3/WWW/Mechanize.pm line 1462
	WWW::Mechanize::_make_request('Test::WWW::Mechanize::PSGI=HASH(0x55802f2ded00)', 'HTTP::Request=HASH(0x55802f41a730)') called at /home/david/cpantesting/perl-5.16.3/lib/site_perl/5.16.3/WWW/Mechanize.pm line 1302
	WWW::Mechanize::request('Test::WWW::Mechanize::PSGI=HASH(0x55802f2ded00)', 'HTTP::Request=HASH(0x55802f41a730)') called at /home/david/cpantesting/perl-5.16.3/lib/site_perl/5.16.3/LWP/UserAgent.pm line 444
	LWP::UserAgent::get('Test::WWW::Mechanize::PSGI=HASH(0x55802f2ded00)', 'http://localhost/wishlist') called at /home/david/cpantesting/perl-5.16.3/lib/site_perl/5.16.3/WWW/Mechanize.pm line 123
	WWW::Mechanize::get('Test::WWW::Mechanize::PSGI=HASH(0x55802f2ded00)', '/wishlist') called at /home/david/cpantesting/perl-5.16.3/lib/site_perl/5.16.3/Test/WWW/Mechanize.pm line 179
	Test::WWW::Mechanize::get_ok('Test::WWW::Mechanize::PSGI=HASH(0x55802f2ded00)', '/wishlist') called at t/03_mech.t line 76
Secret string too short at /home/david/cpantesting/perl-5.16.3/.cpan/build/HTTP-Session2-1.10-ng7aen/blib/lib/HTTP/Session2/Base.pm line 79.
	HTTP::Session2::Base::__ANON__('HTTP::Session2::ServerStore=HASH(0x55802f42a2c0)', 's3cret') called at t/03_mech.t line 121
	main::server_session('HASH(0x55802f429888)') called at t/03_mech.t line 17
	main::__ANON__('HASH(0x55802f429888)') called at /home/david/cpantesting/perl-5.16.3/lib/site_perl/5.16.3/Test/WWW/Mechanize/PSGI.pm line 46
	Test::WWW::Mechanize::PSGI::try {...} () called at /home/david/cpantesting/perl-5.16.3/lib/site_perl/5.16.3/Try/Tiny.pm line 102
	eval {...} called at /home/david/cpantesting/perl-5.16.3/lib/site_perl/5.16.3/Try/Tiny.pm line 93
	Try::Tiny::try('CODE(0x55802f429f18)', 'Try::Tiny::Catch=REF(0x55802f429960)') called at /home/david/cpantesting/perl-5.16.3/lib/site_perl/5.16.3/Test/WWW/Mechanize/PSGI.pm line 53
	Test::WWW::Mechanize::PSGI::simple_request('Test::WWW::Mechanize::PSGI=HASH(0x55802f2ded00)', 'HTTP::Request=HASH(0x55802f429c30)', undef, undef) called at /home/david/cpantesting/perl-5.16.3/lib/site_perl/5.16.3/LWP/UserAgent.pm line 300
	LWP::UserAgent::request('Test::WWW::Mechanize::PSGI=HASH(0x55802f2ded00)', 'HTTP::Request=HASH(0x55802f429c30)') called at /home/david/cpantesting/perl-5.16.3/lib/site_perl/5.16.3/WWW/Mechanize.pm line 1462
	WWW::Mechanize::_make_request('Test::WWW::Mechanize::PSGI=HASH(0x55802f2ded00)', 'HTTP::Request=HASH(0x55802f429c30)') called at /home/david/cpantesting/perl-5.16.3/lib/site_perl/5.16.3/WWW/Mechanize.pm line 1302
	WWW::Mechanize::request('Test::WWW::Mechanize::PSGI=HASH(0x55802f2ded00)', 'HTTP::Request=HASH(0x55802f429c30)') called at /home/david/cpantesting/perl-5.16.3/lib/site_perl/5.16.3/LWP/UserAgent.pm line 487
	LWP::UserAgent::post('Test::WWW::Mechanize::PSGI=HASH(0x55802f2ded00)', 'http://localhost/wishlist?bar') called at /home/david/cpantesting/perl-5.16.3/lib/site_perl/5.16.3/WWW/Mechanize.pm line 139
	WWW::Mechanize::post('Test::WWW::Mechanize::PSGI=HASH(0x55802f2ded00)', '/wishlist?bar') called at t/03_mech.t line 78
Secret string too short at /home/david/cpantesting/perl-5.16.3/.cpan/build/HTTP-Session2-1.10-ng7aen/blib/lib/HTTP/Session2/Base.pm line 79.
	HTTP::Session2::Base::__ANON__('HTTP::Session2::ServerStore=HASH(0x55802f429f00)', 's3cret') called at t/03_mech.t line 121
	main::server_session('HASH(0x55802f430950)') called at t/03_mech.t line 17
	main::__ANON__('HASH(0x55802f430950)') called at /home/david/cpantesting/perl-5.16.3/lib/site_perl/5.16.3/Test/WWW/Mechanize/PSGI.pm line 46
	Test::WWW::Mechanize::PSGI::try {...} () called at /home/david/cpantesting/perl-5.16.3/lib/site_perl/5.16.3/Try/Tiny.pm line 102
	eval {...} called at /home/david/cpantesting/perl-5.16.3/lib/site_perl/5.16.3/Try/Tiny.pm line 93
	Try::Tiny::try('CODE(0x55802f41e8f8)', 'Try::Tiny::Catch=REF(0x55802f429600)') called at /home/david/cpantesting/perl-5.16.3/lib/site_perl/5.16.3/Test/WWW/Mechanize/PSGI.pm line 53
	Test::WWW::Mechanize::PSGI::simple_request('Test::WWW::Mechanize::PSGI=HASH(0x55802f2ded00)', 'HTTP::Request=HASH(0x55802f41e718)', undef, undef) called at /home/david/cpantesting/perl-5.16.3/lib/site_perl/5.16.3/LWP/UserAgent.pm line 300
	LWP::UserAgent::request('Test::WWW::Mechanize::PSGI=HASH(0x55802f2ded00)', 'HTTP::Request=HASH(0x55802f41e718)') called at /home/david/cpantesting/perl-5.16.3/lib/site_perl/5.16.3/WWW/Mechanize.pm line 1462
	WWW::Mechanize::_make_request('Test::WWW::Mechanize::PSGI=HASH(0x55802f2ded00)', 'HTTP::Request=HASH(0x55802f41e718)') called at /home/david/cpantesting/perl-5.16.3/lib/site_perl/5.16.3/WWW/Mechanize.pm line 1302
	WWW::Mechanize::request('Test::WWW::Mechanize::PSGI=HASH(0x55802f2ded00)', 'HTTP::Request=HASH(0x55802f41e718)') called at /home/david/cpantesting/perl-5.16.3/lib/site_perl/5.16.3/LWP/UserAgent.pm line 487
	LWP::UserAgent::post('Test::WWW::Mechanize::PSGI=HASH(0x55802f2ded00)', 'http://localhost/wishlist?bar', 'HASH(0x55802ef9c330)') called at /home/david/cpantesting/perl-5.16.3/lib/site_perl/5.16.3/WWW/Mechanize.pm line 139
	WWW::Mechanize::post('Test::WWW::Mechanize::PSGI=HASH(0x55802f2ded00)', '/wishlist?bar', 'HASH(0x55802ef9c330)') called at /home/david/cpantesting/perl-5.16.3/lib/site_perl/5.16.3/Test/WWW/Mechanize.pm line 285
	Test::WWW::Mechanize::post_ok('Test::WWW::Mechanize::PSGI=HASH(0x55802f2ded00)', '/wishlist?bar') called at t/03_mech.t line 81
Secret string too short at /home/david/cpantesting/perl-5.16.3/.cpan/build/HTTP-Session2-1.10-ng7aen/blib/lib/HTTP/Session2/Base.pm line 79.
	HTTP::Session2::Base::__ANON__('HTTP::Session2::ServerStore=HASH(0x55802f430cf8)', 's3cret') called at t/03_mech.t line 121
	main::server_session('HASH(0x55802f429f30)') called at t/03_mech.t line 17
	main::__ANON__('HASH(0x55802f429f30)') called at /home/david/cpantesting/perl-5.16.3/lib/site_perl/5.16.3/Test/WWW/Mechanize/PSGI.pm line 46
	Test::WWW::Mechanize::PSGI::try {...} () called at /home/david/cpantesting/perl-5.16.3/lib/site_perl/5.16.3/Try/Tiny.pm line 102
	eval {...} called at /home/david/cpantesting/perl-5.16.3/lib/site_perl/5.16.3/Try/Tiny.pm line 93
	Try::Tiny::try('CODE(0x55802f42a110)', 'Try::Tiny::Catch=REF(0x55802f430bd8)') called at /home/david/cpantesting/perl-5.16.3/lib/site_perl/5.16.3/Test/WWW/Mechanize/PSGI.pm line 53
	Test::WWW::Mechanize::PSGI::simple_request('Test::WWW::Mechanize::PSGI=HASH(0x55802f2ded00)', 'HTTP::Request=HASH(0x55802f42a320)', undef, undef) called at /home/david/cpantesting/perl-5.16.3/lib/site_perl/5.16.3/LWP/UserAgent.pm line 300
	LWP::UserAgent::request('Test::WWW::Mechanize::PSGI=HASH(0x55802f2ded00)', 'HTTP::Request=HASH(0x55802f42a320)') called at /home/david/cpantesting/perl-5.16.3/lib/site_perl/5.16.3/WWW/Mechanize.pm line 1462
	WWW::Mechanize::_make_request('Test::WWW::Mechanize::PSGI=HASH(0x55802f2ded00)', 'HTTP::Request=HASH(0x55802f42a320)') called at /home/david/cpantesting/perl-5.16.3/lib/site_perl/5.16.3/WWW/Mechanize.pm line 1302
	WWW::Mechanize::request('Test::WWW::Mechanize::PSGI=HASH(0x55802f2ded00)', 'HTTP::Request=HASH(0x55802f42a320)') called at /home/david/cpantesting/perl-5.16.3/lib/site_perl/5.16.3/LWP/UserAgent.pm line 444
	LWP::UserAgent::get('Test::WWW::Mechanize::PSGI=HASH(0x55802f2ded00)', 'http://localhost/wishlist') called at /home/david/cpantesting/perl-5.16.3/lib/site_perl/5.16.3/WWW/Mechanize.pm line 123
	WWW::Mechanize::get('Test::WWW::Mechanize::PSGI=HASH(0x55802f2ded00)', '/wishlist') called at /home/david/cpantesting/perl-5.16.3/lib/site_perl/5.16.3/Test/WWW/Mechanize.pm line 179
	Test::WWW::Mechanize::get_ok('Test::WWW::Mechanize::PSGI=HASH(0x55802f2ded00)', '/wishlist') called at t/03_mech.t line 82
Secret string too short at /home/david/cpantesting/perl-5.16.3/.cpan/build/HTTP-Session2-1.10-ng7aen/blib/lib/HTTP/Session2/Base.pm line 79.
	HTTP::Session2::Base::__ANON__('HTTP::Session2::ServerStore=HASH(0x55802f4312e0)', 's3cret') called at t/03_mech.t line 121
	main::server_session('HASH(0x55802f430bd8)') called at t/03_mech.t line 17
	main::__ANON__('HASH(0x55802f430bd8)') called at /home/david/cpantesting/perl-5.16.3/lib/site_perl/5.16.3/Test/WWW/Mechanize/PSGI.pm line 46
	Test::WWW::Mechanize::PSGI::try {...} () called at /home/david/cpantesting/perl-5.16.3/lib/site_perl/5.16.3/Try/Tiny.pm line 102
	eval {...} called at /home/david/cpantesting/perl-5.16.3/lib/site_perl/5.16.3/Try/Tiny.pm line 93
	Try::Tiny::try('CODE(0x55802f430cc8)', 'Try::Tiny::Catch=REF(0x55802f41e010)') called at /home/david/cpantesting/perl-5.16.3/lib/site_perl/5.16.3/Test/WWW/Mechanize/PSGI.pm line 53
	Test::WWW::Mechanize::PSGI::simple_request('Test::WWW::Mechanize::PSGI=HASH(0x55802f2ded00)', 'HTTP::Request=HASH(0x55802f4312f8)', undef, undef) called at /home/david/cpantesting/perl-5.16.3/lib/site_perl/5.16.3/LWP/UserAgent.pm line 300
	LWP::UserAgent::request('Test::WWW::Mechanize::PSGI=HASH(0x55802f2ded00)', 'HTTP::Request=HASH(0x55802f4312f8)') called at /home/david/cpantesting/perl-5.16.3/lib/site_perl/5.16.3/WWW/Mechanize.pm line 1462
	WWW::Mechanize::_make_request('Test::WWW::Mechanize::PSGI=HASH(0x55802f2ded00)', 'HTTP::Request=HASH(0x55802f4312f8)') called at /home/david/cpantesting/perl-5.16.3/lib/site_perl/5.16.3/WWW/Mechanize.pm line 1302
	WWW::Mechanize::request('Test::WWW::Mechanize::PSGI=HASH(0x55802f2ded00)', 'HTTP::Request=HASH(0x55802f4312f8)') called at /home/david/cpantesting/perl-5.16.3/lib/site_perl/5.16.3/LWP/UserAgent.pm line 487
	LWP::UserAgent::post('Test::WWW::Mechanize::PSGI=HASH(0x55802f2ded00)', 'http://localhost/account/login?john', 'HASH(0x55802ef9c330)') called at /home/david/cpantesting/perl-5.16.3/lib/site_perl/5.16.3/WWW/Mechanize.pm line 139
	WWW::Mechanize::post('Test::WWW::Mechanize::PSGI=HASH(0x55802f2ded00)', '/account/login?john', 'HASH(0x55802ef9c330)') called at /home/david/cpantesting/perl-5.16.3/lib/site_perl/5.16.3/Test/WWW/Mechanize.pm line 285
	Test::WWW::Mechanize::post_ok('Test::WWW::Mechanize::PSGI=HASH(0x55802f2ded00)', '/account/login?john') called at t/03_mech.t line 84
Secret string too short at /home/david/cpantesting/perl-5.16.3/.cpan/build/HTTP-Session2-1.10-ng7aen/blib/lib/HTTP/Session2/Base.pm line 79.
	HTTP::Session2::Base::__ANON__('HTTP::Session2::ServerStore=HASH(0x55802f4356a8)', 's3cret') called at t/03_mech.t line 121
	main::server_session('HASH(0x55802f430c38)') called at t/03_mech.t line 17
	main::__ANON__('HASH(0x55802f430c38)') called at /home/david/cpantesting/perl-5.16.3/lib/site_perl/5.16.3/Test/WWW/Mechanize/PSGI.pm line 46
	Test::WWW::Mechanize::PSGI::try {...} () called at /home/david/cpantesting/perl-5.16.3/lib/site_perl/5.16.3/Try/Tiny.pm line 102
	eval {...} called at /home/david/cpantesting/perl-5.16.3/lib/site_perl/5.16.3/Try/Tiny.pm line 93
	Try::Tiny::try('CODE(0x55802f4357c8)', 'Try::Tiny::Catch=REF(0x55802f430d40)') called at /home/david/cpantesting/perl-5.16.3/lib/site_perl/5.16.3/Test/WWW/Mechanize/PSGI.pm line 53
	Test::WWW::Mechanize::PSGI::simple_request('Test::WWW::Mechanize::PSGI=HASH(0x55802f2ded00)', 'HTTP::Request=HASH(0x55802f4311c0)', undef, undef) called at /home/david/cpantesting/perl-5.16.3/lib/site_perl/5.16.3/LWP/UserAgent.pm line 300
	LWP::UserAgent::request('Test::WWW::Mechanize::PSGI=HASH(0x55802f2ded00)', 'HTTP::Request=HASH(0x55802f4311c0)') called at /home/david/cpantesting/perl-5.16.3/lib/site_perl/5.16.3/WWW/Mechanize.pm line 1462
	WWW::Mechanize::_make_request('Test::WWW::Mechanize::PSGI=HASH(0x55802f2ded00)', 'HTTP::Request=HASH(0x55802f4311c0)') called at /home/david/cpantesting/perl-5.16.3/lib/site_perl/5.16.3/WWW/Mechanize.pm line 1302
	WWW::Mechanize::request('Test::WWW::Mechanize::PSGI=HASH(0x55802f2ded00)', 'HTTP::Request=HASH(0x55802f4311c0)') called at /home/david/cpantesting/perl-5.16.3/lib/site_perl/5.16.3/LWP/UserAgent.pm line 444
	LWP::UserAgent::get('Test::WWW::Mechanize::PSGI=HASH(0x55802f2ded00)', 'http://localhost/wishlist') called at /home/david/cpantesting/perl-5.16.3/lib/site_perl/5.16.3/WWW/Mechanize.pm line 123
	WWW::Mechanize::get('Test::WWW::Mechanize::PSGI=HASH(0x55802f2ded00)', '/wishlist') called at /home/david/cpantesting/perl-5.16.3/lib/site_perl/5.16.3/Test/WWW/Mechanize.pm line 179
	Test::WWW::Mechanize::get_ok('Test::WWW::Mechanize::PSGI=HASH(0x55802f2ded00)', '/wishlist', 'Wishlist is still available') called at t/03_mech.t line 85
Secret string too short at /home/david/cpantesting/perl-5.16.3/.cpan/build/HTTP-Session2-1.10-ng7aen/blib/lib/HTTP/Session2/Base.pm line 79.
	HTTP::Session2::Base::__ANON__('HTTP::Session2::ServerStore=HASH(0x55802f435af8)', 's3cret') called at t/03_mech.t line 121
	main::server_session('HASH(0x55802f430c68)') called at t/03_mech.t line 17
	main::__ANON__('HASH(0x55802f430c68)') called at /home/david/cpantesting/perl-5.16.3/lib/site_perl/5.16.3/Test/WWW/Mechanize/PSGI.pm line 46
	Test::WWW::Mechanize::PSGI::try {...} () called at /home/david/cpantesting/perl-5.16.3/lib/site_perl/5.16.3/Try/Tiny.pm line 102
	eval {...} called at /home/david/cpantesting/perl-5.16.3/lib/site_perl/5.16.3/Try/Tiny.pm line 93
	Try::Tiny::try('CODE(0x55802f435828)', 'Try::Tiny::Catch=REF(0x55802f42a098)') called at /home/david/cpantesting/perl-5.16.3/lib/site_perl/5.16.3/Test/WWW/Mechanize/PSGI.pm line 53
	Test::WWW::Mechanize::PSGI::simple_request('Test::WWW::Mechanize::PSGI=HASH(0x55802f2ded00)', 'HTTP::Request=HASH(0x55802f4358e8)', undef, undef) called at /home/david/cpantesting/perl-5.16.3/lib/site_perl/5.16.3/LWP/UserAgent.pm line 300
	LWP::UserAgent::request('Test::WWW::Mechanize::PSGI=HASH(0x55802f2ded00)', 'HTTP::Request=HASH(0x55802f4358e8)') called at /home/david/cpantesting/perl-5.16.3/lib/site_perl/5.16.3/WWW/Mechanize.pm line 1462
	WWW::Mechanize::_make_request('Test::WWW::Mechanize::PSGI=HASH(0x55802f2ded00)', 'HTTP::Request=HASH(0x55802f4358e8)') called at /home/david/cpantesting/perl-5.16.3/lib/site_perl/5.16.3/WWW/Mechanize.pm line 1302
	WWW::Mechanize::request('Test::WWW::Mechanize::PSGI=HASH(0x55802f2ded00)', 'HTTP::Request=HASH(0x55802f4358e8)') called at /home/david/cpantesting/perl-5.16.3/lib/site_perl/5.16.3/LWP/UserAgent.pm line 487
	LWP::UserAgent::post('Test::WWW::Mechanize::PSGI=HASH(0x55802f2ded00)', 'http://localhost/wishlist?baz') called at /home/david/cpantesting/perl-5.16.3/lib/site_perl/5.16.3/WWW/Mechanize.pm line 139
	WWW::Mechanize::post('Test::WWW::Mechanize::PSGI=HASH(0x55802f2ded00)', '/wishlist?baz') called at t/03_mech.t line 87
Secret string too short at /home/david/cpantesting/perl-5.16.3/.cpan/build/HTTP-Session2-1.10-ng7aen/blib/lib/HTTP/Session2/Base.pm line 79.
	HTTP::Session2::Base::__ANON__('HTTP::Session2::ServerStore=HASH(0x55802f436458)', 's3cret') called at t/03_mech.t line 121
	main::server_session('HASH(0x55802f435a20)') called at t/03_mech.t line 17
	main::__ANON__('HASH(0x55802f435a20)') called at /home/david/cpantesting/perl-5.16.3/lib/site_perl/5.16.3/Test/WWW/Mechanize/PSGI.pm line 46
	Test::WWW::Mechanize::PSGI::try {...} () called at /home/david/cpantesting/perl-5.16.3/lib/site_perl/5.16.3/Try/Tiny.pm line 102
	eval {...} called at /home/david/cpantesting/perl-5.16.3/lib/site_perl/5.16.3/Try/Tiny.pm line 93
	Try::Tiny::try('CODE(0x55802f435d80)', 'Try::Tiny::Catch=REF(0x55802f4311a8)') called at /home/david/cpantesting/perl-5.16.3/lib/site_perl/5.16.3/Test/WWW/Mechanize/PSGI.pm line 53
	Test::WWW::Mechanize::PSGI::simple_request('Test::WWW::Mechanize::PSGI=HASH(0x55802f2ded00)', 'HTTP::Request=HASH(0x55802f42a350)', undef, undef) called at /home/david/cpantesting/perl-5.16.3/lib/site_perl/5.16.3/LWP/UserAgent.pm line 300
	LWP::UserAgent::request('Test::WWW::Mechanize::PSGI=HASH(0x55802f2ded00)', 'HTTP::Request=HASH(0x55802f42a350)') called at /home/david/cpantesting/perl-5.16.3/lib/site_perl/5.16.3/WWW/Mechanize.pm line 1462
	WWW::Mechanize::_make_request('Test::WWW::Mechanize::PSGI=HASH(0x55802f2ded00)', 'HTTP::Request=HASH(0x55802f42a350)') called at /home/david/cpantesting/perl-5.16.3/lib/site_perl/5.16.3/WWW/Mechanize.pm line 1302
	WWW::Mechanize::request('Test::WWW::Mechanize::PSGI=HASH(0x55802f2ded00)', 'HTTP::Request=HASH(0x55802f42a350)') called at /home/david/cpantesting/perl-5.16.3/lib/site_perl/5.16.3/LWP/UserAgent.pm line 487
	LWP::UserAgent::post('Test::WWW::Mechanize::PSGI=HASH(0x55802f2ded00)', 'http://localhost/wishlist?baz', 'HASH(0x55802ef9c330)') called at /home/david/cpantesting/perl-5.16.3/lib/site_perl/5.16.3/WWW/Mechanize.pm line 139
	WWW::Mechanize::post('Test::WWW::Mechanize::PSGI=HASH(0x55802f2ded00)', '/wishlist?baz', 'HASH(0x55802ef9c330)') called at /home/david/cpantesting/perl-5.16.3/lib/site_perl/5.16.3/Test/WWW/Mechanize.pm line 285
	Test::WWW::Mechanize::post_ok('Test::WWW::Mechanize::PSGI=HASH(0x55802f2ded00)', '/wishlist?baz') called at t/03_mech.t line 90
Secret string too short at /home/david/cpantesting/perl-5.16.3/.cpan/build/HTTP-Session2-1.10-ng7aen/blib/lib/HTTP/Session2/Base.pm line 79.
	HTTP::Session2::Base::__ANON__('HTTP::Session2::ServerStore=HASH(0x55802f43af00)', 's3cret') called at t/03_mech.t line 121
	main::server_session('HASH(0x55802f435f48)') called at t/03_mech.t line 17
	main::__ANON__('HASH(0x55802f435f48)') called at /home/david/cpantesting/perl-5.16.3/lib/site_perl/5.16.3/Test/WWW/Mechanize/PSGI.pm line 46
	Test::WWW::Mechanize::PSGI::try {...} () called at /home/david/cpantesting/perl-5.16.3/lib/site_perl/5.16.3/Try/Tiny.pm line 102
	eval {...} called at /home/david/cpantesting/perl-5.16.3/lib/site_perl/5.16.3/Try/Tiny.pm line 93
	Try::Tiny::try('CODE(0x55802f431430)', 'Try::Tiny::Catch=REF(0x55802f4360f8)') called at /home/david/cpantesting/perl-5.16.3/lib/site_perl/5.16.3/Test/WWW/Mechanize/PSGI.pm line 53
	Test::WWW::Mechanize::PSGI::simple_request('Test::WWW::Mechanize::PSGI=HASH(0x55802f2ded00)', 'HTTP::Request=HASH(0x55802f436110)', undef, undef) called at /home/david/cpantesting/perl-5.16.3/lib/site_perl/5.16.3/LWP/UserAgent.pm line 300
	LWP::UserAgent::request('Test::WWW::Mechanize::PSGI=HASH(0x55802f2ded00)', 'HTTP::Request=HASH(0x55802f436110)') called at /home/david/cpantesting/perl-5.16.3/lib/site_perl/5.16.3/WWW/Mechanize.pm line 1462
	WWW::Mechanize::_make_request('Test::WWW::Mechanize::PSGI=HASH(0x55802f2ded00)', 'HTTP::Request=HASH(0x55802f436110)') called at /home/david/cpantesting/perl-5.16.3/lib/site_perl/5.16.3/WWW/Mechanize.pm line 1302
	WWW::Mechanize::request('Test::WWW::Mechanize::PSGI=HASH(0x55802f2ded00)', 'HTTP::Request=HASH(0x55802f436110)') called at /home/david/cpantesting/perl-5.16.3/lib/site_perl/5.16.3/LWP/UserAgent.pm line 444
	LWP::UserAgent::get('Test::WWW::Mechanize::PSGI=HASH(0x55802f2ded00)', 'http://localhost/wishlist') called at /home/david/cpantesting/perl-5.16.3/lib/site_perl/5.16.3/WWW/Mechanize.pm line 123
	WWW::Mechanize::get('Test::WWW::Mechanize::PSGI=HASH(0x55802f2ded00)', '/wishlist') called at /home/david/cpantesting/perl-5.16.3/lib/site_perl/5.16.3/Test/WWW/Mechanize.pm line 179
	Test::WWW::Mechanize::get_ok('Test::WWW::Mechanize::PSGI=HASH(0x55802f2ded00)', '/wishlist', 'Wishlist is still available') called at t/03_mech.t line 91
Secret string too short at /home/david/cpantesting/perl-5.16.3/.cpan/build/HTTP-Session2-1.10-ng7aen/blib/lib/HTTP/Session2/Base.pm line 79.
	HTTP::Session2::Base::__ANON__('HTTP::Session2::ServerStore=HASH(0x55802f43b140)', 's3cret') called at t/03_mech.t line 121
	main::server_session('HASH(0x55802f435b88)') called at t/03_mech.t line 17
	main::__ANON__('HASH(0x55802f435b88)') called at /home/david/cpantesting/perl-5.16.3/lib/site_perl/5.16.3/Test/WWW/Mechanize/PSGI.pm line 46
	Test::WWW::Mechanize::PSGI::try {...} () called at /home/david/cpantesting/perl-5.16.3/lib/site_perl/5.16.3/Try/Tiny.pm line 102
	eval {...} called at /home/david/cpantesting/perl-5.16.3/lib/site_perl/5.16.3/Try/Tiny.pm line 93
	Try::Tiny::try('CODE(0x55802f43b308)', 'Try::Tiny::Catch=REF(0x55802f4364a0)') called at /home/david/cpantesting/perl-5.16.3/lib/site_perl/5.16.3/Test/WWW/Mechanize/PSGI.pm line 53
	Test::WWW::Mechanize::PSGI::simple_request('Test::WWW::Mechanize::PSGI=HASH(0x55802f2ded00)', 'HTTP::Request=HASH(0x55802f430f20)', undef, undef) called at /home/david/cpantesting/perl-5.16.3/lib/site_perl/5.16.3/LWP/UserAgent.pm line 300
	LWP::UserAgent::request('Test::WWW::Mechanize::PSGI=HASH(0x55802f2ded00)', 'HTTP::Request=HASH(0x55802f430f20)') called at /home/david/cpantesting/perl-5.16.3/lib/site_perl/5.16.3/WWW/Mechanize.pm line 1462
	WWW::Mechanize::_make_request('Test::WWW::Mechanize::PSGI=HASH(0x55802f2ded00)', 'HTTP::Request=HASH(0x55802f430f20)') called at /home/david/cpantesting/perl-5.16.3/lib/site_perl/5.16.3/WWW/Mechanize.pm line 1302
	WWW::Mechanize::request('Test::WWW::Mechanize::PSGI=HASH(0x55802f2ded00)', 'HTTP::Request=HASH(0x55802f430f20)') called at /home/david/cpantesting/perl-5.16.3/lib/site_perl/5.16.3/LWP/UserAgent.pm line 444
	LWP::UserAgent::get('Test::WWW::Mechanize::PSGI=HASH(0x55802f2ded00)', 'http://localhost/my/name') called at /home/david/cpantesting/perl-5.16.3/lib/site_perl/5.16.3/WWW/Mechanize.pm line 123
	WWW::Mechanize::get('Test::WWW::Mechanize::PSGI=HASH(0x55802f2ded00)', '/my/name') called at /home/david/cpantesting/perl-5.16.3/lib/site_perl/5.16.3/Test/WWW/Mechanize.pm line 179
	Test::WWW::Mechanize::get_ok('Test::WWW::Mechanize::PSGI=HASH(0x55802f2ded00)', '/my/name') called at t/03_mech.t line 93
Secret string too short at /home/david/cpantesting/perl-5.16.3/.cpan/build/HTTP-Session2-1.10-ng7aen/blib/lib/HTTP/Session2/Base.pm line 79.
	HTTP::Session2::Base::__ANON__('HTTP::Session2::ServerStore=HASH(0x55802f43b548)', 's3cret') called at t/03_mech.t line 121
	main::server_session('HASH(0x55802f436230)') called at t/03_mech.t line 17
	main::__ANON__('HASH(0x55802f436230)') called at /home/david/cpantesting/perl-5.16.3/lib/site_perl/5.16.3/Test/WWW/Mechanize/PSGI.pm line 46
	Test::WWW::Mechanize::PSGI::try {...} () called at /home/david/cpantesting/perl-5.16.3/lib/site_perl/5.16.3/Try/Tiny.pm line 102
	eval {...} called at /home/david/cpantesting/perl-5.16.3/lib/site_perl/5.16.3/Try/Tiny.pm line 93
	Try::Tiny::try('CODE(0x55802f4364a0)', 'Try::Tiny::Catch=REF(0x55802f431040)') called at /home/david/cpantesting/perl-5.16.3/lib/site_perl/5.16.3/Test/WWW/Mechanize/PSGI.pm line 53
	Test::WWW::Mechanize::PSGI::simple_request('Test::WWW::Mechanize::PSGI=HASH(0x55802f2ded00)', 'HTTP::Request=HASH(0x55802f43b290)', undef, undef) called at /home/david/cpantesting/perl-5.16.3/lib/site_perl/5.16.3/LWP/UserAgent.pm line 300
	LWP::UserAgent::request('Test::WWW::Mechanize::PSGI=HASH(0x55802f2ded00)', 'HTTP::Request=HASH(0x55802f43b290)') called at /home/david/cpantesting/perl-5.16.3/lib/site_perl/5.16.3/WWW/Mechanize.pm line 1462
	WWW::Mechanize::_make_request('Test::WWW::Mechanize::PSGI=HASH(0x55802f2ded00)', 'HTTP::Request=HASH(0x55802f43b290)') called at /home/david/cpantesting/perl-5.16.3/lib/site_perl/5.16.3/WWW/Mechanize.pm line 1302
	WWW::Mechanize::request('Test::WWW::Mechanize::PSGI=HASH(0x55802f2ded00)', 'HTTP::Request=HASH(0x55802f43b290)') called at /home/david/cpantesting/perl-5.16.3/lib/site_perl/5.16.3/LWP/UserAgent.pm line 487
	LWP::UserAgent::post('Test::WWW::Mechanize::PSGI=HASH(0x55802f2ded00)', 'http://localhost/account/logout?john') called at /home/david/cpantesting/perl-5.16.3/lib/site_perl/5.16.3/WWW/Mechanize.pm line 139
	WWW::Mechanize::post('Test::WWW::Mechanize::PSGI=HASH(0x55802f2ded00)', '/account/logout?john') called at t/03_mech.t line 97
Secret string too short at /home/david/cpantesting/perl-5.16.3/.cpan/build/HTTP-Session2-1.10-ng7aen/blib/lib/HTTP/Session2/Base.pm line 79.
	HTTP::Session2::Base::__ANON__('HTTP::Session2::ClientStore=HASH(0x55802f4299a8)', 's3cret') called at t/03_mech.t line 127
	main::client_session('HASH(0x55802f429618)') called at t/03_mech.t line 17
	main::__ANON__('HASH(0x55802f429618)') called at /home/david/cpantesting/perl-5.16.3/lib/site_perl/5.16.3/Test/WWW/Mechanize/PSGI.pm line 46
	Test::WWW::Mechanize::PSGI::try {...} () called at /home/david/cpantesting/perl-5.16.3/lib/site_perl/5.16.3/Try/Tiny.pm line 102
	eval {...} called at /home/david/cpantesting/perl-5.16.3/lib/site_perl/5.16.3/Try/Tiny.pm line 93
	Try::Tiny::try('CODE(0x55802e00ab60)', 'Try::Tiny::Catch=REF(0x55802f43b5f0)') called at /home/david/cpantesting/perl-5.16.3/lib/site_perl/5.16.3/Test/WWW/Mechanize/PSGI.pm line 53
	Test::WWW::Mechanize::PSGI::simple_request('Test::WWW::Mechanize::PSGI=HASH(0x55802f2e4588)', 'HTTP::Request=HASH(0x55802f37d0f8)', undef, undef) called at /home/david/cpantesting/perl-5.16.3/lib/site_perl/5.16.3/LWP/UserAgent.pm line 300
	LWP::UserAgent::request('Test::WWW::Mechanize::PSGI=HASH(0x55802f2e4588)', 'HTTP::Request=HASH(0x55802f37d0f8)') called at /home/david/cpantesting/perl-5.16.3/lib/site_perl/5.16.3/WWW/Mechanize.pm line 1462
	WWW::Mechanize::_make_request('Test::WWW::Mechanize::PSGI=HASH(0x55802f2e4588)', 'HTTP::Request=HASH(0x55802f37d0f8)') called at /home/david/cpantesting/perl-5.16.3/lib/site_perl/5.16.3/WWW/Mechanize.pm line 1302
	WWW::Mechanize::request('Test::WWW::Mechanize::PSGI=HASH(0x55802f2e4588)', 'HTTP::Request=HASH(0x55802f37d0f8)') called at /home/david/cpantesting/perl-5.16.3/lib/site_perl/5.16.3/LWP/UserAgent.pm line 444
	LWP::UserAgent::get('Test::WWW::Mechanize::PSGI=HASH(0x55802f2e4588)', '/') called at /home/david/cpantesting/perl-5.16.3/lib/site_perl/5.16.3/WWW/Mechanize.pm line 123
	WWW::Mechanize::get('Test::WWW::Mechanize::PSGI=HASH(0x55802f2e4588)', '/') called at /home/david/cpantesting/perl-5.16.3/lib/site_perl/5.16.3/Test/WWW/Mechanize.pm line 179
	Test::WWW::Mechanize::get_ok('Test::WWW::Mechanize::PSGI=HASH(0x55802f2e4588)', '/') called at t/03_mech.t line 74
Secret string too short at /home/david/cpantesting/perl-5.16.3/.cpan/build/HTTP-Session2-1.10-ng7aen/blib/lib/HTTP/Session2/Base.pm line 79.
	HTTP::Session2::Base::__ANON__('HTTP::Session2::ClientStore=HASH(0x55802f429e88)', 's3cret') called at t/03_mech.t line 127
	main::client_session('HASH(0x55802f41a250)') called at t/03_mech.t line 17
	main::__ANON__('HASH(0x55802f41a250)') called at /home/david/cpantesting/perl-5.16.3/lib/site_perl/5.16.3/Test/WWW/Mechanize/PSGI.pm line 46
	Test::WWW::Mechanize::PSGI::try {...} () called at /home/david/cpantesting/perl-5.16.3/lib/site_perl/5.16.3/Try/Tiny.pm line 102
	eval {...} called at /home/david/cpantesting/perl-5.16.3/lib/site_perl/5.16.3/Try/Tiny.pm line 93
	Try::Tiny::try('CODE(0x55802f4296d8)', 'Try::Tiny::Catch=REF(0x55802f41dc80)') called at /home/david/cpantesting/perl-5.16.3/lib/site_perl/5.16.3/Test/WWW/Mechanize/PSGI.pm line 53
	Test::WWW::Mechanize::PSGI::simple_request('Test::WWW::Mechanize::PSGI=HASH(0x55802f2e4588)', 'HTTP::Request=HASH(0x55802f41e550)', undef, undef) called at /home/david/cpantesting/perl-5.16.3/lib/site_perl/5.16.3/LWP/UserAgent.pm line 300
	LWP::UserAgent::request('Test::WWW::Mechanize::PSGI=HASH(0x55802f2e4588)', 'HTTP::Request=HASH(0x55802f41e550)') called at /home/david/cpantesting/perl-5.16.3/lib/site_perl/5.16.3/WWW/Mechanize.pm line 1462
	WWW::Mechanize::_make_request('Test::WWW::Mechanize::PSGI=HASH(0x55802f2e4588)', 'HTTP::Request=HASH(0x55802f41e550)') called at /home/david/cpantesting/perl-5.16.3/lib/site_perl/5.16.3/WWW/Mechanize.pm line 1302
	WWW::Mechanize::request('Test::WWW::Mechanize::PSGI=HASH(0x55802f2e4588)', 'HTTP::Request=HASH(0x55802f41e550)') called at /home/david/cpantesting/perl-5.16.3/lib/site_perl/5.16.3/LWP/UserAgent.pm line 487
	LWP::UserAgent::post('Test::WWW::Mechanize::PSGI=HASH(0x55802f2e4588)', 'http://localhost/wishlist?foo', 'HASH(0x55802ef9c330)') called at /home/david/cpantesting/perl-5.16.3/lib/site_perl/5.16.3/WWW/Mechanize.pm line 139
	WWW::Mechanize::post('Test::WWW::Mechanize::PSGI=HASH(0x55802f2e4588)', '/wishlist?foo', 'HASH(0x55802ef9c330)') called at /home/david/cpantesting/perl-5.16.3/lib/site_perl/5.16.3/Test/WWW/Mechanize.pm line 285
	Test::WWW::Mechanize::post_ok('Test::WWW::Mechanize::PSGI=HASH(0x55802f2e4588)', '/wishlist?foo') called at t/03_mech.t line 75
Do not use HTTP::Session2::ClientStore. Use HTTP::Session2::ServerStore or HTTP::Session2::ClientStore2 instead. at /home/david/cpantesting/perl-5.16.3/.cpan/build/HTTP-Session2-1.10-ng7aen/blib/lib/HTTP/Session2/ClientStore.pm line 25.
Secret string too short at /home/david/cpantesting/perl-5.16.3/.cpan/build/HTTP-Session2-1.10-ng7aen/blib/lib/HTTP/Session2/Base.pm line 79.
	HTTP::Session2::Base::__ANON__('HTTP::Session2::ClientStore=HASH(0x55802f429c90)', 's3cret') called at t/03_mech.t line 127
	main::client_session('HASH(0x55802f42a320)') called at t/03_mech.t line 17
	main::__ANON__('HASH(0x55802f42a320)') called at /home/david/cpantesting/perl-5.16.3/lib/site_perl/5.16.3/Test/WWW/Mechanize/PSGI.pm line 46
	Test::WWW::Mechanize::PSGI::try {...} () called at /home/david/cpantesting/perl-5.16.3/lib/site_perl/5.16.3/Try/Tiny.pm line 102
	eval {...} called at /home/david/cpantesting/perl-5.16.3/lib/site_perl/5.16.3/Try/Tiny.pm line 93
	Try::Tiny::try('CODE(0x55802f41e850)', 'Try::Tiny::Catch=REF(0x55802f41e970)') called at /home/david/cpantesting/perl-5.16.3/lib/site_perl/5.16.3/Test/WWW/Mechanize/PSGI.pm line 53
	Test::WWW::Mechanize::PSGI::simple_request('Test::WWW::Mechanize::PSGI=HASH(0x55802f2e4588)', 'HTTP::Request=HASH(0x55802f43b5f0)', undef, undef) called at /home/david/cpantesting/perl-5.16.3/lib/site_perl/5.16.3/LWP/UserAgent.pm line 300
	LWP::UserAgent::request('Test::WWW::Mechanize::PSGI=HASH(0x55802f2e4588)', 'HTTP::Request=HASH(0x55802f43b5f0)') called at /home/david/cpantesting/perl-5.16.3/lib/site_perl/5.16.3/WWW/Mechanize.pm line 1462
	WWW::Mechanize::_make_request('Test::WWW::Mechanize::PSGI=HASH(0x55802f2e4588)', 'HTTP::Request=HASH(0x55802f43b5f0)') called at /home/david/cpantesting/perl-5.16.3/lib/site_perl/5.16.3/WWW/Mechanize.pm line 1302
	WWW::Mechanize::request('Test::WWW::Mechanize::PSGI=HASH(0x55802f2e4588)', 'HTTP::Request=HASH(0x55802f43b5f0)') called at /home/david/cpantesting/perl-5.16.3/lib/site_perl/5.16.3/LWP/UserAgent.pm line 444
	LWP::UserAgent::get('Test::WWW::Mechanize::PSGI=HASH(0x55802f2e4588)', 'http://localhost/wishlist') called at /home/david/cpantesting/perl-5.16.3/lib/site_perl/5.16.3/WWW/Mechanize.pm line 123
	WWW::Mechanize::get('Test::WWW::Mechanize::PSGI=HASH(0x55802f2e4588)', '/wishlist') called at /home/david/cpantesting/perl-5.16.3/lib/site_perl/5.16.3/Test/WWW/Mechanize.pm line 179
	Test::WWW::Mechanize::get_ok('Test::WWW::Mechanize::PSGI=HASH(0x55802f2e4588)', '/wishlist') called at t/03_mech.t line 76
Do not use HTTP::Session2::ClientStore. Use HTTP::Session2::ServerStore or HTTP::Session2::ClientStore2 instead. at /home/david/cpantesting/perl-5.16.3/.cpan/build/HTTP-Session2-1.10-ng7aen/blib/lib/HTTP/Session2/ClientStore.pm line 35.
Secret string too short at /home/david/cpantesting/perl-5.16.3/.cpan/build/HTTP-Session2-1.10-ng7aen/blib/lib/HTTP/Session2/Base.pm line 79.
	HTTP::Session2::Base::__ANON__('HTTP::Session2::ClientStore=HASH(0x55802f2e44c8)', 's3cret') called at t/03_mech.t line 127
	main::client_session('HASH(0x55802f429b40)') called at t/03_mech.t line 17
	main::__ANON__('HASH(0x55802f429b40)') called at /home/david/cpantesting/perl-5.16.3/lib/site_perl/5.16.3/Test/WWW/Mechanize/PSGI.pm line 46
	Test::WWW::Mechanize::PSGI::try {...} () called at /home/david/cpantesting/perl-5.16.3/lib/site_perl/5.16.3/Try/Tiny.pm line 102
	eval {...} called at /home/david/cpantesting/perl-5.16.3/lib/site_perl/5.16.3/Try/Tiny.pm line 93
	Try::Tiny::try('CODE(0x55802f429750)', 'Try::Tiny::Catch=REF(0x55802f430a88)') called at /home/david/cpantesting/perl-5.16.3/lib/site_perl/5.16.3/Test/WWW/Mechanize/PSGI.pm line 53
	Test::WWW::Mechanize::PSGI::simple_request('Test::WWW::Mechanize::PSGI=HASH(0x55802f2e4588)', 'HTTP::Request=HASH(0x55802f429f00)', undef, undef) called at /home/david/cpantesting/perl-5.16.3/lib/site_perl/5.16.3/LWP/UserAgent.pm line 300
	LWP::UserAgent::request('Test::WWW::Mechanize::PSGI=HASH(0x55802f2e4588)', 'HTTP::Request=HASH(0x55802f429f00)') called at /home/david/cpantesting/perl-5.16.3/lib/site_perl/5.16.3/WWW/Mechanize.pm line 1462
	WWW::Mechanize::_make_request('Test::WWW::Mechanize::PSGI=HASH(0x55802f2e4588)', 'HTTP::Request=HASH(0x55802f429f00)') called at /home/david/cpantesting/perl-5.16.3/lib/site_perl/5.16.3/WWW/Mechanize.pm line 1302
	WWW::Mechanize::request('Test::WWW::Mechanize::PSGI=HASH(0x55802f2e4588)', 'HTTP::Request=HASH(0x55802f429f00)') called at /home/david/cpantesting/perl-5.16.3/lib/site_perl/5.16.3/LWP/UserAgent.pm line 487
	LWP::UserAgent::post('Test::WWW::Mechanize::PSGI=HASH(0x55802f2e4588)', 'http://localhost/wishlist?bar') called at /home/david/cpantesting/perl-5.16.3/lib/site_perl/5.16.3/WWW/Mechanize.pm line 139
	WWW::Mechanize::post('Test::WWW::Mechanize::PSGI=HASH(0x55802f2e4588)', '/wishlist?bar') called at t/03_mech.t line 78
Do not use HTTP::Session2::ClientStore. Use HTTP::Session2::ServerStore or HTTP::Session2::ClientStore2 instead. at /home/david/cpantesting/perl-5.16.3/.cpan/build/HTTP-Session2-1.10-ng7aen/blib/lib/HTTP/Session2/ClientStore.pm line 35.
Secret string too short at /home/david/cpantesting/perl-5.16.3/.cpan/build/HTTP-Session2-1.10-ng7aen/blib/lib/HTTP/Session2/Base.pm line 79.
	HTTP::Session2::Base::__ANON__('HTTP::Session2::ClientStore=HASH(0x55802f430a70)', 's3cret') called at t/03_mech.t line 127
	main::client_session('HASH(0x55802f4358d0)') called at t/03_mech.t line 17
	main::__ANON__('HASH(0x55802f4358d0)') called at /home/david/cpantesting/perl-5.16.3/lib/site_perl/5.16.3/Test/WWW/Mechanize/PSGI.pm line 46
	Test::WWW::Mechanize::PSGI::try {...} () called at /home/david/cpantesting/perl-5.16.3/lib/site_perl/5.16.3/Try/Tiny.pm line 102
	eval {...} called at /home/david/cpantesting/perl-5.16.3/lib/site_perl/5.16.3/Try/Tiny.pm line 93
	Try::Tiny::try('CODE(0x55802f41e190)', 'Try::Tiny::Catch=REF(0x55802f431178)') called at /home/david/cpantesting/perl-5.16.3/lib/site_perl/5.16.3/Test/WWW/Mechanize/PSGI.pm line 53
	Test::WWW::Mechanize::PSGI::simple_request('Test::WWW::Mechanize::PSGI=HASH(0x55802f2e4588)', 'HTTP::Request=HASH(0x55802f43be18)', undef, undef) called at /home/david/cpantesting/perl-5.16.3/lib/site_perl/5.16.3/LWP/UserAgent.pm line 300
	LWP::UserAgent::request('Test::WWW::Mechanize::PSGI=HASH(0x55802f2e4588)', 'HTTP::Request=HASH(0x55802f43be18)') called at /home/david/cpantesting/perl-5.16.3/lib/site_perl/5.16.3/WWW/Mechanize.pm line 1462
	WWW::Mechanize::_make_request('Test::WWW::Mechanize::PSGI=HASH(0x55802f2e4588)', 'HTTP::Request=HASH(0x55802f43be18)') called at /home/david/cpantesting/perl-5.16.3/lib/site_perl/5.16.3/WWW/Mechanize.pm line 1302
	WWW::Mechanize::request('Test::WWW::Mechanize::PSGI=HASH(0x55802f2e4588)', 'HTTP::Request=HASH(0x55802f43be18)') called at /home/david/cpantesting/perl-5.16.3/lib/site_perl/5.16.3/LWP/UserAgent.pm line 487
	LWP::UserAgent::post('Test::WWW::Mechanize::PSGI=HASH(0x55802f2e4588)', 'http://localhost/wishlist?bar', 'HASH(0x55802ef9c330)') called at /home/david/cpantesting/perl-5.16.3/lib/site_perl/5.16.3/WWW/Mechanize.pm line 139
	WWW::Mechanize::post('Test::WWW::Mechanize::PSGI=HASH(0x55802f2e4588)', '/wishlist?bar', 'HASH(0x55802ef9c330)') called at /home/david/cpantesting/perl-5.16.3/lib/site_perl/5.16.3/Test/WWW/Mechanize.pm line 285
	Test::WWW::Mechanize::post_ok('Test::WWW::Mechanize::PSGI=HASH(0x55802f2e4588)', '/wishlist?bar') called at t/03_mech.t line 81
Do not use HTTP::Session2::ClientStore. Use HTTP::Session2::ServerStore or HTTP::Session2::ClientStore2 instead. at /home/david/cpantesting/perl-5.16.3/.cpan/build/HTTP-Session2-1.10-ng7aen/blib/lib/HTTP/Session2/ClientStore.pm line 35.
Do not use HTTP::Session2::ClientStore. Use HTTP::Session2::ServerStore or HTTP::Session2::ClientStore2 instead. at /home/david/cpantesting/perl-5.16.3/.cpan/build/HTTP-Session2-1.10-ng7aen/blib/lib/HTTP/Session2/ClientStore.pm line 25.
Secret string too short at /home/david/cpantesting/perl-5.16.3/.cpan/build/HTTP-Session2-1.10-ng7aen/blib/lib/HTTP/Session2/Base.pm line 79.
	HTTP::Session2::Base::__ANON__('HTTP::Session2::ClientStore=HASH(0x55802f435a80)', 's3cret') called at t/03_mech.t line 127
	main::client_session('HASH(0x55802f429810)') called at t/03_mech.t line 17
	main::__ANON__('HASH(0x55802f429810)') called at /home/david/cpantesting/perl-5.16.3/lib/site_perl/5.16.3/Test/WWW/Mechanize/PSGI.pm line 46
	Test::WWW::Mechanize::PSGI::try {...} () called at /home/david/cpantesting/perl-5.16.3/lib/site_perl/5.16.3/Try/Tiny.pm line 102
	eval {...} called at /home/david/cpantesting/perl-5.16.3/lib/site_perl/5.16.3/Try/Tiny.pm line 93
	Try::Tiny::try('CODE(0x55802f435b28)', 'Try::Tiny::Catch=REF(0x55802f430c50)') called at /home/david/cpantesting/perl-5.16.3/lib/site_perl/5.16.3/Test/WWW/Mechanize/PSGI.pm line 53
	Test::WWW::Mechanize::PSGI::simple_request('Test::WWW::Mechanize::PSGI=HASH(0x55802f2e4588)', 'HTTP::Request=HASH(0x55802f430c38)', undef, undef) called at /home/david/cpantesting/perl-5.16.3/lib/site_perl/5.16.3/LWP/UserAgent.pm line 300
	LWP::UserAgent::request('Test::WWW::Mechanize::PSGI=HASH(0x55802f2e4588)', 'HTTP::Request=HASH(0x55802f430c38)') called at /home/david/cpantesting/perl-5.16.3/lib/site_perl/5.16.3/WWW/Mechanize.pm line 1462
	WWW::Mechanize::_make_request('Test::WWW::Mechanize::PSGI=HASH(0x55802f2e4588)', 'HTTP::Request=HASH(0x55802f430c38)') called at /home/david/cpantesting/perl-5.16.3/lib/site_perl/5.16.3/WWW/Mechanize.pm line 1302
	WWW::Mechanize::request('Test::WWW::Mechanize::PSGI=HASH(0x55802f2e4588)', 'HTTP::Request=HASH(0x55802f430c38)') called at /home/david/cpantesting/perl-5.16.3/lib/site_perl/5.16.3/LWP/UserAgent.pm line 444
	LWP::UserAgent::get('Test::WWW::Mechanize::PSGI=HASH(0x55802f2e4588)', 'http://localhost/wishlist') called at /home/david/cpantesting/perl-5.16.3/lib/site_perl/5.16.3/WWW/Mechanize.pm line 123
	WWW::Mechanize::get('Test::WWW::Mechanize::PSGI=HASH(0x55802f2e4588)', '/wishlist') called at /home/david/cpantesting/perl-5.16.3/lib/site_perl/5.16.3/Test/WWW/Mechanize.pm line 179
	Test::WWW::Mechanize::get_ok('Test::WWW::Mechanize::PSGI=HASH(0x55802f2e4588)', '/wishlist') called at t/03_mech.t line 82
Do not use HTTP::Session2::ClientStore. Use HTTP::Session2::ServerStore or HTTP::Session2::ClientStore2 instead. at /home/david/cpantesting/perl-5.16.3/.cpan/build/HTTP-Session2-1.10-ng7aen/blib/lib/HTTP/Session2/ClientStore.pm line 35.
Secret string too short at /home/david/cpantesting/perl-5.16.3/.cpan/build/HTTP-Session2-1.10-ng7aen/blib/lib/HTTP/Session2/Base.pm line 79.
	HTTP::Session2::Base::__ANON__('HTTP::Session2::ClientStore=HASH(0x55802f430e18)', 's3cret') called at t/03_mech.t line 127
	main::client_session('HASH(0x55802f430c50)') called at t/03_mech.t line 17
	main::__ANON__('HASH(0x55802f430c50)') called at /home/david/cpantesting/perl-5.16.3/lib/site_perl/5.16.3/Test/WWW/Mechanize/PSGI.pm line 46
	Test::WWW::Mechanize::PSGI::try {...} () called at /home/david/cpantesting/perl-5.16.3/lib/site_perl/5.16.3/Try/Tiny.pm line 102
	eval {...} called at /home/david/cpantesting/perl-5.16.3/lib/site_perl/5.16.3/Try/Tiny.pm line 93
	Try::Tiny::try('CODE(0x55802f41e748)', 'Try::Tiny::Catch=REF(0x55802f430d10)') called at /home/david/cpantesting/perl-5.16.3/lib/site_perl/5.16.3/Test/WWW/Mechanize/PSGI.pm line 53
	Test::WWW::Mechanize::PSGI::simple_request('Test::WWW::Mechanize::PSGI=HASH(0x55802f2e4588)', 'HTTP::Request=HASH(0x55802f43af00)', undef, undef) called at /home/david/cpantesting/perl-5.16.3/lib/site_perl/5.16.3/LWP/UserAgent.pm line 300
	LWP::UserAgent::request('Test::WWW::Mechanize::PSGI=HASH(0x55802f2e4588)', 'HTTP::Request=HASH(0x55802f43af00)') called at /home/david/cpantesting/perl-5.16.3/lib/site_perl/5.16.3/WWW/Mechanize.pm line 1462
	WWW::Mechanize::_make_request('Test::WWW::Mechanize::PSGI=HASH(0x55802f2e4588)', 'HTTP::Request=HASH(0x55802f43af00)') called at /home/david/cpantesting/perl-5.16.3/lib/site_perl/5.16.3/WWW/Mechanize.pm line 1302
	WWW::Mechanize::request('Test::WWW::Mechanize::PSGI=HASH(0x55802f2e4588)', 'HTTP::Request=HASH(0x55802f43af00)') called at /home/david/cpantesting/perl-5.16.3/lib/site_perl/5.16.3/LWP/UserAgent.pm line 487
	LWP::UserAgent::post('Test::WWW::Mechanize::PSGI=HASH(0x55802f2e4588)', 'http://localhost/account/login?john', 'HASH(0x55802ef9c330)') called at /home/david/cpantesting/perl-5.16.3/lib/site_perl/5.16.3/WWW/Mechanize.pm line 139
	WWW::Mechanize::post('Test::WWW::Mechanize::PSGI=HASH(0x55802f2e4588)', '/account/login?john', 'HASH(0x55802ef9c330)') called at /home/david/cpantesting/perl-5.16.3/lib/site_perl/5.16.3/Test/WWW/Mechanize.pm line 285
	Test::WWW::Mechanize::post_ok('Test::WWW::Mechanize::PSGI=HASH(0x55802f2e4588)', '/account/login?john') called at t/03_mech.t line 84
Do not use HTTP::Session2::ClientStore. Use HTTP::Session2::ServerStore or HTTP::Session2::ClientStore2 instead. at /home/david/cpantesting/perl-5.16.3/.cpan/build/HTTP-Session2-1.10-ng7aen/blib/lib/HTTP/Session2/ClientStore.pm line 35.
Do not use HTTP::Session2::ClientStore. Use HTTP::Session2::ServerStore or HTTP::Session2::ClientStore2 instead. at /home/david/cpantesting/perl-5.16.3/.cpan/build/HTTP-Session2-1.10-ng7aen/blib/lib/HTTP/Session2/ClientStore.pm line 35.
Do not use HTTP::Session2::ClientStore. Use HTTP::Session2::ServerStore or HTTP::Session2::ClientStore2 instead. at /home/david/cpantesting/perl-5.16.3/.cpan/build/HTTP-Session2-1.10-ng7aen/blib/lib/HTTP/Session2/ClientStore.pm line 25.
Secret string too short at /home/david/cpantesting/perl-5.16.3/.cpan/build/HTTP-Session2-1.10-ng7aen/blib/lib/HTTP/Session2/Base.pm line 79.
	HTTP::Session2::Base::__ANON__('HTTP::Session2::ClientStore=HASH(0x55802f435a98)', 's3cret') called at t/03_mech.t line 127
	main::client_session('HASH(0x55802f4311f0)') called at t/03_mech.t line 17
	main::__ANON__('HASH(0x55802f4311f0)') called at /home/david/cpantesting/perl-5.16.3/lib/site_perl/5.16.3/Test/WWW/Mechanize/PSGI.pm line 46
	Test::WWW::Mechanize::PSGI::try {...} () called at /home/david/cpantesting/perl-5.16.3/lib/site_perl/5.16.3/Try/Tiny.pm line 102
	eval {...} called at /home/david/cpantesting/perl-5.16.3/lib/site_perl/5.16.3/Try/Tiny.pm line 93
	Try::Tiny::try('CODE(0x55802f43bce0)', 'Try::Tiny::Catch=REF(0x55802f4313b8)') called at /home/david/cpantesting/perl-5.16.3/lib/site_perl/5.16.3/Test/WWW/Mechanize/PSGI.pm line 53
	Test::WWW::Mechanize::PSGI::simple_request('Test::WWW::Mechanize::PSGI=HASH(0x55802f2e4588)', 'HTTP::Request=HASH(0x55802f435d98)', undef, undef) called at /home/david/cpantesting/perl-5.16.3/lib/site_perl/5.16.3/LWP/UserAgent.pm line 300
	LWP::UserAgent::request('Test::WWW::Mechanize::PSGI=HASH(0x55802f2e4588)', 'HTTP::Request=HASH(0x55802f435d98)') called at /home/david/cpantesting/perl-5.16.3/lib/site_perl/5.16.3/WWW/Mechanize.pm line 1462
	WWW::Mechanize::_make_request('Test::WWW::Mechanize::PSGI=HASH(0x55802f2e4588)', 'HTTP::Request=HASH(0x55802f435d98)') called at /home/david/cpantesting/perl-5.16.3/lib/site_perl/5.16.3/WWW/Mechanize.pm line 1302
	WWW::Mechanize::request('Test::WWW::Mechanize::PSGI=HASH(0x55802f2e4588)', 'HTTP::Request=HASH(0x55802f435d98)') called at /home/david/cpantesting/perl-5.16.3/lib/site_perl/5.16.3/LWP/UserAgent.pm line 444
	LWP::UserAgent::get('Test::WWW::Mechanize::PSGI=HASH(0x55802f2e4588)', 'http://localhost/wishlist') called at /home/david/cpantesting/perl-5.16.3/lib/site_perl/5.16.3/WWW/Mechanize.pm line 123
	WWW::Mechanize::get('Test::WWW::Mechanize::PSGI=HASH(0x55802f2e4588)', '/wishlist') called at /home/david/cpantesting/perl-5.16.3/lib/site_perl/5.16.3/Test/WWW/Mechanize.pm line 179
	Test::WWW::Mechanize::get_ok('Test::WWW::Mechanize::PSGI=HASH(0x55802f2e4588)', '/wishlist', 'Wishlist is still available') called at t/03_mech.t line 85
Do not use HTTP::Session2::ClientStore. Use HTTP::Session2::ServerStore or HTTP::Session2::ClientStore2 instead. at /home/david/cpantesting/perl-5.16.3/.cpan/build/HTTP-Session2-1.10-ng7aen/blib/lib/HTTP/Session2/ClientStore.pm line 35.
Secret string too short at /home/david/cpantesting/perl-5.16.3/.cpan/build/HTTP-Session2-1.10-ng7aen/blib/lib/HTTP/Session2/Base.pm line 79.
	HTTP::Session2::Base::__ANON__('HTTP::Session2::ClientStore=HASH(0x55802f429bb8)', 's3cret') called at t/03_mech.t line 127
	main::client_session('HASH(0x55802f430b90)') called at t/03_mech.t line 17
	main::__ANON__('HASH(0x55802f430b90)') called at /home/david/cpantesting/perl-5.16.3/lib/site_perl/5.16.3/Test/WWW/Mechanize/PSGI.pm line 46
	Test::WWW::Mechanize::PSGI::try {...} () called at /home/david/cpantesting/perl-5.16.3/lib/site_perl/5.16.3/Try/Tiny.pm line 102
	eval {...} called at /home/david/cpantesting/perl-5.16.3/lib/site_perl/5.16.3/Try/Tiny.pm line 93
	Try::Tiny::try('CODE(0x55802f436158)', 'Try::Tiny::Catch=REF(0x55802f43b1d0)') called at /home/david/cpantesting/perl-5.16.3/lib/site_perl/5.16.3/Test/WWW/Mechanize/PSGI.pm line 53
	Test::WWW::Mechanize::PSGI::simple_request('Test::WWW::Mechanize::PSGI=HASH(0x55802f2e4588)', 'HTTP::Request=HASH(0x55802f43b3c8)', undef, undef) called at /home/david/cpantesting/perl-5.16.3/lib/site_perl/5.16.3/LWP/UserAgent.pm line 300
	LWP::UserAgent::request('Test::WWW::Mechanize::PSGI=HASH(0x55802f2e4588)', 'HTTP::Request=HASH(0x55802f43b3c8)') called at /home/david/cpantesting/perl-5.16.3/lib/site_perl/5.16.3/WWW/Mechanize.pm line 1462
	WWW::Mechanize::_make_request('Test::WWW::Mechanize::PSGI=HASH(0x55802f2e4588)', 'HTTP::Request=HASH(0x55802f43b3c8)') called at /home/david/cpantesting/perl-5.16.3/lib/site_perl/5.16.3/WWW/Mechanize.pm line 1302
	WWW::Mechanize::request('Test::WWW::Mechanize::PSGI=HASH(0x55802f2e4588)', 'HTTP::Request=HASH(0x55802f43b3c8)') called at /home/david/cpantesting/perl-5.16.3/lib/site_perl/5.16.3/LWP/UserAgent.pm line 487
	LWP::UserAgent::post('Test::WWW::Mechanize::PSGI=HASH(0x55802f2e4588)', 'http://localhost/wishlist?baz') called at /home/david/cpantesting/perl-5.16.3/lib/site_perl/5.16.3/WWW/Mechanize.pm line 139
	WWW::Mechanize::post('Test::WWW::Mechanize::PSGI=HASH(0x55802f2e4588)', '/wishlist?baz') called at t/03_mech.t line 87
Do not use HTTP::Session2::ClientStore. Use HTTP::Session2::ServerStore or HTTP::Session2::ClientStore2 instead. at /home/david/cpantesting/perl-5.16.3/.cpan/build/HTTP-Session2-1.10-ng7aen/blib/lib/HTTP/Session2/ClientStore.pm line 35.
Secret string too short at /home/david/cpantesting/perl-5.16.3/.cpan/build/HTTP-Session2-1.10-ng7aen/blib/lib/HTTP/Session2/Base.pm line 79.
	HTTP::Session2::Base::__ANON__('HTTP::Session2::ClientStore=HASH(0x55802f42a158)', 's3cret') called at t/03_mech.t line 127
	main::client_session('HASH(0x55802f43b4e8)') called at t/03_mech.t line 17
	main::__ANON__('HASH(0x55802f43b4e8)') called at /home/david/cpantesting/perl-5.16.3/lib/site_perl/5.16.3/Test/WWW/Mechanize/PSGI.pm line 46
	Test::WWW::Mechanize::PSGI::try {...} () called at /home/david/cpantesting/perl-5.16.3/lib/site_perl/5.16.3/Try/Tiny.pm line 102
	eval {...} called at /home/david/cpantesting/perl-5.16.3/lib/site_perl/5.16.3/Try/Tiny.pm line 93
	Try::Tiny::try('CODE(0x55802f43b6e0)', 'Try::Tiny::Catch=REF(0x55802f41e9d0)') called at /home/david/cpantesting/perl-5.16.3/lib/site_perl/5.16.3/Test/WWW/Mechanize/PSGI.pm line 53
	Test::WWW::Mechanize::PSGI::simple_request('Test::WWW::Mechanize::PSGI=HASH(0x55802f2e4588)', 'HTTP::Request=HASH(0x55802f435c60)', undef, undef) called at /home/david/cpantesting/perl-5.16.3/lib/site_perl/5.16.3/LWP/UserAgent.pm line 300
	LWP::UserAgent::request('Test::WWW::Mechanize::PSGI=HASH(0x55802f2e4588)', 'HTTP::Request=HASH(0x55802f435c60)') called at /home/david/cpantesting/perl-5.16.3/lib/site_perl/5.16.3/WWW/Mechanize.pm line 1462
	WWW::Mechanize::_make_request('Test::WWW::Mechanize::PSGI=HASH(0x55802f2e4588)', 'HTTP::Request=HASH(0x55802f435c60)') called at /home/david/cpantesting/perl-5.16.3/lib/site_perl/5.16.3/WWW/Mechanize.pm line 1302
	WWW::Mechanize::request('Test::WWW::Mechanize::PSGI=HASH(0x55802f2e4588)', 'HTTP::Request=HASH(0x55802f435c60)') called at /home/david/cpantesting/perl-5.16.3/lib/site_perl/5.16.3/LWP/UserAgent.pm line 487
	LWP::UserAgent::post('Test::WWW::Mechanize::PSGI=HASH(0x55802f2e4588)', 'http://localhost/wishlist?baz', 'HASH(0x55802ef9c330)') called at /home/david/cpantesting/perl-5.16.3/lib/site_perl/5.16.3/WWW/Mechanize.pm line 139
	WWW::Mechanize::post('Test::WWW::Mechanize::PSGI=HASH(0x55802f2e4588)', '/wishlist?baz', 'HASH(0x55802ef9c330)') called at /home/david/cpantesting/perl-5.16.3/lib/site_perl/5.16.3/Test/WWW/Mechanize.pm line 285
	Test::WWW::Mechanize::post_ok('Test::WWW::Mechanize::PSGI=HASH(0x55802f2e4588)', '/wishlist?baz') called at t/03_mech.t line 90
Do not use HTTP::Session2::ClientStore. Use HTTP::Session2::ServerStore or HTTP::Session2::ClientStore2 instead. at /home/david/cpantesting/perl-5.16.3/.cpan/build/HTTP-Session2-1.10-ng7aen/blib/lib/HTTP/Session2/ClientStore.pm line 35.
Do not use HTTP::Session2::ClientStore. Use HTTP::Session2::ServerStore or HTTP::Session2::ClientStore2 instead. at /home/david/cpantesting/perl-5.16.3/.cpan/build/HTTP-Session2-1.10-ng7aen/blib/lib/HTTP/Session2/ClientStore.pm line 25.
Secret string too short at /home/david/cpantesting/perl-5.16.3/.cpan/build/HTTP-Session2-1.10-ng7aen/blib/lib/HTTP/Session2/Base.pm line 79.
	HTTP::Session2::Base::__ANON__('HTTP::Session2::ClientStore=HASH(0x55802f436038)', 's3cret') called at t/03_mech.t line 127
	main::client_session('HASH(0x55802f4356d8)') called at t/03_mech.t line 17
	main::__ANON__('HASH(0x55802f4356d8)') called at /home/david/cpantesting/perl-5.16.3/lib/site_perl/5.16.3/Test/WWW/Mechanize/PSGI.pm line 46
	Test::WWW::Mechanize::PSGI::try {...} () called at /home/david/cpantesting/perl-5.16.3/lib/site_perl/5.16.3/Try/Tiny.pm line 102
	eval {...} called at /home/david/cpantesting/perl-5.16.3/lib/site_perl/5.16.3/Try/Tiny.pm line 93
	Try::Tiny::try('CODE(0x55802f4364a0)', 'Try::Tiny::Catch=REF(0x55802f43b728)') called at /home/david/cpantesting/perl-5.16.3/lib/site_perl/5.16.3/Test/WWW/Mechanize/PSGI.pm line 53
	Test::WWW::Mechanize::PSGI::simple_request('Test::WWW::Mechanize::PSGI=HASH(0x55802f2e4588)', 'HTTP::Request=HASH(0x55802f43fbc0)', undef, undef) called at /home/david/cpantesting/perl-5.16.3/lib/site_perl/5.16.3/LWP/UserAgent.pm line 300
	LWP::UserAgent::request('Test::WWW::Mechanize::PSGI=HASH(0x55802f2e4588)', 'HTTP::Request=HASH(0x55802f43fbc0)') called at /home/david/cpantesting/perl-5.16.3/lib/site_perl/5.16.3/WWW/Mechanize.pm line 1462
	WWW::Mechanize::_make_request('Test::WWW::Mechanize::PSGI=HASH(0x55802f2e4588)', 'HTTP::Request=HASH(0x55802f43fbc0)') called at /home/david/cpantesting/perl-5.16.3/lib/site_perl/5.16.3/WWW/Mechanize.pm line 1302
	WWW::Mechanize::request('Test::WWW::Mechanize::PSGI=HASH(0x55802f2e4588)', 'HTTP::Request=HASH(0x55802f43fbc0)') called at /home/david/cpantesting/perl-5.16.3/lib/site_perl/5.16.3/LWP/UserAgent.pm line 444
	LWP::UserAgent::get('Test::WWW::Mechanize::PSGI=HASH(0x55802f2e4588)', 'http://localhost/wishlist') called at /home/david/cpantesting/perl-5.16.3/lib/site_perl/5.16.3/WWW/Mechanize.pm line 123
	WWW::Mechanize::get('Test::WWW::Mechanize::PSGI=HASH(0x55802f2e4588)', '/wishlist') called at /home/david/cpantesting/perl-5.16.3/lib/site_perl/5.16.3/Test/WWW/Mechanize.pm line 179
	Test::WWW::Mechanize::get_ok('Test::WWW::Mechanize::PSGI=HASH(0x55802f2e4588)', '/wishlist', 'Wishlist is still available') called at t/03_mech.t line 91
Do not use HTTP::Session2::ClientStore. Use HTTP::Session2::ServerStore or HTTP::Session2::ClientStore2 instead. at /home/david/cpantesting/perl-5.16.3/.cpan/build/HTTP-Session2-1.10-ng7aen/blib/lib/HTTP/Session2/ClientStore.pm line 35.
Secret string too short at /home/david/cpantesting/perl-5.16.3/.cpan/build/HTTP-Session2-1.10-ng7aen/blib/lib/HTTP/Session2/Base.pm line 79.
	HTTP::Session2::Base::__ANON__('HTTP::Session2::ClientStore=HASH(0x55802f43fe18)', 's3cret') called at t/03_mech.t line 127
	main::client_session('HASH(0x55802f43ff20)') called at t/03_mech.t line 17
	main::__ANON__('HASH(0x55802f43ff20)') called at /home/david/cpantesting/perl-5.16.3/lib/site_perl/5.16.3/Test/WWW/Mechanize/PSGI.pm line 46
	Test::WWW::Mechanize::PSGI::try {...} () called at /home/david/cpantesting/perl-5.16.3/lib/site_perl/5.16.3/Try/Tiny.pm line 102
	eval {...} called at /home/david/cpantesting/perl-5.16.3/lib/site_perl/5.16.3/Try/Tiny.pm line 93
	Try::Tiny::try('CODE(0x55802f43fd70)', 'Try::Tiny::Catch=REF(0x55802f43b218)') called at /home/david/cpantesting/perl-5.16.3/lib/site_perl/5.16.3/Test/WWW/Mechanize/PSGI.pm line 53
	Test::WWW::Mechanize::PSGI::simple_request('Test::WWW::Mechanize::PSGI=HASH(0x55802f2e4588)', 'HTTP::Request=HASH(0x55802f43fd40)', undef, undef) called at /home/david/cpantesting/perl-5.16.3/lib/site_perl/5.16.3/LWP/UserAgent.pm line 300
	LWP::UserAgent::request('Test::WWW::Mechanize::PSGI=HASH(0x55802f2e4588)', 'HTTP::Request=HASH(0x55802f43fd40)') called at /home/david/cpantesting/perl-5.16.3/lib/site_perl/5.16.3/WWW/Mechanize.pm line 1462
	WWW::Mechanize::_make_request('Test::WWW::Mechanize::PSGI=HASH(0x55802f2e4588)', 'HTTP::Request=HASH(0x55802f43fd40)') called at /home/david/cpantesting/perl-5.16.3/lib/site_perl/5.16.3/WWW/Mechanize.pm line 1302
	WWW::Mechanize::request('Test::WWW::Mechanize::PSGI=HASH(0x55802f2e4588)', 'HTTP::Request=HASH(0x55802f43fd40)') called at /home/david/cpantesting/perl-5.16.3/lib/site_perl/5.16.3/LWP/UserAgent.pm line 444
	LWP::UserAgent::get('Test::WWW::Mechanize::PSGI=HASH(0x55802f2e4588)', 'http://localhost/my/name') called at /home/david/cpantesting/perl-5.16.3/lib/site_perl/5.16.3/WWW/Mechanize.pm line 123
	WWW::Mechanize::get('Test::WWW::Mechanize::PSGI=HASH(0x55802f2e4588)', '/my/name') called at /home/david/cpantesting/perl-5.16.3/lib/site_perl/5.16.3/Test/WWW/Mechanize.pm line 179
	Test::WWW::Mechanize::get_ok('Test::WWW::Mechanize::PSGI=HASH(0x55802f2e4588)', '/my/name') called at t/03_mech.t line 93
Do not use HTTP::Session2::ClientStore. Use HTTP::Session2::ServerStore or HTTP::Session2::ClientStore2 instead. at /home/david/cpantesting/perl-5.16.3/.cpan/build/HTTP-Session2-1.10-ng7aen/blib/lib/HTTP/Session2/ClientStore.pm line 35.
Secret string too short at /home/david/cpantesting/perl-5.16.3/.cpan/build/HTTP-Session2-1.10-ng7aen/blib/lib/HTTP/Session2/Base.pm line 79.
	HTTP::Session2::Base::__ANON__('HTTP::Session2::ClientStore=HASH(0x55802f436338)', 's3cret') called at t/03_mech.t line 127
	main::client_session('HASH(0x55802f431280)') called at t/03_mech.t line 17
	main::__ANON__('HASH(0x55802f431280)') called at /home/david/cpantesting/perl-5.16.3/lib/site_perl/5.16.3/Test/WWW/Mechanize/PSGI.pm line 46
	Test::WWW::Mechanize::PSGI::try {...} () called at /home/david/cpantesting/perl-5.16.3/lib/site_perl/5.16.3/Try/Tiny.pm line 102
	eval {...} called at /home/david/cpantesting/perl-5.16.3/lib/site_perl/5.16.3/Try/Tiny.pm line 93
	Try::Tiny::try('CODE(0x55802f43b218)', 'Try::Tiny::Catch=REF(0x55802f43ba58)') called at /home/david/cpantesting/perl-5.16.3/lib/site_perl/5.16.3/Test/WWW/Mechanize/PSGI.pm line 53
	Test::WWW::Mechanize::PSGI::simple_request('Test::WWW::Mechanize::PSGI=HASH(0x55802f2e4588)', 'HTTP::Request=HASH(0x55802f43fea8)', undef, undef) called at /home/david/cpantesting/perl-5.16.3/lib/site_perl/5.16.3/LWP/UserAgent.pm line 300
	LWP::UserAgent::request('Test::WWW::Mechanize::PSGI=HASH(0x55802f2e4588)', 'HTTP::Request=HASH(0x55802f43fea8)') called at /home/david/cpantesting/perl-5.16.3/lib/site_perl/5.16.3/WWW/Mechanize.pm line 1462
	WWW::Mechanize::_make_request('Test::WWW::Mechanize::PSGI=HASH(0x55802f2e4588)', 'HTTP::Request=HASH(0x55802f43fea8)') called at /home/david/cpantesting/perl-5.16.3/lib/site_perl/5.16.3/WWW/Mechanize.pm line 1302
	WWW::Mechanize::request('Test::WWW::Mechanize::PSGI=HASH(0x55802f2e4588)', 'HTTP::Request=HASH(0x55802f43fea8)') called at /home/david/cpantesting/perl-5.16.3/lib/site_perl/5.16.3/LWP/UserAgent.pm line 487
	LWP::UserAgent::post('Test::WWW::Mechanize::PSGI=HASH(0x55802f2e4588)', 'http://localhost/account/logout?john') called at /home/david/cpantesting/perl-5.16.3/lib/site_perl/5.16.3/WWW/Mechanize.pm line 139
	WWW::Mechanize::post('Test::WWW::Mechanize::PSGI=HASH(0x55802f2e4588)', '/account/logout?john') called at t/03_mech.t line 97
Do not use HTTP::Session2::ClientStore. Use HTTP::Session2::ServerStore or HTTP::Session2::ClientStore2 instead. at /home/david/cpantesting/perl-5.16.3/.cpan/build/HTTP-Session2-1.10-ng7aen/blib/lib/HTTP/Session2/ClientStore.pm line 35.
Do not use HTTP::Session2::ClientStore. Use HTTP::Session2::ServerStore or HTTP::Session2::ClientStore2 instead. at /home/david/cpantesting/perl-5.16.3/.cpan/build/HTTP-Session2-1.10-ng7aen/blib/lib/HTTP/Session2/ClientStore.pm line 35.
t/03_mech.t ................. ok
Do not use HTTP::Session2::ClientStore. Use HTTP::Session2::ServerStore or HTTP::Session2::ClientStore2 instead. at /home/david/cpantesting/perl-5.16.3/.cpan/build/HTTP-Session2-1.10-ng7aen/blib/lib/HTTP/Session2/ClientStore.pm line 25.
t/04_plack_response.t ....... ok
Secret string too short at /home/david/cpantesting/perl-5.16.3/.cpan/build/HTTP-Session2-1.10-ng7aen/blib/lib/HTTP/Session2/Base.pm line 79.
	HTTP::Session2::Base::__ANON__('HTTP::Session2::ClientStore=HASH(0x563a2a6eba38)', 's3cret') called at t/05_keep_me_signed_in.t line 15
Do not use HTTP::Session2::ClientStore. Use HTTP::Session2::ServerStore or HTTP::Session2::ClientStore2 instead. at /home/david/cpantesting/perl-5.16.3/.cpan/build/HTTP-Session2-1.10-ng7aen/blib/lib/HTTP/Session2/ClientStore.pm line 25.
t/05_keep_me_signed_in.t .... ok
Secret string too short at /home/david/cpantesting/perl-5.16.3/.cpan/build/HTTP-Session2-1.10-ng7aen/blib/lib/HTTP/Session2/Base.pm line 79.
	HTTP::Session2::Base::__ANON__('HTTP::Session2::Base=HASH(0x561afdad0888)', 'i am secret') called at t/06_base_abstract.t line 7
t/06_base_abstract.t ........ ok
Secret string too short at /home/david/cpantesting/perl-5.16.3/.cpan/build/HTTP-Session2-1.10-ng7aen/blib/lib/HTTP/Session2/Base.pm line 79.
	HTTP::Session2::Base::__ANON__('HTTP::Session2::ClientStore=HASH(0x557d2d6cadd8)', 'secret') called at t/07_client_store.t line 23
	main::__ANON__() called at /home/david/cpantesting/perl-5.16.3/lib/site_perl/5.16.3/Test/Builder.pm line 374
	eval {...} called at /home/david/cpantesting/perl-5.16.3/lib/site_perl/5.16.3/Test/Builder.pm line 374
	Test::Builder::subtest('Test::Builder=HASH(0x557d2c9bcbe8)', 'get/set/remove', 'CODE(0x557d2d1fa320)') called at /home/david/cpantesting/perl-5.16.3/lib/site_perl/5.16.3/Test/More.pm line 809
	Test::More::subtest('get/set/remove', 'CODE(0x557d2d1fa320)') called at t/07_client_store.t line 31
Secret string too short at /home/david/cpantesting/perl-5.16.3/.cpan/build/HTTP-Session2-1.10-ng7aen/blib/lib/HTTP/Session2/Base.pm line 79.
	HTTP::Session2::Base::__ANON__('HTTP::Session2::ClientStore=HASH(0x557d2d6cb828)', 'secret') called at t/07_client_store.t line 35
	main::__ANON__() called at /home/david/cpantesting/perl-5.16.3/lib/site_perl/5.16.3/Test/Builder.pm line 374
	eval {...} called at /home/david/cpantesting/perl-5.16.3/lib/site_perl/5.16.3/Test/Builder.pm line 374
	Test::Builder::subtest('Test::Builder=HASH(0x557d2c9bcbe8)', 'validate_token', 'CODE(0x557d2d6ba040)') called at /home/david/cpantesting/perl-5.16.3/lib/site_perl/5.16.3/Test/More.pm line 809
	Test::More::subtest('validate_token', 'CODE(0x557d2d6ba040)') called at t/07_client_store.t line 71
Do not use HTTP::Session2::ClientStore. Use HTTP::Session2::ServerStore or HTTP::Session2::ClientStore2 instead. at /home/david/cpantesting/perl-5.16.3/.cpan/build/HTTP-Session2-1.10-ng7aen/blib/lib/HTTP/Session2/ClientStore.pm line 25.
Secret string too short at /home/david/cpantesting/perl-5.16.3/.cpan/build/HTTP-Session2-1.10-ng7aen/blib/lib/HTTP/Session2/Base.pm line 79.
	HTTP::Session2::Base::__ANON__('HTTP::Session2::ClientStore=HASH(0x557d2d6d9a80)', 'secret') called at t/07_client_store.t line 51
	main::__ANON__() called at /home/david/cpantesting/perl-5.16.3/lib/site_perl/5.16.3/Test/Builder.pm line 374
	eval {...} called at /home/david/cpantesting/perl-5.16.3/lib/site_perl/5.16.3/Test/Builder.pm line 374
	Test::Builder::subtest('Test::Builder=HASH(0x557d2c9bcbe8)', 'bad', 'CODE(0x557d2c9a6bc8)') called at /home/david/cpantesting/perl-5.16.3/lib/site_perl/5.16.3/Test/More.pm line 809
	Test::More::subtest('bad', 'CODE(0x557d2c9a6bc8)') called at t/07_client_store.t line 57
	main::__ANON__() called at /home/david/cpantesting/perl-5.16.3/lib/site_perl/5.16.3/Test/Builder.pm line 374
	eval {...} called at /home/david/cpantesting/perl-5.16.3/lib/site_perl/5.16.3/Test/Builder.pm line 374
	Test::Builder::subtest('Test::Builder=HASH(0x557d2c9bcbe8)', 'validate_token', 'CODE(0x557d2d6ba040)') called at /home/david/cpantesting/perl-5.16.3/lib/site_perl/5.16.3/Test/More.pm line 809
	Test::More::subtest('validate_token', 'CODE(0x557d2d6ba040)') called at t/07_client_store.t line 71
Do not use HTTP::Session2::ClientStore. Use HTTP::Session2::ServerStore or HTTP::Session2::ClientStore2 instead. at /home/david/cpantesting/perl-5.16.3/.cpan/build/HTTP-Session2-1.10-ng7aen/blib/lib/HTTP/Session2/ClientStore.pm line 35.
Secret string too short at /home/david/cpantesting/perl-5.16.3/.cpan/build/HTTP-Session2-1.10-ng7aen/blib/lib/HTTP/Session2/Base.pm line 79.
	HTTP::Session2::Base::__ANON__('HTTP::Session2::ClientStore=HASH(0x557d2d6da158)', 'secret') called at t/07_client_store.t line 65
	main::__ANON__() called at /home/david/cpantesting/perl-5.16.3/lib/site_perl/5.16.3/Test/Builder.pm line 374
	eval {...} called at /home/david/cpantesting/perl-5.16.3/lib/site_perl/5.16.3/Test/Builder.pm line 374
	Test::Builder::subtest('Test::Builder=HASH(0x557d2c9bcbe8)', 'good', 'CODE(0x557d2c9a6bc8)') called at /home/david/cpantesting/perl-5.16.3/lib/site_perl/5.16.3/Test/More.pm line 809
	Test::More::subtest('good', 'CODE(0x557d2c9a6bc8)') called at t/07_client_store.t line 70
	main::__ANON__() called at /home/david/cpantesting/perl-5.16.3/lib/site_perl/5.16.3/Test/Builder.pm line 374
	eval {...} called at /home/david/cpantesting/perl-5.16.3/lib/site_perl/5.16.3/Test/Builder.pm line 374
	Test::Builder::subtest('Test::Builder=HASH(0x557d2c9bcbe8)', 'validate_token', 'CODE(0x557d2d6ba040)') called at /home/david/cpantesting/perl-5.16.3/lib/site_perl/5.16.3/Test/More.pm line 809
	Test::More::subtest('validate_token', 'CODE(0x557d2d6ba040)') called at t/07_client_store.t line 71
Do not use HTTP::Session2::ClientStore. Use HTTP::Session2::ServerStore or HTTP::Session2::ClientStore2 instead. at /home/david/cpantesting/perl-5.16.3/.cpan/build/HTTP-Session2-1.10-ng7aen/blib/lib/HTTP/Session2/ClientStore.pm line 35.
Secret string too short at /home/david/cpantesting/perl-5.16.3/.cpan/build/HTTP-Session2-1.10-ng7aen/blib/lib/HTTP/Session2/Base.pm line 79.
	HTTP::Session2::Base::__ANON__('HTTP::Session2::ClientStore=HASH(0x557d2d201e50)', 'secret') called at t/07_client_store.t line 76
	main::__ANON__() called at /home/david/cpantesting/perl-5.16.3/lib/site_perl/5.16.3/Test/Builder.pm line 374
	eval {...} called at /home/david/cpantesting/perl-5.16.3/lib/site_perl/5.16.3/Test/Builder.pm line 374
	Test::Builder::subtest('Test::Builder=HASH(0x557d2c9bcbe8)', 'ignore_old', 'CODE(0x557d2d201538)') called at /home/david/cpantesting/perl-5.16.3/lib/site_perl/5.16.3/Test/More.pm line 809
	Test::More::subtest('ignore_old', 'CODE(0x557d2d201538)') called at t/07_client_store.t line 106
Do not use HTTP::Session2::ClientStore. Use HTTP::Session2::ServerStore or HTTP::Session2::ClientStore2 instead. at /home/david/cpantesting/perl-5.16.3/.cpan/build/HTTP-Session2-1.10-ng7aen/blib/lib/HTTP/Session2/ClientStore.pm line 25.
Secret string too short at /home/david/cpantesting/perl-5.16.3/.cpan/build/HTTP-Session2-1.10-ng7aen/blib/lib/HTTP/Session2/Base.pm line 79.
	HTTP::Session2::Base::__ANON__('HTTP::Session2::ClientStore=HASH(0x557d2d6da050)', 'secret') called at t/07_client_store.t line 87
	main::__ANON__() called at /home/david/cpantesting/perl-5.16.3/lib/site_perl/5.16.3/Test/Builder.pm line 374
	eval {...} called at /home/david/cpantesting/perl-5.16.3/lib/site_perl/5.16.3/Test/Builder.pm line 374
	Test::Builder::subtest('Test::Builder=HASH(0x557d2c9bcbe8)', 'ignore_old disabled', 'CODE(0x557d2d6dc4c0)') called at /home/david/cpantesting/perl-5.16.3/lib/site_perl/5.16.3/Test/More.pm line 809
	Test::More::subtest('ignore_old disabled', 'CODE(0x557d2d6dc4c0)') called at t/07_client_store.t line 95
	main::__ANON__() called at /home/david/cpantesting/perl-5.16.3/lib/site_perl/5.16.3/Test/Builder.pm line 374
	eval {...} called at /home/david/cpantesting/perl-5.16.3/lib/site_perl/5.16.3/Test/Builder.pm line 374
	Test::Builder::subtest('Test::Builder=HASH(0x557d2c9bcbe8)', 'ignore_old', 'CODE(0x557d2d201538)') called at /home/david/cpantesting/perl-5.16.3/lib/site_perl/5.16.3/Test/More.pm line 809
	Test::More::subtest('ignore_old', 'CODE(0x557d2d201538)') called at t/07_client_store.t line 106
Do not use HTTP::Session2::ClientStore. Use HTTP::Session2::ServerStore or HTTP::Session2::ClientStore2 instead. at /home/david/cpantesting/perl-5.16.3/.cpan/build/HTTP-Session2-1.10-ng7aen/blib/lib/HTTP/Session2/ClientStore.pm line 35.
Secret string too short at /home/david/cpantesting/perl-5.16.3/.cpan/build/HTTP-Session2-1.10-ng7aen/blib/lib/HTTP/Session2/Base.pm line 79.
	HTTP::Session2::Base::__ANON__('HTTP::Session2::ClientStore=HASH(0x557d2d6e4600)', 'secret') called at t/07_client_store.t line 97
	main::__ANON__() called at /home/david/cpantesting/perl-5.16.3/lib/site_perl/5.16.3/Test/Builder.pm line 374
	eval {...} called at /home/david/cpantesting/perl-5.16.3/lib/site_perl/5.16.3/Test/Builder.pm line 374
	Test::Builder::subtest('Test::Builder=HASH(0x557d2c9bcbe8)', 'ignore_old enabled', 'CODE(0x557d2d6dc4c0)') called at /home/david/cpantesting/perl-5.16.3/lib/site_perl/5.16.3/Test/More.pm line 809
	Test::More::subtest('ignore_old enabled', 'CODE(0x557d2d6dc4c0)') called at t/07_client_store.t line 105
	main::__ANON__() called at /home/david/cpantesting/perl-5.16.3/lib/site_perl/5.16.3/Test/Builder.pm line 374
	eval {...} called at /home/david/cpantesting/perl-5.16.3/lib/site_perl/5.16.3/Test/Builder.pm line 374
	Test::Builder::subtest('Test::Builder=HASH(0x557d2c9bcbe8)', 'ignore_old', 'CODE(0x557d2d201538)') called at /home/david/cpantesting/perl-5.16.3/lib/site_perl/5.16.3/Test/More.pm line 809
	Test::More::subtest('ignore_old', 'CODE(0x557d2d201538)') called at t/07_client_store.t line 106
t/07_client_store.t ......... ok
Secret string too short at /home/david/cpantesting/perl-5.16.3/.cpan/build/HTTP-Session2-1.10-ng7aen/blib/lib/HTTP/Session2/Base.pm line 79.
	HTTP::Session2::Base::__ANON__('HTTP::Session2::Expired=HASH(0x5631740e6e10)', 33333) called at t/08_expired.t line 7
t/08_expired.t .............. ok
# /dev/urandom available
# /dev/urandom(1): sgID9JGtCLeq-OEBjCDor5RLHlSxFlt
# /dev/urandom(2): imqoB49dN70HWI2xAweZy_UXVjYqNut
# perl:            46768ea5e7f32ae74b307226be02dd4
t/09_random.t ............... ok
t/11_secret_string.t ........ ok
Secret string too short at /home/david/cpantesting/perl-5.16.3/.cpan/build/HTTP-Session2-1.10-ng7aen/blib/lib/HTTP/Session2/Base.pm line 79.
	HTTP::Session2::Base::__ANON__('HTTP::Session2::ClientStore2=HASH(0x55d5aa8e51b0)', 's3cret') called at t/client_store2/01_basic.t line 24
	main::__ANON__('client -> server: request without cookie', 'CODE(0x55d5aa8f01a0)') called at t/client_store2/01_basic.t line 30
	main::__ANON__() called at /home/david/cpantesting/perl-5.16.3/lib/site_perl/5.16.3/Test/Builder.pm line 374
	eval {...} called at /home/david/cpantesting/perl-5.16.3/lib/site_perl/5.16.3/Test/Builder.pm line 374
	Test::Builder::subtest('Test::Builder=HASH(0x55d5a9fab338)', 'First request', 'CODE(0x55d5a9f8d3f0)') called at /home/david/cpantesting/perl-5.16.3/lib/site_perl/5.16.3/Test/More.pm line 809
	Test::More::subtest('First request', 'CODE(0x55d5a9f8d3f0)') called at t/client_store2/01_basic.t line 9
	main::scenario('First request', 'CODE(0x55d5a9f8d3f0)') called at t/client_store2/01_basic.t line 36
Secret string too short at /home/david/cpantesting/perl-5.16.3/.cpan/build/HTTP-Session2-1.10-ng7aen/blib/lib/HTTP/Session2/Base.pm line 79.
	HTTP::Session2::Base::__ANON__('HTTP::Session2::ClientStore2=HASH(0x55d5aa8eaaf8)', 's3cret') called at t/client_store2/01_basic.t line 41
	main::__ANON__('client -> server: request without cookie', 'CODE(0x55d5aa8eadc8)') called at t/client_store2/01_basic.t line 47
	main::__ANON__() called at /home/david/cpantesting/perl-5.16.3/lib/site_perl/5.16.3/Test/Builder.pm line 374
	eval {...} called at /home/david/cpantesting/perl-5.16.3/lib/site_perl/5.16.3/Test/Builder.pm line 374
	Test::Builder::subtest('Test::Builder=HASH(0x55d5a9fab338)', 'Store something without login', 'CODE(0x55d5a9f8d3f0)') called at /home/david/cpantesting/perl-5.16.3/lib/site_perl/5.16.3/Test/More.pm line 809
	Test::More::subtest('Store something without login', 'CODE(0x55d5a9f8d3f0)') called at t/client_store2/01_basic.t line 9
	main::scenario('Store something without login', 'CODE(0x55d5a9f8d3f0)') called at t/client_store2/01_basic.t line 63
Secret string too short at /home/david/cpantesting/perl-5.16.3/.cpan/build/HTTP-Session2-1.10-ng7aen/blib/lib/HTTP/Session2/Base.pm line 79.
	HTTP::Session2::Base::__ANON__('HTTP::Session2::ClientStore2=HASH(0x55d5aa8e0028)', 's3cret') called at t/client_store2/01_basic.t line 69
	main::__ANON__('client -> server: request without cookie', 'CODE(0x55d5aa8ea3d8)') called at t/client_store2/01_basic.t line 76
	main::__ANON__() called at /home/david/cpantesting/perl-5.16.3/lib/site_perl/5.16.3/Test/Builder.pm line 374
	eval {...} called at /home/david/cpantesting/perl-5.16.3/lib/site_perl/5.16.3/Test/Builder.pm line 374
	Test::Builder::subtest('Test::Builder=HASH(0x55d5a9fab338)', 'Login', 'CODE(0x55d5a9f8d3f0)') called at /home/david/cpantesting/perl-5.16.3/lib/site_perl/5.16.3/Test/More.pm line 809
	Test::More::subtest('Login', 'CODE(0x55d5a9f8d3f0)') called at t/client_store2/01_basic.t line 9
	main::scenario('Login', 'CODE(0x55d5a9f8d3f0)') called at t/client_store2/01_basic.t line 96
Ciphertext does not begin with a valid header for 'salt' header mode at /home/david/cpantesting/perl-5.16.3/.cpan/build/HTTP-Session2-1.10-ng7aen/blib/lib/HTTP/Session2/ClientStore2.pm line 81.
Ciphertext does not begin with a valid header for 'salt' header mode at /home/david/cpantesting/perl-5.16.3/.cpan/build/HTTP-Session2-1.10-ng7aen/blib/lib/HTTP/Session2/ClientStore2.pm line 81.
Secret string too short at /home/david/cpantesting/perl-5.16.3/.cpan/build/HTTP-Session2-1.10-ng7aen/blib/lib/HTTP/Session2/Base.pm line 79.
	HTTP::Session2::Base::__ANON__('HTTP::Session2::ClientStore2=HASH(0x55d5aa8da2b8)', 's3cret') called at t/client_store2/01_basic.t line 102
	main::__ANON__('client -> server: request without cookie', 'CODE(0x55d5aa8d42b8)') called at t/client_store2/01_basic.t line 109
	main::__ANON__() called at /home/david/cpantesting/perl-5.16.3/lib/site_perl/5.16.3/Test/Builder.pm line 374
	eval {...} called at /home/david/cpantesting/perl-5.16.3/lib/site_perl/5.16.3/Test/Builder.pm line 374
	Test::Builder::subtest('Test::Builder=HASH(0x55d5a9fab338)', 'In a login session', 'CODE(0x55d5a9f8d3f0)') called at /home/david/cpantesting/perl-5.16.3/lib/site_perl/5.16.3/Test/More.pm line 809
	Test::More::subtest('In a login session', 'CODE(0x55d5a9f8d3f0)') called at t/client_store2/01_basic.t line 9
	main::scenario('In a login session', 'CODE(0x55d5a9f8d3f0)') called at t/client_store2/01_basic.t line 118
Ciphertext does not begin with a valid header for 'salt' header mode at /home/david/cpantesting/perl-5.16.3/.cpan/build/HTTP-Session2-1.10-ng7aen/blib/lib/HTTP/Session2/ClientStore2.pm line 81.
Secret string too short at /home/david/cpantesting/perl-5.16.3/.cpan/build/HTTP-Session2-1.10-ng7aen/blib/lib/HTTP/Session2/Base.pm line 79.
	HTTP::Session2::Base::__ANON__('HTTP::Session2::ClientStore2=HASH(0x55d5aa8e4e80)', 's3cret') called at t/client_store2/01_basic.t line 123
	main::__ANON__('client -> server: request without cookie', 'CODE(0x55d5aa8d4198)') called at t/client_store2/01_basic.t line 130
	main::__ANON__() called at /home/david/cpantesting/perl-5.16.3/lib/site_perl/5.16.3/Test/Builder.pm line 374
	eval {...} called at /home/david/cpantesting/perl-5.16.3/lib/site_perl/5.16.3/Test/Builder.pm line 374
	Test::Builder::subtest('Test::Builder=HASH(0x55d5a9fab338)', 'Logout', 'CODE(0x55d5a9f8d3f0)') called at /home/david/cpantesting/perl-5.16.3/lib/site_perl/5.16.3/Test/More.pm line 809
	Test::More::subtest('Logout', 'CODE(0x55d5a9f8d3f0)') called at t/client_store2/01_basic.t line 9
	main::scenario('Logout', 'CODE(0x55d5a9f8d3f0)') called at t/client_store2/01_basic.t line 143
Ciphertext does not begin with a valid header for 'salt' header mode at /home/david/cpantesting/perl-5.16.3/.cpan/build/HTTP-Session2-1.10-ng7aen/blib/lib/HTTP/Session2/ClientStore2.pm line 81.
t/client_store2/01_basic.t .. ok
t/client_store2/02_mech.t ... ok
t/client_store2/03_colon.t .. ok
All tests successful.
Files=14, Tests=84,  4 wallclock secs ( 0.08 usr  0.03 sys +  1.52 cusr  0.24 csys =  1.87 CPU)
Result: PASS

------------------------------
PREREQUISITES
------------------------------

Prerequisite modules loaded:

requires:

    Module                     Need     Have    
    -------------------------- -------- --------
    Cookie::Baker              0        0.11    
    Crypt::CBC                 0        2.33    
    Data::MessagePack          0        1.01    
    Digest::HMAC               0        1.03    
    Digest::SHA                0        5.71    
    Digest::SHA1               0        2.13    
    MIME::Base64               3.11     3.13    
    Mouse                      0        v2.5.10 
    parent                     0        0.225   
    perl                       5.008005 5.016003
    Time::HiRes                0        1.9725  

build_requires:

    Module                     Need     Have    
    -------------------------- -------- --------
    Crypt::Rijndael            0        1.15    
    Plack::Request             0        1.0047  
    Plack::Response            0        1.0047  
    Test::More                 0.98     1.302183
    Test::WWW::Mechanize::PSGI 0        0.39    

configure_requires:

    Module                     Need     Have    
    -------------------------- -------- --------
    Module::Build::Tiny        0.035    0.039   


------------------------------
ENVIRONMENT AND OTHER CONTEXT
------------------------------

Environment variables:

    AUTOMATED_TESTING = 1
    LANG = en_US.UTF-8
    NONINTERACTIVE_TESTING = 1
    PATH = /usr/local/bin:/usr/bin:/bin:/usr/local/games:/usr/games
    PERL = 5.16.3
    PERL5LIB = 
    PERL5OPT = 
    PERL5_CPANPLUS_IS_RUNNING = 691
    PERL5_CPAN_IS_RUNNING = 691
    PERLVER = 5.16.3
    PERL_INLINE_DIRECTORY = /home/david/.Inline-5.16.3
    PERL_MM_USE_DEFAULT = 1
    PERL_USE_UNSAFE_INC = 0
    SHELL = /bin/bash
    TERM = screen

Perl special variables (and OS-specific diagnostics, for MSWin32):

    $^X = /home/david/cpantesting/perl-5.16.3/bin/perl
    $UID/$EUID = 1000 / 1000
    $GID = 1000 27 1000
    $EGID = 1000 27 1000

Perl module toolchain versions installed:

    Module              Have    
    ------------------- --------
    CPAN                1.9800  
    CPAN::Meta          2.150010
    Cwd                 3.39_02 
    ExtUtils::CBuilder  0.280206
    ExtUtils::Command   7.34    
    ExtUtils::Install   2.06    
    ExtUtils::MakeMaker 7.34    
    ExtUtils::Manifest  1.70    
    ExtUtils::ParseXS   3.35    
    File::Spec          3.39_02 
    JSON                4.02    
    JSON::PP            4.02    
    Module::Build       0.4231  
    Module::Signature   n/a     
    Parse::CPAN::Meta   2.150010
    Test::Harness       3.42    
    Test::More          1.302183
    YAML                n/a     
    YAML::Syck          1.34    
    version             0.9928  


--

Summary of my perl5 (revision 5 version 16 subversion 3) configuration:
   
  Platform:
    osname=linux, osvers=4.9.0-8-amd64, archname=x86_64-linux-thread-multi
    uname='linux pigsty 4.9.0-8-amd64 #1 smp debian 4.9.144-3 (2019-02-02) x86_64 gnulinux '
    config_args='-de -Duse64bitall -Dusethreads -Dprefix=/home/david/cpantesting/perl-5.16.3 -A ccflags=-fwrapv'
    hint=previous, useposix=true, d_sigaction=define
    useithreads=define, usemultiplicity=define
    useperlio=define, d_sfio=undef, uselargefiles=define, usesocks=undef
    use64bitint=define, use64bitall=define, uselongdouble=undef
    usemymalloc=n, bincompat5005=undef
  Compiler:
    cc='cc', ccflags ='-D_REENTRANT -D_GNU_SOURCE -fwrapv -fno-strict-aliasing -pipe -fstack-protector -I/usr/local/include -D_LARGEFILE_SOURCE -D_FILE_OFFSET_BITS=64 -fwrapv -fwrapv',
    optimize='-O2',
    cppflags='-D_REENTRANT -D_GNU_SOURCE -fwrapv -fno-strict-aliasing -pipe -fstack-protector -I/usr/local/include -D_REENTRANT -D_GNU_SOURCE -fwrapv -fno-strict-aliasing -pipe -fstack-protector -I/usr/local/include -D_LARGEFILE_SOURCE -D_FILE_OFFSET_BITS=64 -fwrapv -D_REENTRANT -D_GNU_SOURCE -fwrapv -fno-strict-aliasing -pipe -fstack-protector -I/usr/local/include -D_LARGEFILE_SOURCE -D_FILE_OFFSET_BITS=64 -fwrapv -fwrapv'
    ccversion='', gccversion='6.3.0 20170516', gccosandvers=''
    intsize=4, longsize=8, ptrsize=8, doublesize=8, byteorder=12345678
    d_longlong=define, longlongsize=8, d_longdbl=define, longdblsize=16
    ivtype='long', ivsize=8, nvtype='double', nvsize=8, Off_t='off_t', lseeksize=8
    alignbytes=8, prototype=define
  Linker and Libraries:
    ld='cc', ldflags =' -fstack-protector -L/usr/local/lib'
    libpth=/usr/local/lib /lib/x86_64-linux-gnu /lib/../lib /usr/lib/x86_64-linux-gnu /usr/lib/../lib /lib /usr/lib
    libs=-lnsl -ldb -ldl -lm -lcrypt -lutil -lpthread -lc
    perllibs=-lnsl -ldl -lm -lcrypt -lutil -lpthread -lc
    libc=libc-2.24.so, so=so, useshrplib=false, libperl=libperl.a
    gnulibc_version='2.24'
  Dynamic Linking:
    dlsrc=dl_dlopen.xs, dlext=so, d_dlsymun=undef, ccdlflags='-Wl,-E'
    cccdlflags='-fPIC', lddlflags='-shared -O2 -L/usr/local/lib -fstack-protector'


Characteristics of this binary (from libperl): 
  Compile-time options: HAS_TIMES MULTIPLICITY PERLIO_LAYERS
                        PERL_DONT_CREATE_GVSV PERL_IMPLICIT_CONTEXT
                        PERL_MALLOC_WRAP PERL_PRESERVE_IVUV USE_64_BIT_ALL
                        USE_64_BIT_INT USE_ITHREADS USE_LARGE_FILES
                        USE_LOCALE USE_LOCALE_COLLATE USE_LOCALE_CTYPE
                        USE_LOCALE_NUMERIC USE_PERLIO USE_PERL_ATOF
                        USE_REENTRANT_API
  Locally applied patches:
	Devel::PatchPerl 1.56
  Built under linux
  Compiled at Apr 25 2019 22:17:10
  %ENV:
    PERL="5.16.3"
    PERL5LIB=""
    PERL5OPT=""
    PERL5_CPANPLUS_IS_RUNNING="691"
    PERL5_CPAN_IS_RUNNING="691"
    PERLVER="5.16.3"
    PERL_INLINE_DIRECTORY="/home/david/.Inline-5.16.3"
    PERL_MM_USE_DEFAULT="1"
    PERL_USE_UNSAFE_INC="0"
  @INC:
    /home/david/cpantesting/perl-5.16.3/lib/site_perl/5.16.3/x86_64-linux-thread-multi
    /home/david/cpantesting/perl-5.16.3/lib/site_perl/5.16.3
    /home/david/cpantesting/perl-5.16.3/lib/5.16.3/x86_64-linux-thread-multi
    /home/david/cpantesting/perl-5.16.3/lib/5.16.3
    .