File-Serialize v1.2.0 Perl 5 v5.22.2 x86_64-linux-thread-multi

Status
Pass
From
Slaven Rezić (SREZIC)
Dist
File-Serialize v1.2.0
Platform
Perl 5 v5.22.2 x86_64-linux-thread-multi
Date
2017-10-11 21:04:31
ID
c702ec4e-aec7-11e7-978e-d55640c1a8a2
This distribution has been tested as part of the CPAN Testers
project, supporting the Perl programming language.  See
http://wiki.cpantesters.org/ for more information or email
questions to cpan-testers-discuss@perl.org


--
Dear Yanick Champoux,

This is a computer-generated report for File-Serialize-1.2.0
on perl 5.22.2, created by CPAN-Reporter-1.2018.

Thank you for uploading your work to CPAN.  Congratulations!
All tests were successful.

Sections of this report:

    * Tester comments
    * Program output
    * Prerequisites
    * Environment and other context

------------------------------
TESTER COMMENTS
------------------------------

Additional comments from tester:

none provided

------------------------------
PROGRAM OUTPUT
------------------------------

Output from '/usr/bin/make test':

PERL_DL_NONLAZY=1 "/bbbike/perl-5.22.2t/bin/perl" "-MExtUtils::Command::MM" "-MTest::Harness" "-e" "undef *Test::Harness::Switches; test_harness(0, 'blib/lib', 'blib/arch')" t/*.t
t/00-compile.t .......... ok
# 
# Versions for all modules listed in MYMETA.json (including optional ones):
# 
# === Configure Requires ===
# 
#     Module              Want    Have
#     ------------------- ---- -------
#     ExtUtils::MakeMaker  any 7.04_01
# 
# === Build Requires ===
# 
#     Module              Want    Have
#     ------------------- ---- -------
#     ExtUtils::MakeMaker  any 7.04_01
# 
# === Test Requires ===
# 
#     Module              Want     Have
#     ------------------- ---- --------
#     ExtUtils::MakeMaker  any  7.04_01
#     File::Spec           any  3.56_01
#     IO::Handle           any     1.35
#     IPC::Open3           any     1.18
#     Test::Exception      any     0.43
#     Test::More           any 1.001014
#     Test::Requires       any     0.10
#     Test::Warnings       any    0.026
#     utf8                 any     1.17
# 
# === Test Recommends ===
# 
#     Module         Want     Have
#     ---------- -------- --------
#     CPAN::Meta 2.120900 2.150001
# 
# === Runtime Requires ===
# 
#     Module            Want     Have
#     ----------------- ---- --------
#     Class::Load        any     0.23
#     Exporter::Tiny     any    0.042
#     List::AllUtils     any     0.14
#     List::MoreUtils    any    0.415
#     List::Util        1.41     1.45
#     Module::Info       any     0.37
#     Module::Pluggable  any      5.2
#     Module::Runtime    any    0.014
#     Moo                any 2.001001
#     Path::Tiny         any    0.090
#     Role::Tiny         any 2.000003
#     feature            any     1.40
#     parent             any    0.232
#     strict             any     1.09
#     warnings           any     1.34
# 
# === Runtime Recommends ===
# 
#     Module        Want     Have
#     ------------- ---- --------
#     JSON::MaybeXS  any 1.003005
#     YAML::Tiny     any     1.69
# 
t/00-report-prereqs.t ... ok
t/add_extension.t ....... ok
t/basic.t ............... ok
t/defaults.t ............ ok
t/json-allow-non-ref.t .. ok
t/precedence.t .......... ok
t/serializer.t .......... ok
t/transerialize.t ....... ok
t/utf8.t ................ ok
All tests successful.
Files=10, Tests=44,  2 wallclock secs ( 0.03 usr  0.04 sys +  1.22 cusr  0.40 csys =  1.69 CPU)
Result: PASS

------------------------------
PREREQUISITES
------------------------------

Prerequisite modules loaded:

requires:

    Module              Need     Have    
    ------------------- -------- --------
    Class::Load         0        0.23    
    Exporter::Tiny      0        0.042   
    feature             0        1.40    
    List::AllUtils      0        0.14    
    List::MoreUtils     0        0.415   
    List::Util          1.41     1.45    
    Module::Info        0        0.37    
    Module::Pluggable   0        5.2     
    Module::Runtime     0        0.014   
    Moo                 0        2.001001
    parent              0        0.232   
    Path::Tiny          0        0.090   
    perl                5.016000 5.022002
    Role::Tiny          0        2.000003
    strict              0        1.09    
    warnings            0        1.34    

build_requires:

    Module              Need     Have    
    ------------------- -------- --------
    ExtUtils::MakeMaker 0        7.04_01 
    File::Spec          0        3.56_01 
    IO::Handle          0        1.35    
    IPC::Open3          0        1.18    
    Test::Exception     0        0.43    
    Test::More          0        1.001014
    Test::Requires      0        0.10    
    Test::Warnings      0        0.026   
    utf8                0        1.17    

configure_requires:

    Module              Need     Have    
    ------------------- -------- --------
    ExtUtils::MakeMaker 0        7.04_01 


------------------------------
ENVIRONMENT AND OTHER CONTEXT
------------------------------

Environment variables:

    LANG = C
    PATH = /usr/local/bin:/usr/bin:/bin:/usr/local/sbin:/usr/sbin:/sbin:/home/cpansand/bin/linux-gnu:/home/cpansand/bin/sh:/home/cpansand/bin:/usr/games:/home/cpansand/devel:/home/eserte/src/srezic-misc/scripts
    PERL5LIB = /home/cpansand/.cpan/build/2017101118/Module-Info-0.37-w1ZK2e/blib/arch:/home/cpansand/.cpan/build/2017101118/Module-Info-0.37-w1ZK2e/blib/lib:/home/cpansand/.cpan/build/2017101118/B-Utils-0.27-Tan4Zq/blib/arch:/home/cpansand/.cpan/build/2017101118/B-Utils-0.27-Tan4Zq/blib/lib:/home/cpansand/.cpan/build/2017101118/List-AllUtils-0.14-J9I95a/blib/arch:/home/cpansand/.cpan/build/2017101118/List-AllUtils-0.14-J9I95a/blib/lib:/home/cpansand/.cpan/build/2017101118/List-UtilsBy-0.10-5u8igo/blib/arch:/home/cpansand/.cpan/build/2017101118/List-UtilsBy-0.10-5u8igo/blib/lib:/home/cpansand/.cpan/build/2017101118/List-SomeUtils-0.56-TC74Sg/blib/arch:/home/cpansand/.cpan/build/2017101118/List-SomeUtils-0.56-TC74Sg/blib/lib:/home/cpansand/.cpan/build/2017101118/List-SomeUtils-XS-0.55-fFwmdo/blib/arch:/home/cpansand/.cpan/build/2017101118/List-SomeUtils-XS-0.55-fFwmdo/blib/lib:/home/cpansand/.cpan/build/2017101118/Search-Query-0.307-L_X7tH/blib/arch:/home/cpansand/.cpan/build/2017101118/Search-Query-0.307-L_X7tH/blib/lib:/home/cpansand/.cpan/build/2017101118/Type-Tiny-1.002001-opOoFt/blib/arch:/home/cpansand/.cpan/build/2017101118/Type-Tiny-1.002001-opOoFt/blib/lib:/home/cpansand/.cpan/build/2017101118/Data-Transformer-0.04-fjKHWF/blib/arch:/home/cpansand/.cpan/build/2017101118/Data-Transformer-0.04-fjKHWF/blib/lib
    PERL5OPT = 
    PERL5_CPANPLUS_IS_RUNNING = 3002
    PERL5_CPAN_IS_RUNNING = 3002
    PERL5_CPAN_IS_RUNNING_IN_RECURSION = 28965,3002
    PERLDOC = -MPod::Perldoc::ToTextOverstrike
    PERL_BATCH = yes
    PERL_CANARY_STABILITY_NOPROMPT = 1
    PERL_CPAN_REPORTER_CONFIG = /var/tmp/cpansmoker-1023/2017101118/cpanreporter_000_config.ini
    PERL_EXTUTILS_AUTOINSTALL = --defaultdeps
    SHELL = /bin/zsh
    TERM = screen
    TMPDIR = /var/tmp/cpansmoker-1023/2017101118

Perl special variables (and OS-specific diagnostics, for MSWin32):

    $^X = /bbbike/perl-5.22.2t/bin/perl
    $UID/$EUID = 1023 / 1023
    $GID = 1023 1023
    $EGID = 1023 1023

Perl module toolchain versions installed:

    Module              Have    
    ------------------- --------
    CPAN                2.11    
    CPAN::Meta          2.150001
    Cwd                 3.56_01 
    ExtUtils::CBuilder  0.280221
    ExtUtils::Command   1.20    
    ExtUtils::Install   2.04    
    ExtUtils::MakeMaker 7.04_01 
    ExtUtils::Manifest  1.70    
    ExtUtils::ParseXS   3.28    
    File::Spec          3.56_01 
    JSON                2.90    
    JSON::PP            2.27300 
    Module::Build       0.4218  
    Module::Signature   n/a     
    Parse::CPAN::Meta   1.4422  
    Test::Harness       3.35    
    Test::More          1.001014
    YAML                1.15    
    YAML::Syck          1.29    
    version             0.9909  


--

Summary of my perl5 (revision 5 version 22 subversion 2) configuration:
   
  Platform:
    osname=linux, osvers=3.16.0-4-amd64, archname=x86_64-linux-thread-multi
    uname='linux eserte 3.16.0-4-amd64 #1 smp debian 3.16.7-ckt25-2 (2016-04-08) x86_64 gnulinux '
    config_args='-ds -e -Dprefix=/opt/perl-5.22.2t -Dusethreads -Dcf_email=srezic@cpan.org'
    hint=recommended, useposix=true, d_sigaction=define
    useithreads=define, usemultiplicity=define
    use64bitint=define, use64bitall=define, uselongdouble=undef
    usemymalloc=n, bincompat5005=undef
  Compiler:
    cc='cc', ccflags ='-D_REENTRANT -D_GNU_SOURCE -fwrapv -fno-strict-aliasing -pipe -fstack-protector-strong -I/usr/local/include -D_LARGEFILE_SOURCE -D_FILE_OFFSET_BITS=64 -D_FORTIFY_SOURCE=2',
    optimize='-O2',
    cppflags='-D_REENTRANT -D_GNU_SOURCE -fwrapv -fno-strict-aliasing -pipe -fstack-protector-strong -I/usr/local/include'
    ccversion='', gccversion='4.9.2', gccosandvers=''
    intsize=4, longsize=8, ptrsize=8, doublesize=8, byteorder=12345678, doublekind=3
    d_longlong=define, longlongsize=8, d_longdbl=define, longdblsize=16, longdblkind=3
    ivtype='long', ivsize=8, nvtype='double', nvsize=8, Off_t='off_t', lseeksize=8
    alignbytes=8, prototype=define
  Linker and Libraries:
    ld='cc', ldflags =' -fstack-protector-strong -L/usr/local/lib'
    libpth=/usr/local/lib /usr/lib/gcc/x86_64-linux-gnu/4.9/include-fixed /usr/include/x86_64-linux-gnu /usr/lib /lib/x86_64-linux-gnu /lib/../lib /usr/lib/x86_64-linux-gnu /usr/lib/../lib /lib
    libs=-lpthread -lnsl -lgdbm -ldb -ldl -lm -lcrypt -lutil -lc -lgdbm_compat
    perllibs=-lpthread -lnsl -ldl -lm -lcrypt -lutil -lc
    libc=libc-2.19.so, so=so, useshrplib=false, libperl=libperl.a
    gnulibc_version='2.19'
  Dynamic Linking:
    dlsrc=dl_dlopen.xs, dlext=so, d_dlsymun=undef, ccdlflags='-Wl,-E'
    cccdlflags='-fPIC', lddlflags='-shared -O2 -L/usr/local/lib -fstack-protector-strong'


Characteristics of this binary (from libperl): 
  Compile-time options: HAS_TIMES MULTIPLICITY PERLIO_LAYERS
                        PERL_DONT_CREATE_GVSV
                        PERL_HASH_FUNC_ONE_AT_A_TIME_HARD
                        PERL_IMPLICIT_CONTEXT PERL_MALLOC_WRAP
                        PERL_NEW_COPY_ON_WRITE PERL_PRESERVE_IVUV
                        USE_64_BIT_ALL USE_64_BIT_INT USE_ITHREADS
                        USE_LARGE_FILES USE_LOCALE USE_LOCALE_COLLATE
                        USE_LOCALE_CTYPE USE_LOCALE_NUMERIC USE_LOCALE_TIME
                        USE_PERLIO USE_PERL_ATOF USE_REENTRANT_API
  Built under linux
  Compiled at May  7 2016 14:08:21
  %ENV:
    PERL5LIB="/home/cpansand/.cpan/build/2017101118/Module-Info-0.37-w1ZK2e/blib/arch:/home/cpansand/.cpan/build/2017101118/Module-Info-0.37-w1ZK2e/blib/lib:/home/cpansand/.cpan/build/2017101118/B-Utils-0.27-Tan4Zq/blib/arch:/home/cpansand/.cpan/build/2017101118/B-Utils-0.27-Tan4Zq/blib/lib:/home/cpansand/.cpan/build/2017101118/List-AllUtils-0.14-J9I95a/blib/arch:/home/cpansand/.cpan/build/2017101118/List-AllUtils-0.14-J9I95a/blib/lib:/home/cpansand/.cpan/build/2017101118/List-UtilsBy-0.10-5u8igo/blib/arch:/home/cpansand/.cpan/build/2017101118/List-UtilsBy-0.10-5u8igo/blib/lib:/home/cpansand/.cpan/build/2017101118/List-SomeUtils-0.56-TC74Sg/blib/arch:/home/cpansand/.cpan/build/2017101118/List-SomeUtils-0.56-TC74Sg/blib/lib:/home/cpansand/.cpan/build/2017101118/List-SomeUtils-XS-0.55-fFwmdo/blib/arch:/home/cpansand/.cpan/build/2017101118/List-SomeUtils-XS-0.55-fFwmdo/blib/lib:/home/cpansand/.cpan/build/2017101118/Search-Query-0.307-L_X7tH/blib/arch:/home/cpansand/.cpan/build/2017101118/Search-Query-0.307-L_X7tH/blib/lib:/home/cpansand/.cpan/build/2017101118/Type-Tiny-1.002001-opOoFt/blib/arch:/home/cpansand/.cpan/build/2017101118/Type-Tiny-1.002001-opOoFt/blib/lib:/home/cpansand/.cpan/build/2017101118/Data-Transformer-0.04-fjKHWF/blib/arch:/home/cpansand/.cpan/build/2017101118/Data-Transformer-0.04-fjKHWF/blib/lib"
    PERL5OPT=""
    PERL5_CPANPLUS_IS_RUNNING="3002"
    PERL5_CPAN_IS_RUNNING="3002"
    PERL5_CPAN_IS_RUNNING_IN_RECURSION="28965,3002"
    PERLDOC="-MPod::Perldoc::ToTextOverstrike"
    PERL_BATCH="yes"
    PERL_CANARY_STABILITY_NOPROMPT="1"
    PERL_CPAN_REPORTER_CONFIG="/var/tmp/cpansmoker-1023/2017101118/cpanreporter_000_config.ini"
    PERL_EXTUTILS_AUTOINSTALL="--defaultdeps"
  @INC:
    /home/cpansand/.cpan/build/2017101118/Module-Info-0.37-w1ZK2e/blib/arch
    /home/cpansand/.cpan/build/2017101118/Module-Info-0.37-w1ZK2e/blib/lib
    /home/cpansand/.cpan/build/2017101118/B-Utils-0.27-Tan4Zq/blib/arch
    /home/cpansand/.cpan/build/2017101118/B-Utils-0.27-Tan4Zq/blib/lib
    /home/cpansand/.cpan/build/2017101118/List-AllUtils-0.14-J9I95a/blib/arch
    /home/cpansand/.cpan/build/2017101118/List-AllUtils-0.14-J9I95a/blib/lib
    /home/cpansand/.cpan/build/2017101118/List-UtilsBy-0.10-5u8igo/blib/arch
    /home/cpansand/.cpan/build/2017101118/List-UtilsBy-0.10-5u8igo/blib/lib
    /home/cpansand/.cpan/build/2017101118/List-SomeUtils-0.56-TC74Sg/blib/arch
    /home/cpansand/.cpan/build/2017101118/List-SomeUtils-0.56-TC74Sg/blib/lib
    /home/cpansand/.cpan/build/2017101118/List-SomeUtils-XS-0.55-fFwmdo/blib/arch
    /home/cpansand/.cpan/build/2017101118/List-SomeUtils-XS-0.55-fFwmdo/blib/lib
    /home/cpansand/.cpan/build/2017101118/Search-Query-0.307-L_X7tH/blib/arch
    /home/cpansand/.cpan/build/2017101118/Search-Query-0.307-L_X7tH/blib/lib
    /home/cpansand/.cpan/build/2017101118/Type-Tiny-1.002001-opOoFt/blib/arch
    /home/cpansand/.cpan/build/2017101118/Type-Tiny-1.002001-opOoFt/blib/lib
    /home/cpansand/.cpan/build/2017101118/Data-Transformer-0.04-fjKHWF/blib/arch
    /home/cpansand/.cpan/build/2017101118/Data-Transformer-0.04-fjKHWF/blib/lib
    /opt/perl-5.22.2t/lib/site_perl/5.22.2/x86_64-linux-thread-multi
    /opt/perl-5.22.2t/lib/site_perl/5.22.2
    /opt/perl-5.22.2t/lib/5.22.2/x86_64-linux-thread-multi
    /opt/perl-5.22.2t/lib/5.22.2
    .