Dancer2-Plugin-Interchange6 v0.204 Perl 5 v5.35.2 x86_64-linux

Status
Pass
From
Andreas J. König (ANDK)
Dist
Dancer2-Plugin-Interchange6 v0.204
Platform
Perl 5 v5.35.2 x86_64-linux
Date
2021-07-24 11:03:29
ID
c70bb7aa-ec6e-11eb-b11d-f3cb08cce0c3
This distribution has been tested as part of the CPAN Testers
project, supporting the Perl programming language.  See
http://wiki.cpantesters.org/ for more information or email
questions to cpan-testers-discuss@perl.org


--
Dear Peter Mottram,

This is a computer-generated report for Dancer2-Plugin-Interchange6-0.204
on perl 5.35.2, created by CPAN-Reporter-1.2018.

Thank you for uploading your work to CPAN.  Congratulations!
All tests were successful.

Sections of this report:

    * Tester comments
    * Program output
    * Prerequisites
    * Environment and other context

------------------------------
TESTER COMMENTS
------------------------------

Additional comments from tester:

this report is from an automated smoke testing program
and was not reviewed by a human for accuracy

------------------------------
PROGRAM OUTPUT
------------------------------

Output from '/usr/bin/make test':

PERL_DL_NONLAZY=1 "/tmp/basesmoker-reloperl-4rbL/bin/perl" "-MExtUtils::Command::MM" "-MTest::Harness" "-e" "undef *Test::Harness::Switches; test_harness(0, 'blib/lib', 'blib/arch')" t/00-load.t t/d2pci6_bop.t t/disabled_cart_and_checkout.t t/manifest.t t/pod-coverage.t t/pod.t t/test_mysql.t t/test_postgresql.t t/test_sqlite.t
# Testing Dancer2::Plugin::Interchange6 0.204, Perl 5.035002, /tmp/basesmoker-reloperl-4rbL/bin/perl
t/00-load.t ..................... ok
t/d2pci6_bop.t .................. ok
Dancer2::Plugin::Interchange6::Routes: Maximum number of navigation records is zero.
t/disabled_cart_and_checkout.t .. skipped: Author tests not required for installation
t/manifest.t .................... skipped: Author tests not required for installation
t/pod-coverage.t ................ skipped: Author tests not required for installation
t/pod.t ......................... skipped: Author tests not required for installation
t/test_mysql.t .................. skipped: Test::mysqld required to run these tests
t/test_postgresql.t ............. skipped: DBD::Pg >= 3.0.0 required to run these tests
# Deploy
"sqlite_unicode" attribute will be deprecated. Use "sqlite_string_mode" instead. at /home/sand/src/perl/repoperls/installed-perls/host/k93bionic/v5.35.2/2aaf/lib/site_perl/5.35.2/x86_64-linux/DBI.pm line 734.
# Test::Cart
    # Test::DSL
# Test::Hooks
# Test::Routes
# Test::Shop
t/test_sqlite.t ................. ok
All tests successful.
Files=9, Tests=202, 16 wallclock secs ( 0.05 usr  0.05 sys + 15.73 cusr  0.53 csys = 16.36 CPU)
Result: PASS

------------------------------
PREREQUISITES
------------------------------

Prerequisite modules loaded:

requires:

    Module                                            Need     Have    
    ------------------------------------------------- -------- --------
    Business::OnlinePayment                           3.02     3.05    
    Dancer2                                           0.200000 0.301004
    Dancer2::Plugin::Auth::Extensible                 0.600    0.710   
    Dancer2::Plugin::Auth::Extensible::Provider::DBIC 0.600    0.624   
    Dancer2::Plugin::DBIC                             0.0013   0.0100  
    Dancer2::Session::DBIC                            0.102    0.120   
    Interchange6                                      0.120    0.120   
    Interchange6::Schema                              0.110    0.133   
    JSON::MaybeXS                                     1.003003 1.004003
    Module::Runtime                                   0        0.016   
    MooseX::CoverableModifiers                        0        0.30    
    namespace::clean                                  0        0.27    
    Net::HTTPS::Any                                   0.11     0.12    
    perl                                              5.010000 5.035002
    Scalar::Util                                      0        1.56    
    YAML                                              0        1.30    

build_requires:

    Module                                            Need     Have    
    ------------------------------------------------- -------- --------
    File::Temp                                        0        0.2311  
    Module::Find                                      0        0.15    
    Test::Deep                                        0        1.130   
    Test::Exception                                   0        0.43    
    Test::More                                        0.94     1.302185
    Test::WWW::Mechanize::PSGI                        0.35     0.39    

configure_requires:

    Module                                            Need     Have    
    ------------------------------------------------- -------- --------
    ExtUtils::MakeMaker                               0        7.62    


------------------------------
ENVIRONMENT AND OTHER CONTEXT
------------------------------

Environment variables:

    AUTOMATED_TESTING = 1
    LANG = en_US.utf8
    PATH = /home/sand/bin:/usr/local/bin:/usr/local/sbin:/usr/sbin:/usr/bin:/sbin:/bin:/usr/games:/usr/local/games:/snap/bin:/usr/local/perl/bin:/usr/X11/bin
    PERL = /tmp/basesmoker-reloperl-4rbL/bin/perl
    PERL5LIB = /tmp/loop_over_bdir-26784-ZAWfu8/App-nrun-v1.1.2-0/blib/arch:/tmp/loop_over_bdir-26784-ZAWfu8/App-nrun-v1.1.2-0/blib/lib:/tmp/loop_over_bdir-26784-ZAWfu8/DBIx-Migration-Directories-0.12-0/blib/arch:/tmp/loop_over_bdir-26784-ZAWfu8/DBIx-Migration-Directories-0.12-0/blib/lib
    PERL5OPT = 
    PERL5_CPANPLUS_IS_RUNNING = 26793
    PERL5_CPAN_IS_RUNNING = 26793
    PERL_CANARY_STABILITY_NOPROMPT = 1
    PERL_MM_USE_DEFAULT = 1
    PERL_USE_UNSAFE_INC = 1
    SHELL = /usr/bin/zsh
    TERM = screen

Perl special variables (and OS-specific diagnostics, for MSWin32):

    $^X = /tmp/basesmoker-reloperl-4rbL/bin/perl
    $UID/$EUID = 1005 / 1005
    $GID = 1005 1005
    $EGID = 1005 1005

Perl module toolchain versions installed:

    Module              Have    
    ------------------- --------
    CPAN                2.28    
    CPAN::Meta          2.150010
    Cwd                 3.82    
    ExtUtils::CBuilder  0.280236
    ExtUtils::Command   7.62    
    ExtUtils::Install   2.20    
    ExtUtils::MakeMaker 7.62    
    ExtUtils::Manifest  1.73    
    ExtUtils::ParseXS   3.43    
    File::Spec          3.81    
    JSON                4.03    
    JSON::PP            4.06    
    Module::Build       0.4231  
    Module::Signature   0.87    
    Parse::CPAN::Meta   2.150010
    Test::Harness       3.43    
    Test::More          1.302185
    YAML                1.30    
    YAML::Syck          1.34    
    version             0.9929  


--

Summary of my perl5 (revision 5 version 35 subversion 2) configuration:
  Commit id: e758692133b5069e2524e70b41bd782ad9e1267b
  Platform:
    osname=linux
    osvers=4.15.0-144-generic
    archname=x86_64-linux
    uname='linux k93bionic 4.15.0-144-generic #148-ubuntu smp sat may 8 02:33:43 utc 2021 x86_64 x86_64 x86_64 gnulinux '
    config_args='-Dprefix=/home/sand/src/perl/repoperls/installed-perls/host/k93bionic/v5.35.2/2aaf -Dmyhostname=k93bionic -Dinstallusrbinperl=n -Uversiononly -Dusedevel -des -Ui_db -Dlibswanted=cl pthread socket inet nsl gdbm dbm malloc dl ld sun m crypt sec util c cposix posix ucb BSD gdbm_compat -Uuseithreads -Uuselongdouble -DEBUGGING=-g'
    hint=recommended
    useposix=true
    d_sigaction=define
    useithreads=undef
    usemultiplicity=undef
    use64bitint=define
    use64bitall=define
    uselongdouble=undef
    usemymalloc=n
    default_inc_excludes_dot=define
  Compiler:
    cc='cc'
    ccflags ='-fwrapv -fno-strict-aliasing -pipe -fstack-protector-strong -I/usr/local/include -D_LARGEFILE_SOURCE -D_FILE_OFFSET_BITS=64'
    optimize='-O2 -g'
    cppflags='-fwrapv -fno-strict-aliasing -pipe -fstack-protector-strong -I/usr/local/include'
    ccversion=''
    gccversion='7.5.0'
    gccosandvers=''
    intsize=4
    longsize=8
    ptrsize=8
    doublesize=8
    byteorder=12345678
    doublekind=3
    d_longlong=define
    longlongsize=8
    d_longdbl=define
    longdblsize=16
    longdblkind=3
    ivtype='long'
    ivsize=8
    nvtype='double'
    nvsize=8
    Off_t='off_t'
    lseeksize=8
    alignbytes=8
    prototype=define
  Linker and Libraries:
    ld='cc'
    ldflags =' -fstack-protector-strong -L/usr/local/lib'
    libpth=/usr/local/lib /usr/lib/x86_64-linux-gnu /usr/lib /lib/x86_64-linux-gnu /lib
    libs=-lpthread -lnsl -ldl -lm -lcrypt -lutil -lc
    perllibs=-lpthread -lnsl -ldl -lm -lcrypt -lutil -lc
    libc=libc-2.27.so
    so=so
    useshrplib=false
    libperl=libperl.a
    gnulibc_version='2.27'
  Dynamic Linking:
    dlsrc=dl_dlopen.xs
    dlext=so
    d_dlsymun=undef
    ccdlflags='-Wl,-E'
    cccdlflags='-fPIC'
    lddlflags='-shared -O2 -g -L/usr/local/lib -fstack-protector-strong'


Characteristics of this binary (from libperl): 
  Compile-time options:
    HAS_TIMES
    PERLIO_LAYERS
    PERL_COPY_ON_WRITE
    PERL_DONT_CREATE_GVSV
    PERL_MALLOC_WRAP
    PERL_OP_PARENT
    PERL_PRESERVE_IVUV
    PERL_USE_DEVEL
    USE_64_BIT_ALL
    USE_64_BIT_INT
    USE_LARGE_FILES
    USE_LOCALE
    USE_LOCALE_COLLATE
    USE_LOCALE_CTYPE
    USE_LOCALE_NUMERIC
    USE_LOCALE_TIME
    USE_PERLIO
    USE_PERL_ATOF
  Built under linux
  Compiled at Jul 23 2021 17:58:09
  %ENV:
    PERL="/tmp/basesmoker-reloperl-4rbL/bin/perl"
    PERL5LIB="/tmp/loop_over_bdir-26784-ZAWfu8/App-nrun-v1.1.2-0/blib/arch:/tmp/loop_over_bdir-26784-ZAWfu8/App-nrun-v1.1.2-0/blib/lib:/tmp/loop_over_bdir-26784-ZAWfu8/DBIx-Migration-Directories-0.12-0/blib/arch:/tmp/loop_over_bdir-26784-ZAWfu8/DBIx-Migration-Directories-0.12-0/blib/lib"
    PERL5OPT=""
    PERL5_CPANPLUS_IS_RUNNING="26793"
    PERL5_CPAN_IS_RUNNING="26793"
    PERL_CANARY_STABILITY_NOPROMPT="1"
    PERL_MM_USE_DEFAULT="1"
    PERL_USE_UNSAFE_INC="1"
  @INC:
    /tmp/loop_over_bdir-26784-ZAWfu8/App-nrun-v1.1.2-0/blib/arch
    /tmp/loop_over_bdir-26784-ZAWfu8/App-nrun-v1.1.2-0/blib/lib
    /tmp/loop_over_bdir-26784-ZAWfu8/DBIx-Migration-Directories-0.12-0/blib/arch
    /tmp/loop_over_bdir-26784-ZAWfu8/DBIx-Migration-Directories-0.12-0/blib/lib
    /home/sand/src/perl/repoperls/installed-perls/host/k93bionic/v5.35.2/2aaf/lib/site_perl/5.35.2/x86_64-linux
    /home/sand/src/perl/repoperls/installed-perls/host/k93bionic/v5.35.2/2aaf/lib/site_perl/5.35.2
    /home/sand/src/perl/repoperls/installed-perls/host/k93bionic/v5.35.2/2aaf/lib/5.35.2/x86_64-linux
    /home/sand/src/perl/repoperls/installed-perls/host/k93bionic/v5.35.2/2aaf/lib/5.35.2
    .