Crypt-OpenSSL-PKCS10 v0.31 Perl 5 v5.22.0 i686-linux-thread-multi-ld

Status
Pass
From
Chris Williams (BINGOS)
Dist
Crypt-OpenSSL-PKCS10 v0.31
Platform
Perl 5 v5.22.0 i686-linux-thread-multi-ld
Date
2025-01-26 02:25:15
ID
c71d82d0-db8c-11ef-98b0-b3c3213a625c
This distribution has been tested as part of the CPAN Testers
project, supporting the Perl programming language.  See
http://wiki.cpantesters.org/ for more information or email
questions to cpan-testers-discuss@perl.org


--

Dear TIMLEGGE,

This is a computer-generated error report created automatically by
CPANPLUS, version 0.9914. Testers personal comments may appear
at the end of this report.


Thank you for uploading your work to CPAN.  Congratulations!
All tests were successful.

TEST RESULTS:

Below is the error stack from stage 'make test':

"/home/cpan/pit/thr-ld/perl-5.22.0/bin/perl" -MExtUtils::Command::MM -e 'cp_nonempty' -- PKCS10.bs blib/arch/auto/Crypt/OpenSSL/PKCS10/PKCS10.bs 644
PERL_DL_NONLAZY=1 "/home/cpan/pit/thr-ld/perl-5.22.0/bin/perl" "-MExtUtils::Command::MM" "-MTest::Harness" "-e" "undef *Test::Harness::Switches; test_harness(0, 'blib/lib', 'blib/arch')" t/*.t
t/00-openssl-version.t .. ok
# OpenSSL 3.0.11 19 Sep 2023 (Library: OpenSSL 3.0.11 19 Sep 2023)
t/10-rsa-keys.t ......... ok
t/20-ec.t ............... ok
t/30-ec-keys.t .......... ok
t/author-pod-spell.t .... skipped: these tests are for testing by the author
t/author-pod-syntax.t ... skipped: these tests are for testing by the author
-----BEGIN CERTIFICATE REQUEST-----
MIIBPzCBqQIBADAAMIGfMA0GCSqGSIb3DQEBAQUAA4GNADCBiQKBgQDTEw3WmyAo
lse2rnpx9buqzuBAK4zxoTPDM/SbYrPTB6HhMxORL8DU0/AR/VnBWAAux4i1JtGo
P+5RfPt/IEEvdtOOijm4iwMDJXMnvsz6SBmd3pLQJKpLSBAbt55It8VHqNdcup9e
Vtj1dGSeztI2Qi0GUEezIeE/+nDjL6w6MQIDAQABoAAwDQYJKoZIhvcNAQELBQAD
gYEAZQLEvvrLonJfByuEO2M0gQXmV4tsmLJm1Ek7uYEDa6+XiZNCcuPKXzYOeMMD
1djpX0q2Suawt2md7tYhIScjzGt0t02ZAce6olxkwnbr4CafHNk5ZycohJdUee8A
eWhvKgBf4x08J6ReCmXkbvJ0FlCw09USoo4L4EuoYdWJqNc=
-----END CERTIFICATE REQUEST-----
-----BEGIN PRIVATE KEY-----
MIICdwIBADANBgkqhkiG9w0BAQEFAASCAmEwggJdAgEAAoGBANMTDdabICiWx7au
enH1u6rO4EArjPGhM8Mz9Jtis9MHoeEzE5EvwNTT8BH9WcFYAC7HiLUm0ag/7lF8
+38gQS92046KObiLAwMlcye+zPpIGZ3ektAkqktIEBu3nki3xUeo11y6n15W2PV0
ZJ7O0jZCLQZQR7Mh4T/6cOMvrDoxAgMBAAECgYEAgNtMAmy3aDAMgjjoJXQX+oHL
I0GzDLwVxqCMPuQ11an+KGYvFt5pQUSVddYOGlun2OcVTUoCik1lJzg+rPA6+iuD
n5CoG3Y591h1f3tP6BCe5cA+uPmrYAVCAnhPAACl84qBJnjeRhS3BtypUNXGTpEc
6is4hnuVl2uJKU/wp0UCQQD4fJPd2W4m5zbKhAWYVQm60TO7/daT0c3qa6d1ByMa
3GNYHvdmfsK9rW7xuKaBUhoszOW6DaSYhBczl95CApvXAkEA2XTis9oMTBrXWgOD
YKrWeXDw0UW70taSdtVVoNAHM+wlw2WzctKpLrqyKDHqCi4l+rjwAG6aiU/u9WMb
iKlZNwJAGyiqlLXeFzxwPaQ+ZE7vGE8jQ2nUGSX2RqfrjpvwF1B9PzVrPvWd3VNm
a98Nu9a4a6sddL9m/RB65LW1oitc0wJAeGmzByhc2t+aFCwR2bt/2+tgTmGw6cUL
gWYMbmoDMws2tgZg4doo+MlE0eEh2dVIDpfNvk+Anzx188eXfYtY7QJBAMYeXb1K
B7CnZaH7bCkS0n2NbkNB6Wqq0SwTXeOfNA/xJZU6Dk5eaGtWmZ+ns1U3alc5l2vF
DPkkk58HMTAmw98=
-----END PRIVATE KEY-----


Public-Key: (1024 bit)
Modulus:
    00:d3:13:0d:d6:9b:20:28:96:c7:b6:ae:7a:71:f5:
    bb:aa:ce:e0:40:2b:8c:f1:a1:33:c3:33:f4:9b:62:
    b3:d3:07:a1:e1:33:13:91:2f:c0:d4:d3:f0:11:fd:
    59:c1:58:00:2e:c7:88:b5:26:d1:a8:3f:ee:51:7c:
    fb:7f:20:41:2f:76:d3:8e:8a:39:b8:8b:03:03:25:
    73:27:be:cc:fa:48:19:9d:de:92:d0:24:aa:4b:48:
    10:1b:b7:9e:48:b7:c5:47:a8:d7:5c:ba:9f:5e:56:
    d8:f5:74:64:9e:ce:d2:36:42:2d:06:50:47:b3:21:
    e1:3f:fa:70:e3:2f:ac:3a:31
Exponent: 65537 (0x10001)

-----BEGIN CERTIFICATE REQUEST-----
MIIBPzCBqQIBADAAMIGfMA0GCSqGSIb3DQEBAQUAA4GNADCBiQKBgQCW/jpHdiZy
QgwQEw/Gdtg7UoVj2x8LJPGW8bVinCYUjh3CM/aLY1tK7k9tqmpfjxpywvL9U6F0
+rWjBGp5QyRZbMzSvQOI4UijtawHV+HrIcFgnjytMJDm+JGT96wNwVmmbns540I7
PwtZiGY3bfEBDh+pv8l0hxBrZXqrNk6vEQIDAQABoAAwDQYJKoZIhvcNAQELBQAD
gYEAdkYGwrBY/GF+hSnnZ+H59Icc4IUHKf4RoSXMRqIPFg4LgYUFTo7dbtu5NLoe
Xt7K2Y5r5yrjByvayKYjQlSDeYJBNsslHZeoh/iVmLg+oyjGBWDqN68AacYOcbTs
SIjAYNrCtEQK0IKLrel1pVj2BarQUPD4pFO8UAsmWoDLx3M=
-----END CERTIFICATE REQUEST-----

Public-Key: (1024 bit)
Modulus:
    00:96:fe:3a:47:76:26:72:42:0c:10:13:0f:c6:76:
    d8:3b:52:85:63:db:1f:0b:24:f1:96:f1:b5:62:9c:
    26:14:8e:1d:c2:33:f6:8b:63:5b:4a:ee:4f:6d:aa:
    6a:5f:8f:1a:72:c2:f2:fd:53:a1:74:fa:b5:a3:04:
    6a:79:43:24:59:6c:cc:d2:bd:03:88:e1:48:a3:b5:
    ac:07:57:e1:eb:21:c1:60:9e:3c:ad:30:90:e6:f8:
    91:93:f7:ac:0d:c1:59:a6:6e:7b:39:e3:42:3b:3f:
    0b:59:88:66:37:6d:f1:01:0e:1f:a9:bf:c9:74:87:
    10:6b:65:7a:ab:36:4e:af:11
Exponent: 65537 (0x10001)

rsa
-----BEGIN PUBLIC KEY-----
MIGfMA0GCSqGSIb3DQEBAQUAA4GNADCBiQKBgQCW/jpHdiZyQgwQEw/Gdtg7UoVj
2x8LJPGW8bVinCYUjh3CM/aLY1tK7k9tqmpfjxpywvL9U6F0+rWjBGp5QyRZbMzS
vQOI4UijtawHV+HrIcFgnjytMJDm+JGT96wNwVmmbns540I7PwtZiGY3bfEBDh+p
v8l0hxBrZXqrNk6vEQIDAQAB
-----END PUBLIC KEY-----

-----BEGIN CERTIFICATE REQUEST-----
MIIBPzCBqQIBADAAMIGfMA0GCSqGSIb3DQEBAQUAA4GNADCBiQKBgQC1ufguq97b
asYo43N1olA/JMoGaG4cnrrJXSbWIGMf5CDQMsJV+3GVouOnGVuYI8/mSHfHB26k
XiAgmlnLsLMi28aNhnnFXGhv2G4pZLxBMoOWQ+NUt0dK+lAj1wiuOw6otKOTPQ7m
ThKkkx6rt3oIyus8bG4UbrIZjewScgj+twIDAQABoAAwDQYJKoZIhvcNAQEMBQAD
gYEACWdxefm7SdMPyzGmKlY0c46UWzaU9jxhIiB7cAJ2otuR2nMEb0/dRark6Bnv
ZiGUww33h9AFmLid+Oj6NmCHizkP1mCpDpoKkSMiwjP83yrNjqkt03nW/71v5WQ9
JvEWt45+UEjQkS3vE2G8Vu5YKqWkj5Kem9L0dK+0ZhgS2os=
-----END CERTIFICATE REQUEST-----

Public-Key: (1024 bit)
Modulus:
    00:b5:b9:f8:2e:ab:de:db:6a:c6:28:e3:73:75:a2:
    50:3f:24:ca:06:68:6e:1c:9e:ba:c9:5d:26:d6:20:
    63:1f:e4:20:d0:32:c2:55:fb:71:95:a2:e3:a7:19:
    5b:98:23:cf:e6:48:77:c7:07:6e:a4:5e:20:20:9a:
    59:cb:b0:b3:22:db:c6:8d:86:79:c5:5c:68:6f:d8:
    6e:29:64:bc:41:32:83:96:43:e3:54:b7:47:4a:fa:
    50:23:d7:08:ae:3b:0e:a8:b4:a3:93:3d:0e:e6:4e:
    12:a4:93:1e:ab:b7:7a:08:ca:eb:3c:6c:6e:14:6e:
    b2:19:8d:ec:12:72:08:fe:b7
Exponent: 65537 (0x10001)

rsa
-----BEGIN PUBLIC KEY-----
MIGfMA0GCSqGSIb3DQEBAQUAA4GNADCBiQKBgQC1ufguq97basYo43N1olA/JMoG
aG4cnrrJXSbWIGMf5CDQMsJV+3GVouOnGVuYI8/mSHfHB26kXiAgmlnLsLMi28aN
hnnFXGhv2G4pZLxBMoOWQ+NUt0dK+lAj1wiuOw6otKOTPQ7mThKkkx6rt3oIyus8
bG4UbrIZjewScgj+twIDAQAB
-----END PUBLIC KEY-----

-----BEGIN CERTIFICATE REQUEST-----
MIICJzCCAZACAQAwKTELMAkGA1UEBhMCUk8xDDAKBgNVBAoMA1VUSTEMMAoGA1UE
CwwDc3NpMIGfMA0GCSqGSIb3DQEBAQUAA4GNADCBiQKBgQCaJrduBB+xcL44zLvr
RNTcqOuP8jAucTZ53GBLEth/sDz3ZxMR/wknLbvtnTbN+kJR/RKK0neMNwGWN0tB
z/gezez2LGah+OSaklzN2OL+BFHYSnFXm/9AUwuAptuIThC0LFFKp/O9NEWZVCal
SMVuOvrIVByRex/LEzH5H8HZuQIDAQABoIG9MIG6BgkqhkiG9w0BCQ4xgawwgakw
DgYDVR0PAQH/BAQDAgWgMC4GA1UdJQQnMCUGCCsGAQUFBwMBBglghkgBhvhCBAEG
CisGAQQBgjcKAwMGAisEMBwGA1UdEQQVMBOBEXN0ZXZlQG9wZW5zc2wub3JnMB0G
A1UdDgQWBBSptmu4We5mQyTV0sBk70X3t8etHDAZBgMqAwMEEhYQTXkgbmV3IGV4
dGVuc2lvbjAPBgMqAwQECB4GAGEAYgBjMA0GCSqGSIb3DQEBCwUAA4GBAJMqIdkW
g9ktcxoAbohrvuoAlcrAipjZpM5K0/Ysm0mNVGrtbD/IHizxBED7Moe5C5CCEqT3
z3WnY4/p391rLzuaGwkbo6UnigjGFSdIhK0iEpq4xEG27+dYcopbVjV5BUImHRG4
7Pz1o9Tn8XWB0obsMpYLWQt1eWLkvIzNATdl
-----END CERTIFICATE REQUEST-----
Public-Key: (1024 bit)
Modulus:
    00:9a:26:b7:6e:04:1f:b1:70:be:38:cc:bb:eb:44:
    d4:dc:a8:eb:8f:f2:30:2e:71:36:79:dc:60:4b:12:
    d8:7f:b0:3c:f7:67:13:11:ff:09:27:2d:bb:ed:9d:
    36:cd:fa:42:51:fd:12:8a:d2:77:8c:37:01:96:37:
    4b:41:cf:f8:1e:cd:ec:f6:2c:66:a1:f8:e4:9a:92:
    5c:cd:d8:e2:fe:04:51:d8:4a:71:57:9b:ff:40:53:
    0b:80:a6:db:88:4e:10:b4:2c:51:4a:a7:f3:bd:34:
    45:99:54:26:a5:48:c5:6e:3a:fa:c8:54:1c:91:7b:
    1f:cb:13:31:f9:1f:c1:d9:b9
Exponent: 65537 (0x10001)

-----BEGIN PUBLIC KEY-----
MIGfMA0GCSqGSIb3DQEBAQUAA4GNADCBiQKBgQCaJrduBB+xcL44zLvrRNTcqOuP
8jAucTZ53GBLEth/sDz3ZxMR/wknLbvtnTbN+kJR/RKK0neMNwGWN0tBz/gezez2
LGah+OSaklzN2OL+BFHYSnFXm/9AUwuAptuIThC0LFFKp/O9NEWZVCalSMVuOvrI
VByRex/LEzH5H8HZuQIDAQAB
-----END PUBLIC KEY-----

t/Mytest.t .............. ok
t/release-kwalitee.t .... skipped: these tests are for release candidate testing
t/release-meta-json.t ... skipped: these tests are for release candidate testing
All tests successful.
Files=9, Tests=720, 68 wallclock secs ( 0.11 usr  0.00 sys + 66.42 cusr  1.03 csys = 67.56 CPU)
Result: PASS


PREREQUISITES:

Here is a list of prerequisites you specified and versions we
managed to load:

	  Module Name                        Have     Want
	  Crypt::OpenSSL::Guess              0.15     0.11
	  Crypt::OpenSSL::RSA                0.33        0
	  Exporter                           5.72        0
	  File::Slurper                     0.014        0
	  File::Spec::Functions              3.75        0
	  File::Temp                       0.2311        0
	  Import::Into                   1.002005        0
	  Test::Lib                         0.003        0
	  Test::More                     1.302199        0
	  XSLoader                           0.20        0

Perl module toolchain versions installed:
	Module Name                        Have
	CPANPLUS                         0.9914
	CPANPLUS::Dist::Build              0.90
	Cwd                                3.75
	ExtUtils::CBuilder             0.280236
	ExtUtils::Command                  7.70
	ExtUtils::Install                  2.22
	ExtUtils::MakeMaker                7.70
	ExtUtils::Manifest                 1.75
	ExtUtils::ParseXS                  3.51
	File::Spec                         3.75
	Module::Build                    0.4234
	Pod::Parser                        1.63
	Pod::Simple                        3.29
	Test2                          1.302199
	Test::Harness                      3.48
	Test::More                     1.302199
	version                          0.9932

******************************** NOTE ********************************
The comments above are created mechanically, possibly without manual
checking by the sender.  As there are many people performing automatic
tests on each upload to CPAN, it is likely that you will receive
identical messages about the same problem.

If you believe that the message is mistaken, please reply to the first
one with correction and/or additional informations, and do not take
it personally.  We appreciate your patience. :)
**********************************************************************

Additional comments:


This report was machine-generated by CPANPLUS::Dist::YACSmoke 1.08.
Powered by minismokebox version 0.68

CPANPLUS is prefering Build.PL

------------------------------
ENVIRONMENT AND OTHER CONTEXT
------------------------------

Environment variables:

    AUTOMATED_TESTING = 1
    LANG = en_GB.UTF-8
    LANGUAGE = en_GB:en
    NONINTERACTIVE_TESTING = 1
    PATH = /usr/local/bin:/usr/bin:/bin:/usr/local/games:/usr/games
    PERL5LIB = /home/cpan/pit/jail/kysjj_BLBE/lib/perl5:/home/cpan/pit/thr-ld/conf/perl-5.22.0/.cpanplus/5.22.0/build/GxmQE3odlG/Crypt-OpenSSL-PKCS10-0.31/blib/lib:/home/cpan/pit/thr-ld/conf/perl-5.22.0/.cpanplus/5.22.0/build/GxmQE3odlG/Crypt-OpenSSL-PKCS10-0.31/blib/arch
    PERL5_CPANPLUS_IS_RUNNING = 12879
    PERL5_CPANPLUS_IS_VERSION = 0.9914
    PERL5_MINISMOKEBOX = 0.68
    PERL5_YACSMOKE_BASE = /home/cpan/pit/thr-ld/conf/perl-5.22.0
    PERL_EXTUTILS_AUTOINSTALL = --defaultdeps
    PERL_LOCAL_LIB_ROOT = /home/cpan/pit/jail/kysjj_BLBE
    PERL_MB_OPT = --install_base "/home/cpan/pit/jail/kysjj_BLBE"
    PERL_MM_OPT = INSTALL_BASE=/home/cpan/pit/jail/kysjj_BLBE
    PERL_MM_USE_DEFAULT = 1
    SHELL = /bin/bash
    TERM = screen.xterm-256color

Perl special variables (and OS-specific diagnostics, for MSWin32):

    Perl: $^X = /home/cpan/pit/thr-ld/perl-5.22.0/bin/perl
    UID:  $<  = 1001
    EUID: $>  = 1001
    GID:  $(  = 1001 1001
    EGID: $)  = 1001 1001


-------------------------------


--

Summary of my perl5 (revision 5 version 22 subversion 0) configuration:
   
  Platform:
    osname=linux, osvers=5.10.0-12-686, archname=i686-linux-thread-multi-ld
    uname='linux dagobah 5.10.0-12-686 #1 smp debian 5.10.103-1 (2022-03-07) i686 gnulinux '
    config_args='-des -Dprefix=/home/cpan/pit/thr-ld/perl-5.22.0 -Dusethreads -Duselongdouble'
    hint=recommended, useposix=true, d_sigaction=define
    useithreads=define, usemultiplicity=define
    use64bitint=undef, use64bitall=undef, uselongdouble=define
    usemymalloc=n, bincompat5005=undef
  Compiler:
    cc='cc', ccflags ='-D_REENTRANT -D_GNU_SOURCE -fwrapv -fno-strict-aliasing -pipe -fstack-protector-strong -I/usr/local/include -D_LARGEFILE_SOURCE -D_FILE_OFFSET_BITS=64 -D_FORTIFY_SOURCE=2',
    optimize='-O2',
    cppflags='-D_REENTRANT -D_GNU_SOURCE -fwrapv -fno-strict-aliasing -pipe -fstack-protector-strong -I/usr/local/include'
    ccversion='', gccversion='10.2.1 20210110', gccosandvers=''
    intsize=4, longsize=4, ptrsize=4, doublesize=8, byteorder=1234, doublekind=3
    d_longlong=define, longlongsize=8, d_longdbl=define, longdblsize=12, longdblkind=3
    ivtype='long', ivsize=4, nvtype='long double', nvsize=12, Off_t='off_t', lseeksize=8
    alignbytes=4, prototype=define
  Linker and Libraries:
    ld='cc', ldflags =' -fstack-protector-strong -L/usr/local/lib'
    libpth=/usr/local/lib /usr/include/i386-linux-gnu /usr/lib /lib/i386-linux-gnu /lib/../lib /usr/lib/i386-linux-gnu /usr/lib/../lib /lib /lib64 /usr/lib64
    libs=-lpthread -lnsl -lgdbm -ldl -lm -lcrypt -lutil -lc
    perllibs=-lpthread -lnsl -ldl -lm -lcrypt -lutil -lc
    libc=libc-2.31.so, so=so, useshrplib=false, libperl=libperl.a
    gnulibc_version='2.31'
  Dynamic Linking:
    dlsrc=dl_dlopen.xs, dlext=so, d_dlsymun=undef, ccdlflags='-Wl,-E'
    cccdlflags='-fPIC', lddlflags='-shared -O2 -L/usr/local/lib -fstack-protector-strong'


Characteristics of this binary (from libperl): 
  Compile-time options: HAS_TIMES MULTIPLICITY PERLIO_LAYERS
                        PERL_DONT_CREATE_GVSV
                        PERL_HASH_FUNC_ONE_AT_A_TIME_HARD
                        PERL_IMPLICIT_CONTEXT PERL_MALLOC_WRAP
                        PERL_NEW_COPY_ON_WRITE PERL_PRESERVE_IVUV
                        USE_ITHREADS USE_LARGE_FILES USE_LOCALE
                        USE_LOCALE_COLLATE USE_LOCALE_CTYPE
                        USE_LOCALE_NUMERIC USE_LOCALE_TIME USE_LONG_DOUBLE
                        USE_PERLIO USE_PERL_ATOF USE_REENTRANT_API
  Locally applied patches:
	Devel::PatchPerl 2.08
  Built under linux
  Compiled at Mar 19 2022 14:46:26
  %ENV:
    PERL5LIB="/home/cpan/pit/jail/kysjj_BLBE/lib/perl5:/home/cpan/pit/thr-ld/conf/perl-5.22.0/.cpanplus/5.22.0/build/GxmQE3odlG/Crypt-OpenSSL-PKCS10-0.31/blib/lib:/home/cpan/pit/thr-ld/conf/perl-5.22.0/.cpanplus/5.22.0/build/GxmQE3odlG/Crypt-OpenSSL-PKCS10-0.31/blib/arch"
    PERL5_CPANPLUS_IS_RUNNING="12879"
    PERL5_CPANPLUS_IS_VERSION="0.9914"
    PERL5_MINISMOKEBOX="0.68"
    PERL5_YACSMOKE_BASE="/home/cpan/pit/thr-ld/conf/perl-5.22.0"
    PERL_EXTUTILS_AUTOINSTALL="--defaultdeps"
    PERL_LOCAL_LIB_ROOT="/home/cpan/pit/jail/kysjj_BLBE"
    PERL_MB_OPT="--install_base "/home/cpan/pit/jail/kysjj_BLBE""
    PERL_MM_OPT="INSTALL_BASE=/home/cpan/pit/jail/kysjj_BLBE"
    PERL_MM_USE_DEFAULT="1"
  @INC:
    /home/cpan/pit/jail/kysjj_BLBE/lib/perl5/5.22.0/i686-linux-thread-multi-ld
    /home/cpan/pit/jail/kysjj_BLBE/lib/perl5/5.22.0
    /home/cpan/pit/jail/kysjj_BLBE/lib/perl5/i686-linux-thread-multi-ld
    /home/cpan/pit/jail/kysjj_BLBE/lib/perl5
    /home/cpan/pit/thr-ld/conf/perl-5.22.0/.cpanplus/5.22.0/build/GxmQE3odlG/Crypt-OpenSSL-PKCS10-0.31/blib/lib
    /home/cpan/pit/thr-ld/conf/perl-5.22.0/.cpanplus/5.22.0/build/GxmQE3odlG/Crypt-OpenSSL-PKCS10-0.31/blib/arch
    /home/cpan/pit/thr-ld/perl-5.22.0/lib/site_perl/5.22.0/i686-linux-thread-multi-ld
    /home/cpan/pit/thr-ld/perl-5.22.0/lib/site_perl/5.22.0
    /home/cpan/pit/thr-ld/perl-5.22.0/lib/5.22.0/i686-linux-thread-multi-ld
    /home/cpan/pit/thr-ld/perl-5.22.0/lib/5.22.0
    .