Win32-GUI v1.14 Perl 5 v5.38.2 MSWin32-x86-multi-thread-64int

Status
Pass
From
gregor herrmann
Dist
Win32-GUI v1.14
Platform
Perl 5 v5.38.2 MSWin32-x86-multi-thread-64int
Date
2023-12-01 05:57:14
ID
c72cbf2c-6d58-1014-a2f3-d9a06a97e739
This distribution has been tested as part of the CPAN Testers
project, supporting the Perl programming language.  See
http://wiki.cpantesters.org/ for more information or email
questions to cpan-testers-discuss@perl.org


--
Dear kmx,

This is a computer-generated report for Win32-GUI-1.14
on perl 5.38.2, created by CPAN-Reporter-1.2019.

Thank you for uploading your work to CPAN.  Congratulations!
All tests were successful.

Sections of this report:

    * Tester comments
    * Program output
    * Prerequisites
    * Environment and other context

------------------------------
TESTER COMMENTS
------------------------------

Additional comments from tester:

this report is from an automated smoke testing program
and was not reviewed by a human for accuracy

------------------------------
PROGRAM OUTPUT
------------------------------

Output from 'C:\strawberry\c\bin\gmake.EXE test':

"C:\Strawberry\perl\bin\perl.exe" -MExtUtils::Command::MM -e cp_nonempty -- GUI.bs blib\arch\auto\Win32\GUI\GUI.bs 644
gmake[1]: Entering directory 'C:/cpan/build/Win32-GUI-1.14-0/Win32-GUI_AxWindow'
gmake[1]: Nothing to be done for 'all'.
gmake[1]: Leaving directory 'C:/cpan/build/Win32-GUI-1.14-0/Win32-GUI_AxWindow'
gmake[1]: Entering directory 'C:/cpan/build/Win32-GUI-1.14-0/Win32-GUI_BitmapInline'
gmake[1]: Leaving directory 'C:/cpan/build/Win32-GUI-1.14-0/Win32-GUI_BitmapInline'
gmake[1]: Entering directory 'C:/cpan/build/Win32-GUI-1.14-0/Win32-GUI_Constants'
gmake[2]: Entering directory 'C:/cpan/build/Win32-GUI-1.14-0/Win32-GUI_Constants/hash'
gmake[2]: Nothing to be done for 'all'.
gmake[2]: Leaving directory 'C:/cpan/build/Win32-GUI-1.14-0/Win32-GUI_Constants/hash'
"C:\Strawberry\perl\bin\perl.exe" -MExtUtils::Command::MM -e cp_nonempty -- Constants.bs ..\blib\arch\auto\Win32\GUI\Constants\Constants.bs 644
gmake[1]: Leaving directory 'C:/cpan/build/Win32-GUI-1.14-0/Win32-GUI_Constants'
gmake[1]: Entering directory 'C:/cpan/build/Win32-GUI-1.14-0/Win32-GUI_DIBitmap'
gmake[1]: Nothing to be done for 'all'.
gmake[1]: Leaving directory 'C:/cpan/build/Win32-GUI-1.14-0/Win32-GUI_DIBitmap'
gmake[1]: Entering directory 'C:/cpan/build/Win32-GUI-1.14-0/Win32-GUI_DropFiles'
"C:\Strawberry\perl\bin\perl.exe" -MExtUtils::Command::MM -e cp_nonempty -- DropFiles.bs ..\blib\arch\auto\Win32\GUI\DropFiles\DropFiles.bs 644
gmake[1]: Leaving directory 'C:/cpan/build/Win32-GUI-1.14-0/Win32-GUI_DropFiles'
gmake[1]: Entering directory 'C:/cpan/build/Win32-GUI-1.14-0/Win32-GUI_Grid'
gmake[1]: Nothing to be done for 'all'.
gmake[1]: Leaving directory 'C:/cpan/build/Win32-GUI-1.14-0/Win32-GUI_Grid'
gmake[1]: Entering directory 'C:/cpan/build/Win32-GUI-1.14-0/Win32-GUI_ReleaseNotes'
gmake[1]: Leaving directory 'C:/cpan/build/Win32-GUI-1.14-0/Win32-GUI_ReleaseNotes'
gmake[1]: Entering directory 'C:/cpan/build/Win32-GUI-1.14-0/Win32-GUI_Scintilla'
"C:\Strawberry\perl\bin\perl.exe" -MExtUtils::Command::MM -e cp_nonempty -- Scintilla.bs ..\blib\arch\auto\Win32\GUI\Scintilla\Scintilla.bs 644
gmake[1]: Leaving directory 'C:/cpan/build/Win32-GUI-1.14-0/Win32-GUI_Scintilla'
gmake[1]: Entering directory 'C:/cpan/build/Win32-GUI-1.14-0/Win32-GUI_AxWindow'
gmake[1]: Nothing to be done for 'test_dynamic'.
gmake[1]: Leaving directory 'C:/cpan/build/Win32-GUI-1.14-0/Win32-GUI_AxWindow'
gmake[1]: Entering directory 'C:/cpan/build/Win32-GUI-1.14-0/Win32-GUI_BitmapInline'
"C:\Strawberry\perl\bin\perl.exe" "-MExtUtils::Command::MM" "-MTest::Harness" "-e" "undef *Test::Harness::Switches; test_harness(0, '..\blib\lib', '..\blib\arch')" t/*.t
t/01_load.t .......... ok
t/02_public_api.t .... ok
t/03_inline.t ........ ok
t/04_new.t ........... ok
t/05_newCursor.t ..... ok
t/06_newIcon.t ....... ok
t/98_pod.t ........... skipped: Pod tests for Win32::GUI::BitmapInline done by core
t/99_pod_coverage.t .. skipped: Pod Coverage tests for Win32::GUI::BitmapInline done by core
All tests successful.
Files=8, Tests=30,  5 wallclock secs ( 0.08 usr +  0.06 sys =  0.14 CPU)
Result: PASS
gmake[1]: Leaving directory 'C:/cpan/build/Win32-GUI-1.14-0/Win32-GUI_BitmapInline'
gmake[1]: Entering directory 'C:/cpan/build/Win32-GUI-1.14-0/Win32-GUI_Constants'
"C:\Strawberry\perl\bin\perl.exe" -MExtUtils::Command::MM -e cp_nonempty -- Constants.bs ..\blib\arch\auto\Win32\GUI\Constants\Constants.bs 644
gmake[2]: Entering directory 'C:/cpan/build/Win32-GUI-1.14-0/Win32-GUI_Constants/hash'
gmake[2]: Nothing to be done for 'all'.
gmake[2]: Leaving directory 'C:/cpan/build/Win32-GUI-1.14-0/Win32-GUI_Constants/hash'
gmake[2]: Entering directory 'C:/cpan/build/Win32-GUI-1.14-0/Win32-GUI_Constants/hash'
gmake[2]: Nothing to be done for 'test_dynamic'.
gmake[2]: Leaving directory 'C:/cpan/build/Win32-GUI-1.14-0/Win32-GUI_Constants/hash'
"C:\Strawberry\perl\bin\perl.exe" "-MExtUtils::Command::MM" "-MTest::Harness" "-e" "undef *Test::Harness::Switches; test_harness(0, '..\blib\lib', '..\blib\arch')" t/*.t
t/01_load.t .......................... ok
t/02_default.t ....................... ok
t/03_inline.t ........................ ok
t/04_noexport.t ...................... ok
t/05_export_byname.t ................. ok
t/06_export_bytag.t .................. ok
t/07_nothing.t ....................... ok
t/08_exportpkg.t ..................... ok
t/09_autoload.t ...................... ok
t/10_inherit.t ....................... ok
t/50_tags_compatability_win32_gui.t .. ok
t/51_tags_all.t ...................... ok
t/52_tags.t .......................... ok
t/70_values.t ........................ ok
t/71_invalid_values.t ................ ok
t/97_Version.t ....................... ok
t/98_pod.t ........................... skipped: Pod tests for Win32::GUI::Constants done by core
t/99_pod_coverage.t .................. skipped: Pod Coverage tests for Win32::GUI::Constants done by core
All tests successful.
Files=18, Tests=2182, 16 wallclock secs ( 0.41 usr +  0.11 sys =  0.52 CPU)
Result: PASS
gmake[1]: Leaving directory 'C:/cpan/build/Win32-GUI-1.14-0/Win32-GUI_Constants'
gmake[1]: Entering directory 'C:/cpan/build/Win32-GUI-1.14-0/Win32-GUI_DIBitmap'
gmake[1]: Nothing to be done for 'test_dynamic'.
gmake[1]: Leaving directory 'C:/cpan/build/Win32-GUI-1.14-0/Win32-GUI_DIBitmap'
gmake[1]: Entering directory 'C:/cpan/build/Win32-GUI-1.14-0/Win32-GUI_DropFiles'
"C:\Strawberry\perl\bin\perl.exe" -MExtUtils::Command::MM -e cp_nonempty -- DropFiles.bs ..\blib\arch\auto\Win32\GUI\DropFiles\DropFiles.bs 644
"C:\Strawberry\perl\bin\perl.exe" "-MExtUtils::Command::MM" "-MTest::Harness" "-e" "undef *Test::Harness::Switches; test_harness(0, '..\blib\lib', '..\blib\arch')" t/*.t
t/01_load.t ............. ok
t/02_old_callback.t ..... ok
t/03_new_callback.t ..... ok
t/04_GetDroppedFiles.t .. ok
t/05_GetDroppedFile.t ... ok
t/06_GetDropPos.t ....... ok
t/07_DragQueryFile.t .... ok
t/08_DragQueryPoint.t ... ok
t/09_DragFinish.t ....... ok
t/10_Unicode.t .......... skipped: Unicode::String required for testing Unicode Support
t/11_invalid_handles.t .. ok
t/97_Version.t .......... ok
t/98_pod.t .............. skipped: Pod tests for Win32::GUI::DropFiles done by core
t/99_pod_coverage.t ..... skipped: Pod Coverage tests for Win32::GUI::DropFiles done by core
All tests successful.
Files=14, Tests=112,  8 wallclock secs ( 0.11 usr +  0.05 sys =  0.16 CPU)
Result: PASS
gmake[1]: Leaving directory 'C:/cpan/build/Win32-GUI-1.14-0/Win32-GUI_DropFiles'
gmake[1]: Entering directory 'C:/cpan/build/Win32-GUI-1.14-0/Win32-GUI_Grid'
gmake[1]: Nothing to be done for 'test_dynamic'.
gmake[1]: Leaving directory 'C:/cpan/build/Win32-GUI-1.14-0/Win32-GUI_Grid'
gmake[1]: Entering directory 'C:/cpan/build/Win32-GUI-1.14-0/Win32-GUI_ReleaseNotes'
"C:\Strawberry\perl\bin\perl.exe" "-MExtUtils::Command::MM" "-MTest::Harness" "-e" "undef *Test::Harness::Switches; test_harness(0, '..\blib\lib', '..\blib\arch')" t/*.t
t/98_pod.t .. skipped: Pod tests for Win32::GUI::ReleaseNotes done by core
Files=1, Tests=0,  1 wallclock secs ( 0.06 usr +  0.03 sys =  0.09 CPU)
Result: NOTESTS
gmake[1]: Leaving directory 'C:/cpan/build/Win32-GUI-1.14-0/Win32-GUI_ReleaseNotes'
gmake[1]: Entering directory 'C:/cpan/build/Win32-GUI-1.14-0/Win32-GUI_Scintilla'
"C:\Strawberry\perl\bin\perl.exe" -MExtUtils::Command::MM -e cp_nonempty -- Scintilla.bs ..\blib\arch\auto\Win32\GUI\Scintilla\Scintilla.bs 644
"C:\Strawberry\perl\bin\perl.exe" "-MExtUtils::Command::MM" "-MTest::Harness" "-e" "undef *Test::Harness::Switches; test_harness(0, '..\blib\lib', '..\blib\arch')" t/*.t
t/01_load.t .......... ok
t/02_new.t ........... ok
t/03_LoadFile.t ...... ok
t/55_crash.t ......... ok
t/97_Version.t ....... ok
t/98_pod.t ........... skipped: Pod tests for Win32::GUI::Scintilla done by core
t/99_pod_coverage.t .. skipped: Pod Coverage tests for Win32::GUI::Scintilla done by core
All tests successful.
Files=7, Tests=19,  5 wallclock secs ( 0.11 usr +  0.03 sys =  0.14 CPU)
Result: PASS
gmake[1]: Leaving directory 'C:/cpan/build/Win32-GUI-1.14-0/Win32-GUI_Scintilla'
"C:\Strawberry\perl\bin\perl.exe" "-MExtUtils::Command::MM" "-MTest::Harness" "-e" "undef *Test::Harness::Switches; test_harness(0, 'blib\lib', 'blib\arch')" t/*.t
t/01_basic.t ....................... ok
Use of uninitialized value in subroutine entry at t/02_background.t line 85.
t/02_background.t .................. ok
t/02_constants.t ................... ok
t/02_window.t ...................... ok
t/03_button.t ...................... ok
t/04_cov.t ......................... ok
t/05_AcceleratorTable.t ............ ok
t/05_Menu.t ........................ ok
t/05_NotifyIcon_01_Constructor.t ... ok
t/05_NotifyIcon_02_Change.t ........ ok
t/05_NotifyIcon_03_OtherMethods.t .. ok
t/05_NotifyIcon_04_Remove.t ........ ok
t/05_NotifyIcon_05_DESTROY.t ....... ok
t/05_Timer_01_OEM.t ................ ok
t/05_Timer_02_NEM.t ................ ok
t/05_Timer_03_Interval.t ........... ok
t/05_Timer_04_Kill.t ............... ok
t/05_Timer_05_DESTROY.t ............ ok
t/06_Cursor.t ...................... ok
t/06_Icon.t ........................ ok
t/50_Font_GetMetrics.t ............. ok
t/50_Richedit_GetCharFormat.t ...... ok
t/97_Version.t ..................... ok
t/98_Pod.t ......................... skipped: set TEST_POD to enable this test
t/99_pod_coverage.t ................ skipped: set TEST_POD to enable this test
All tests successful.
Files=25, Tests=335, 22 wallclock secs ( 0.28 usr +  0.08 sys =  0.36 CPU)
Result: PASS

------------------------------
PREREQUISITES
------------------------------

Prerequisite modules loaded:

requires:

    Module              Need Have    
    ------------------- ---- --------
    Test::More          0    1.302197

build_requires:

    Module              Need Have    
    ------------------- ---- --------
    ExtUtils::MakeMaker 0    7.70    

configure_requires:

    Module              Need Have    
    ------------------- ---- --------
    ExtUtils::MakeMaker 0    7.70    


------------------------------
ENVIRONMENT AND OTHER CONTEXT
------------------------------

Environment variables:

    AUTOMATED_TESTING = 1
    COMSPEC = C:\WINDOWS\system32\cmd.exe
    NONINTERACTIVE_TESTING = 1
    NUMBER_OF_PROCESSORS = 2
    PATH = C:\WINDOWS\system32;C:\strawberry\c\bin;C:\strawberry\perl\site\bin;C:\strawberry\perl\bin
    PERL5LIB = 
    PERL5OPT = 
    PERL5_CPANPLUS_IS_RUNNING = 1304
    PERL5_CPAN_IS_RUNNING = 1304
    PERL5_CPAN_IS_RUNNING_IN_RECURSION = 7292,1304
    PERL_CR_SMOKER_CURRENT = Win32GUICarp-1.01
    PERL_EXTUTILS_AUTOINSTALL = --defaultdeps
    PERL_MM_USE_DEFAULT = 1
    PERL_USE_UNSAFE_INC = 1
    PROCESSOR_IDENTIFIER = x86 Family 6 Model 15 Stepping 11, GenuineIntel
    TEMP = C:\Users\smoker\AppData\Local\Temp

Perl special variables (and OS-specific diagnostics, for MSWin32):

    $^X = C:\Strawberry\perl\bin\perl.exe
    $UID/$EUID = 0 / 0
    $GID = 0
    $EGID = 0
    Win32::GetOSName = Win10
    Win32::GetOSVersion = , 10, 0, 19045, 2, 0, 0, 256, 1
    Win32::FsType = NTFS
    Win32::IsAdminUser = 0

Perl module toolchain versions installed:

    Module              Have    
    ------------------- --------
    CPAN                2.36    
    CPAN::Meta          2.150010
    Cwd                 3.89    
    ExtUtils::CBuilder  0.280238
    ExtUtils::Command   7.70    
    ExtUtils::Install   2.22    
    ExtUtils::MakeMaker 7.70    
    ExtUtils::Manifest  1.75    
    ExtUtils::ParseXS   3.51    
    File::Spec          3.88    
    JSON                4.10    
    JSON::PP            4.16    
    Module::Build       0.4234  
    Module::Signature   n/a     
    Parse::CPAN::Meta   2.150010
    Test2               1.302197
    Test::Harness       3.48    
    Test::More          1.302197
    YAML                1.30    
    YAML::Syck          1.34    
    version             0.9930  


--

Summary of my perl5 (revision 5 version 38 subversion 2) configuration:
   
  Platform:
    osname=MSWin32
    osvers=10.0.19045.3693
    archname=MSWin32-x86-multi-thread-64int
    uname='Win32 strawberry-perl 5.38.2.1 # 01:08:54 Thu November 30 2023 x32'
    config_args='undef'
    hint=recommended
    useposix=true
    d_sigaction=undef
    useithreads=define
    usemultiplicity=define
    use64bitint=define
    use64bitall=undef
    uselongdouble=undef
    usemymalloc=n
    default_inc_excludes_dot=define
  Compiler:
    cc='gcc'
    ccflags =' -DWIN32  -DPERL_TEXTMODE_SCRIPTS -DMULTIPLICITY -DPERL_IMPLICIT_SYS -DUSE_PERLIO -D__USE_MINGW_ANSI_STDIO -fwrapv -fno-strict-aliasing -mms-bitfields'
    optimize='-Os'
    cppflags='-DWIN32'
    ccversion=''
    gccversion='8.3.0'
    gccosandvers=''
    intsize=4
    longsize=4
    ptrsize=4
    doublesize=8
    byteorder=12345678
    doublekind=3
    d_longlong=define
    longlongsize=8
    d_longdbl=define
    longdblsize=12
    longdblkind=3
    ivtype='long long'
    ivsize=8
    nvtype='double'
    nvsize=8
    Off_t='long long'
    lseeksize=8
    alignbytes=8
    prototype=define
  Linker and Libraries:
    ld='g++'
    ldflags ='-s -L"C:\STRAWB~1\perl\lib\CORE" -L"C:\STRAWB~1\c\lib" -L"C:\STRAWB~1\c\i686-w64-mingw32\lib" -L"C:\STRAWB~1\c\lib\gcc\i686-w64-mingw32\8.3.0"'
    libpth=C:\STRAWB~1\c\lib C:\STRAWB~1\c\i686-w64-mingw32\lib C:\STRAWB~1\c\lib\gcc\i686-w64-mingw32\8.3.0 C:\STRAWB~1\c\i686-w64-mingw32\lib C:\STRAWB~1\c\lib\gcc\i686-w64-mingw32\8.3.0
    libs= -lmoldname -lkernel32 -luser32 -lgdi32 -lwinspool -lcomdlg32 -ladvapi32 -lshell32 -lole32 -loleaut32 -lnetapi32 -luuid -lws2_32 -lmpr -lwinmm -lversion -lodbc32 -lodbccp32 -lcomctl32
    perllibs= -lmoldname -lkernel32 -luser32 -lgdi32 -lwinspool -lcomdlg32 -ladvapi32 -lshell32 -lole32 -loleaut32 -lnetapi32 -luuid -lws2_32 -lmpr -lwinmm -lversion -lodbc32 -lodbccp32 -lcomctl32
    libc=
    so=dll
    useshrplib=true
    libperl=libperl538.a
    gnulibc_version=''
  Dynamic Linking:
    dlsrc=dl_win32.xs
    dlext=xs.dll
    d_dlsymun=undef
    ccdlflags=' '
    cccdlflags=' '
    lddlflags='-shared -s -L"C:\STRAWB~1\perl\lib\CORE" -L"C:\STRAWB~1\c\lib" -L"C:\STRAWB~1\c\i686-w64-mingw32\lib" -L"C:\STRAWB~1\c\lib\gcc\i686-w64-mingw32\8.3.0"'


Characteristics of this binary (from libperl): 
  Compile-time options:
    HAS_LONG_DOUBLE
    HAS_TIMES
    HAVE_INTERP_INTERN
    MULTIPLICITY
    PERLIO_LAYERS
    PERL_COPY_ON_WRITE
    PERL_DONT_CREATE_GVSV
    PERL_HASH_FUNC_SIPHASH13
    PERL_HASH_USE_SBOX32
    PERL_IMPLICIT_SYS
    PERL_MALLOC_WRAP
    PERL_OP_PARENT
    PERL_PRESERVE_IVUV
    PERL_USE_SAFE_PUTENV
    USE_64_BIT_INT
    USE_ITHREADS
    USE_LARGE_FILES
    USE_LOCALE
    USE_LOCALE_COLLATE
    USE_LOCALE_CTYPE
    USE_LOCALE_NUMERIC
    USE_LOCALE_TIME
    USE_PERLIO
    USE_PERL_ATOF
  Built under MSWin32
  Compiled at Nov 30 2023 12:14:21
  %ENV:
    PERL5_CPANPLUS_IS_RUNNING="1304"
    PERL5_CPAN_IS_RUNNING="1304"
    PERL5_CPAN_IS_RUNNING_IN_RECURSION="7292,1304"
    PERL_CR_SMOKER_CURRENT="Win32GUICarp-1.01"
    PERL_EXTUTILS_AUTOINSTALL="--defaultdeps"
    PERL_MM_USE_DEFAULT="1"
    PERL_USE_UNSAFE_INC="1"
  @INC:
    C:/Strawberry/perl/site/lib/MSWin32-x86-multi-thread-64int
    C:/Strawberry/perl/site/lib
    C:/Strawberry/perl/vendor/lib
    C:/Strawberry/perl/lib
    .