Back
From: metabase:user:314402c4-2aae-11df-837a-5e0a49663a4f
Subject: PASS Dist-Zilla-Plugin-FFI-CheckLib-0.002001 v5.16.3 FreeBSD
Date: 2015-03-22T01:21:34Z
This distribution has been tested as part of the CPAN Testers
project, supporting the Perl programming language. See
http://wiki.cpantesters.org/ for more information or email
questions to cpan-testers-discuss@perl.org
--
Dear Jon Portnoy,
This is a computer-generated report for Dist-Zilla-Plugin-FFI-CheckLib-0.002001
on perl 5.16.3, created by CPAN-Reporter-1.2011.
Thank you for uploading your work to CPAN. Congratulations!
All tests were successful.
Sections of this report:
* Tester comments
* Program output
* Prerequisites
* Environment and other context
------------------------------
TESTER COMMENTS
------------------------------
Additional comments from tester:
none provided
------------------------------
PROGRAM OUTPUT
------------------------------
Output from '/usr/bin/make test':
PERL_DL_NONLAZY=1 "/usr/perl5.16.3t/bin/perl5.16.3" "-MExtUtils::Command::MM" "-MTest::Harness" "-e" "undef *Test::Harness::Switches; test_harness(0, 'blib/lib', 'blib/arch')" t/*.t
#
# Versions for all modules listed in MYMETA.json (including optional ones):
#
# === Configure Requires ===
#
# Module Want Have
# ------------------- ---- ----
# ExtUtils::MakeMaker any 7.04
#
# === Build Requires ===
#
# Module Want Have
# ------------------- ---- ----
# ExtUtils::MakeMaker any 7.04
#
# === Test Requires ===
#
# Module Want Have
# ------------------- ---- --------
# ExtUtils::MakeMaker any 7.04
# File::Spec any 3.47
# Path::Tiny any 0.061
# Test::DZil any 5.034
# Test::Deep any 0.115
# Test::Fatal any 0.014
# Test::More 0.88 1.001014
# Test::Requires any 0.08
# Test::Warnings any 0.021
#
# === Test Recommends ===
#
# Module Want Have
# ---------- -------- --------
# CPAN::Meta 2.120900 2.150001
#
# === Runtime Requires ===
#
# Module Want Have
# -------------------- ---- ------
# Dist::Zilla 5 5.034
# FFI::CheckLib 0.11 0.11
# Moose any 2.1403
# namespace::autoclean any 0.24
#
t/00-report-prereqs.t ...... ok
t/author-no-tabs.t ......... skipped: these tests are for testing by the author
t/basic.t .................. ok
t/module-build-tiny.t ...... ok
t/module-build.t ........... ok
t/release-cpan-changes.t ... skipped: these tests are for release candidate testing
t/release-dist-manifest.t .. skipped: these tests are for release candidate testing
t/release-pod-coverage.t ... skipped: these tests are for release candidate testing
t/release-pod-linkcheck.t .. skipped: these tests are for release candidate testing
t/release-pod-syntax.t ..... skipped: these tests are for release candidate testing
t/release-unused-vars.t .... skipped: these tests are for release candidate testing
All tests successful.
Files=11, Tests=19, 7 wallclock secs ( 0.07 usr 0.02 sys + 6.61 cusr 0.54 csys = 7.23 CPU)
Result: PASS
------------------------------
PREREQUISITES
------------------------------
Prerequisite modules loaded:
requires:
Module Need Have
-------------------- ----- --------
Dist::Zilla 5 5.034
FFI::CheckLib 0.11 0.11
Moose 0 2.1403
namespace::autoclean 0 0.24
perl 5.008 5.016003
build_requires:
Module Need Have
-------------------- ----- --------
ExtUtils::MakeMaker 0 7.04
File::Spec 0 3.47
Path::Tiny 0 0.061
Test::Deep 0 0.115
Test::DZil 0 5.034
Test::Fatal 0 0.014
Test::More 0.88 1.001014
Test::Requires 0 0.08
Test::Warnings 0 0.021
configure_requires:
Module Need Have
-------------------- ----- --------
ExtUtils::MakeMaker 0 7.04
------------------------------
ENVIRONMENT AND OTHER CONTEXT
------------------------------
Environment variables:
DBIC_NO_WARN_BAD_PERL = 1
LC_ALL = de_DE.ISO8859-1
PATH = /usr/local/bin:/usr/bin:/bin:/usr/local/sbin:/usr/sbin:/sbin:/home/cpansand/bin/freebsd9.1:/home/cpansand/bin/sh:/home/cpansand/bin:/usr/games:/home/cpansand/devel:/usr/home/eserte/src/srezic-misc/scripts
PERL5LIB = /home/eserte/.cpan/build/Net-SNMPTrapd-0.16-PrPH1e/blib/arch:/home/eserte/.cpan/build/Net-SNMPTrapd-0.16-PrPH1e/blib/lib
PERL5OPT =
PERL5_CPANPLUS_IS_RUNNING = 9477
PERL5_CPAN_IS_RUNNING = 9477
PERL5_CPAN_IS_RUNNING_IN_RECURSION = 9419,9477
PERLDOC = -MPod::Perldoc::ToTextOverstrike
PERL_BATCH = yes
PERL_CPAN_REPORTER_CONFIG = /var/tmp/cpansmoker-1023/vH8VHZM5CS_config.ini
PERL_EXTUTILS_AUTOINSTALL = --defaultdeps
PERL_HTML_DISPLAY_CLASS = HTML::Display::Mozilla
SHELL = /usr/local/bin/zsh
TERM = screen
TMPDIR = /var/tmp/cpansmoker-1023
Perl special variables (and OS-specific diagnostics, for MSWin32):
$^X = /usr/perl5.16.3t/bin/perl5.16.3
$UID/$EUID = 1023 / 1023
$GID = 1023 1023
$EGID = 1023 1023
Perl module toolchain versions installed:
Module Have
------------------- --------
CPAN 1.9800
CPAN::Meta 2.150001
Cwd 3.47
ExtUtils::CBuilder 0.280220
ExtUtils::Command 1.20
ExtUtils::Install 1.68
ExtUtils::MakeMaker 7.04
ExtUtils::Manifest 1.69
ExtUtils::ParseXS 3.24
File::Spec 3.47
JSON 2.90
JSON::PP 2.27300
Module::Build 0.4211
Module::Signature 0.73
Parse::CPAN::Meta 1.4414
Test::Harness 3.35
Test::More 1.001014
YAML 1.14
YAML::Syck 1.29
version 0.9912
--
Summary of my perl5 (revision 5 version 16 subversion 3) configuration:
Platform:
osname=freebsd, osvers=9.2-release-p4, archname=amd64-freebsd-thread-multi
uname='freebsd cvrsnica-freebsd-92 9.2-release-p4 freebsd 9.2-release-p4 #0: tue apr 8 18:08:22 utc 2014 root@amd64-builder.daemonology.net:usrobjusrsrcsysgeneric amd64 '
config_args='-ds -e -Dprefix=/usr/perl5.16.3t -Dusethreads'
hint=recommended, useposix=true, d_sigaction=define
useithreads=define, usemultiplicity=define
useperlio=define, d_sfio=undef, uselargefiles=define, usesocks=undef
use64bitint=define, use64bitall=define, uselongdouble=undef
usemymalloc=n, bincompat5005=undef
Compiler:
cc='cc', ccflags ='-DHAS_FPSETMASK -DHAS_FLOATINGPOINT_H -fno-strict-aliasing -pipe -fstack-protector -I/usr/local/include',
optimize='-O',
cppflags='-DHAS_FPSETMASK -DHAS_FLOATINGPOINT_H -fno-strict-aliasing -pipe -fstack-protector -I/usr/local/include'
ccversion='', gccversion='4.2.1 20070831 patched [FreeBSD]', gccosandvers=''
intsize=4, longsize=8, ptrsize=8, doublesize=8, byteorder=12345678
d_longlong=define, longlongsize=8, d_longdbl=define, longdblsize=16
ivtype='long', ivsize=8, nvtype='double', nvsize=8, Off_t='off_t', lseeksize=8
alignbytes=8, prototype=define
Linker and Libraries:
ld='cc', ldflags ='-pthread -Wl,-E -fstack-protector -L/usr/local/lib'
libpth=/usr/lib /usr/local/lib
libs=-lgdbm -lm -lcrypt
perllibs=-lm -lcrypt
libc=, so=so, useshrplib=false, libperl=libperl.a
gnulibc_version=''
Dynamic Linking:
dlsrc=dl_dlopen.xs, dlext=so, d_dlsymun=undef, ccdlflags=' '
cccdlflags='-DPIC -fPIC', lddlflags='-shared -L/usr/local/lib -fstack-protector'
Characteristics of this binary (from libperl):
Compile-time options: HAS_TIMES MULTIPLICITY PERLIO_LAYERS
PERL_DONT_CREATE_GVSV PERL_IMPLICIT_CONTEXT
PERL_MALLOC_WRAP PERL_PRESERVE_IVUV USE_64_BIT_ALL
USE_64_BIT_INT USE_ITHREADS USE_LARGE_FILES
USE_LOCALE USE_LOCALE_COLLATE USE_LOCALE_CTYPE
USE_LOCALE_NUMERIC USE_PERLIO USE_PERL_ATOF
USE_REENTRANT_API
Built under freebsd
Compiled at May 16 2014 07:49:48
%ENV:
PERL5LIB="/home/eserte/.cpan/build/Net-SNMPTrapd-0.16-PrPH1e/blib/arch:/home/eserte/.cpan/build/Net-SNMPTrapd-0.16-PrPH1e/blib/lib"
PERL5OPT=""
PERL5_CPANPLUS_IS_RUNNING="9477"
PERL5_CPAN_IS_RUNNING="9477"
PERL5_CPAN_IS_RUNNING_IN_RECURSION="9419,9477"
PERLDOC="-MPod::Perldoc::ToTextOverstrike"
PERL_BATCH="yes"
PERL_CPAN_REPORTER_CONFIG="/var/tmp/cpansmoker-1023/vH8VHZM5CS_config.ini"
PERL_EXTUTILS_AUTOINSTALL="--defaultdeps"
PERL_HTML_DISPLAY_CLASS="HTML::Display::Mozilla"
@INC:
/home/eserte/.cpan/build/Net-SNMPTrapd-0.16-PrPH1e/blib/arch
/home/eserte/.cpan/build/Net-SNMPTrapd-0.16-PrPH1e/blib/lib
/usr/perl5.16.3t/lib/site_perl/5.16.3/amd64-freebsd-thread-multi
/usr/perl5.16.3t/lib/site_perl/5.16.3
/usr/perl5.16.3t/lib/5.16.3/amd64-freebsd-thread-multi
/usr/perl5.16.3t/lib/5.16.3
.