Venus v4.15 Perl 5 v5.34.3 x86_64-linux-ld
- Status
- Pass
- From
- Andreas J. König (ANDK)
- Dist
-
Venus v4.15
- Platform
- Perl 5 v5.34.3 x86_64-linux-ld
- Date
- 2023-12-23 02:27:11
- ID
- c754e21c-a13a-11ee-a0af-61a2e4080ab9
This distribution has been tested as part of the CPAN Testers
project, supporting the Perl programming language. See
http://wiki.cpantesters.org/ for more information or email
questions to cpan-testers-discuss@perl.org
--
Dear Al Newkirk,
This is a computer-generated report for Venus-4.15
on perl 5.34.3, created by CPAN-Reporter-1.2019.
Thank you for uploading your work to CPAN. Congratulations!
All tests were successful.
Sections of this report:
* Tester comments
* Program output
* Prerequisites
* Environment and other context
------------------------------
TESTER COMMENTS
------------------------------
Additional comments from tester:
this report is from an automated smoke testing program
and was not reviewed by a human for accuracy
------------------------------
PROGRAM OUTPUT
------------------------------
Output from '/usr/bin/make test':
PERL_DL_NONLAZY=1 "/tmp/basesmoker-reloperl-rGUl/bin/perl" "-MExtUtils::Command::MM" "-MTest::Harness" "-e" "undef *Test::Harness::Switches; test_harness(0, 'blib/lib', 'blib/arch')" t/*.t
t/Venus.t .................... ok
t/Venus_Args.t ............... ok
t/Venus_Array.t .............. ok
t/Venus_Assert.t ............. ok
t/Venus_Atom.t ............... ok
t/Venus_Boolean.t ............ ok
t/Venus_Box.t ................ ok
t/Venus_Check.t .............. ok
t/Venus_Class.t .............. ok
t/Venus_Cli.t ................ ok
t/Venus_Code.t ............... ok
t/Venus_Coercion.t ........... ok
t/Venus_Config.t ............. ok
t/Venus_Constraint.t ......... ok
t/Venus_Container.t .......... ok
t/Venus_Core.t ............... ok
t/Venus_Core_Class.t ......... ok
t/Venus_Core_Mixin.t ......... ok
t/Venus_Core_Role.t .......... ok
t/Venus_Data.t ............... ok
t/Venus_Date.t ............... ok
t/Venus_Dump.t ............... ok
t/Venus_Enum.t ............... ok
t/Venus_Error.t .............. ok
t/Venus_False.t .............. ok
t/Venus_Fault.t .............. ok
t/Venus_Float.t .............. ok
t/Venus_Future.t ............. ok
t/Venus_Gather.t ............. ok
t/Venus_Hash.t ............... ok
t/Venus_Json.t ............... ok
t/Venus_Kind.t ............... ok
t/Venus_Kind_Utility.t ....... ok
t/Venus_Kind_Value.t ......... ok
t/Venus_Log.t ................ ok
t/Venus_Match.t .............. ok
t/Venus_Meta.t ............... ok
t/Venus_Mixin.t .............. ok
t/Venus_Name.t ............... ok
t/Venus_Number.t ............. ok
t/Venus_Opts.t ............... ok
t/Venus_Os.t ................. ok
t/Venus_Path.t ............... ok
t/Venus_Process.t ............ ok
t/Venus_Prototype.t .......... ok
t/Venus_Random.t ............. ok
t/Venus_Regexp.t ............. ok
t/Venus_Replace.t ............ ok
t/Venus_Role.t ............... ok
t/Venus_Role_Accessible.t .... ok
t/Venus_Role_Assertable.t .... ok
t/Venus_Role_Boxable.t ....... ok
t/Venus_Role_Buildable.t ..... ok
t/Venus_Role_Catchable.t ..... ok
t/Venus_Role_Coercible.t ..... ok
t/Venus_Role_Comparable.t .... ok
t/Venus_Role_Defaultable.t ... ok
t/Venus_Role_Deferrable.t .... ok
t/Venus_Role_Digestable.t .... ok
t/Venus_Role_Doable.t ........ ok
t/Venus_Role_Dumpable.t ...... ok
t/Venus_Role_Explainable.t ... ok
t/Venus_Role_Makeable.t ...... ok
t/Venus_Role_Mappable.t ...... ok
t/Venus_Role_Matchable.t ..... ok
t/Venus_Role_Mockable.t ...... ok
t/Venus_Role_Optional.t ...... ok
t/Venus_Role_Patchable.t ..... ok
t/Venus_Role_Pluggable.t ..... ok
t/Venus_Role_Printable.t ..... ok
t/Venus_Role_Proxyable.t ..... ok
t/Venus_Role_Reflectable.t ... ok
t/Venus_Role_Rejectable.t .... ok
t/Venus_Role_Serializable.t .. ok
t/Venus_Role_Stashable.t ..... ok
t/Venus_Role_Subscribable.t .. ok
t/Venus_Role_Superable.t ..... ok
t/Venus_Role_Testable.t ...... ok
t/Venus_Role_Throwable.t ..... ok
t/Venus_Role_Tryable.t ....... ok
t/Venus_Role_Unacceptable.t .. ok
t/Venus_Role_Unpackable.t .... ok
t/Venus_Role_Valuable.t ...... ok
t/Venus_Run.t ................ ok
t/Venus_Scalar.t ............. ok
t/Venus_Schema.t ............. ok
t/Venus_Sealed.t ............. ok
t/Venus_Search.t ............. ok
t/Venus_Set.t ................ ok
t/Venus_Space.t .............. ok
t/Venus_String.t ............. ok
t/Venus_Task.t ............... ok
t/Venus_Template.t ........... ok
t/Venus_Test.t ............... ok
t/Venus_Throw.t .............. ok
t/Venus_True.t ............... ok
t/Venus_Try.t ................ ok
t/Venus_Type.t ............... ok
t/Venus_Undef.t .............. ok
t/Venus_Unpack.t ............. ok
t/Venus_Vars.t ............... ok
t/Venus_Yaml.t ............... ok
All tests successful.
Files=102, Tests=4843, 73 wallclock secs ( 3.03 usr 1.98 sys + 69.61 cusr 3.18 csys = 77.80 CPU)
Result: PASS
------------------------------
PREREQUISITES
------------------------------
Prerequisite modules loaded:
requires:
Module Need Have
------------------- ----- --------
perl 5.018 5.034003
build_requires:
Module Need Have
------------------- ----- --------
ExtUtils::MakeMaker 0 7.70
perl 5.018 5.034003
configure_requires:
Module Need Have
------------------- ----- --------
ExtUtils::MakeMaker 0 7.70
------------------------------
ENVIRONMENT AND OTHER CONTEXT
------------------------------
Environment variables:
AUTOMATED_TESTING = 1
LANG = en_US.UTF-8
PATH = /home/sand/bin:/usr/local/bin:/usr/local/sbin:/usr/sbin:/usr/bin:/sbin:/bin:/usr/games:/usr/local/games:/snap/bin:/usr/local/perl/bin:/usr/X11/bin
PERL = /tmp/basesmoker-reloperl-rGUl/bin/perl
PERL5LIB = /tmp/loop_over_bdir-2070-HtePjb/HTML-Menu-TreeView-1.22-0/blib/arch:/tmp/loop_over_bdir-2070-HtePjb/HTML-Menu-TreeView-1.22-0/blib/lib
PERL5OPT =
PERL5_CPANPLUS_IS_RUNNING = 2078
PERL5_CPAN_IS_RUNNING = 2078
PERL_CANARY_STABILITY_NOPROMPT = 1
PERL_MM_USE_DEFAULT = 1
PERL_USE_UNSAFE_INC = 1
SHELL = /usr/bin/zsh
TERM = screen
Perl special variables (and OS-specific diagnostics, for MSWin32):
$^X = /tmp/basesmoker-reloperl-rGUl/bin/perl
$UID/$EUID = 1005 / 1005
$GID = 1005 1005
$EGID = 1005 1005
Perl module toolchain versions installed:
Module Have
------------------- --------
CPAN 2.36
CPAN::Meta 2.150010
Cwd 3.80
ExtUtils::CBuilder 0.280236
ExtUtils::Command 7.70
ExtUtils::Install 2.20
ExtUtils::MakeMaker 7.70
ExtUtils::Manifest 1.73
ExtUtils::ParseXS 3.43
File::Spec 3.80
JSON 4.10
JSON::PP 4.16
Module::Build 0.4234
Module::Signature 0.88
Parse::CPAN::Meta 2.150010
Test2 1.302198
Test::Harness 3.48
Test::More 1.302198
YAML 1.30
YAML::Syck 1.34
version 0.9930
--
Summary of my perl5 (revision 5 version 34 subversion 3) configuration:
Commit id: 81db88e83a981f603c5207a1fc4cc41da8dd5d79
Platform:
osname=linux
osvers=5.4.0-167-generic
archname=x86_64-linux-ld
uname='linux k93focal 5.4.0-167-generic #184-ubuntu smp tue oct 31 09:21:49 utc 2023 x86_64 x86_64 x86_64 gnulinux '
config_args='-Dprefix=/home/sand/src/perl/repoperls/installed-perls/host/k93focal/v5.34.3/d3e4 -Dmyhostname=k93focal -Dinstallusrbinperl=n -Uversiononly -Dusedevel -des -Ui_db -Dlibswanted=cl pthread socket inet nsl gdbm dbm malloc dl ld sun m crypt sec util c cposix posix ucb BSD gdbm_compat -Uuseithreads -Duselongdouble -DEBUGGING=both'
hint=recommended
useposix=true
d_sigaction=define
useithreads=undef
usemultiplicity=undef
use64bitint=define
use64bitall=define
uselongdouble=define
usemymalloc=n
default_inc_excludes_dot=define
Compiler:
cc='cc'
ccflags ='-fwrapv -DDEBUGGING -fno-strict-aliasing -pipe -fstack-protector-strong -I/usr/local/include -D_LARGEFILE_SOURCE -D_FILE_OFFSET_BITS=64'
optimize='-O2 -g'
cppflags='-fwrapv -DDEBUGGING -fno-strict-aliasing -pipe -fstack-protector-strong -I/usr/local/include'
ccversion=''
gccversion='9.4.0'
gccosandvers=''
intsize=4
longsize=8
ptrsize=8
doublesize=8
byteorder=12345678
doublekind=3
d_longlong=define
longlongsize=8
d_longdbl=define
longdblsize=16
longdblkind=3
ivtype='long'
ivsize=8
nvtype='long double'
nvsize=16
Off_t='off_t'
lseeksize=8
alignbytes=16
prototype=define
Linker and Libraries:
ld='cc'
ldflags =' -fstack-protector-strong -L/usr/local/lib'
libpth=/usr/local/lib /usr/lib/x86_64-linux-gnu /usr/lib /usr/lib64
libs=-lpthread -lnsl -ldl -lm -lcrypt -lutil -lc
perllibs=-lpthread -lnsl -ldl -lm -lcrypt -lutil -lc
libc=libc-2.31.so
so=so
useshrplib=false
libperl=libperl.a
gnulibc_version='2.31'
Dynamic Linking:
dlsrc=dl_dlopen.xs
dlext=so
d_dlsymun=undef
ccdlflags='-Wl,-E'
cccdlflags='-fPIC'
lddlflags='-shared -O2 -g -L/usr/local/lib -fstack-protector-strong'
Characteristics of this binary (from libperl):
Compile-time options:
DEBUGGING
HAS_TIMES
PERLIO_LAYERS
PERL_COPY_ON_WRITE
PERL_DONT_CREATE_GVSV
PERL_MALLOC_WRAP
PERL_OP_PARENT
PERL_PRESERVE_IVUV
PERL_USE_DEVEL
USE_64_BIT_ALL
USE_64_BIT_INT
USE_LARGE_FILES
USE_LOCALE
USE_LOCALE_COLLATE
USE_LOCALE_CTYPE
USE_LOCALE_NUMERIC
USE_LOCALE_TIME
USE_LONG_DOUBLE
USE_PERLIO
USE_PERL_ATOF
Built under linux
Compiled at Dec 7 2023 08:39:36
%ENV:
PERL="/tmp/basesmoker-reloperl-rGUl/bin/perl"
PERL5LIB="/tmp/loop_over_bdir-2070-HtePjb/HTML-Menu-TreeView-1.22-0/blib/arch:/tmp/loop_over_bdir-2070-HtePjb/HTML-Menu-TreeView-1.22-0/blib/lib"
PERL5OPT=""
PERL5_CPANPLUS_IS_RUNNING="2078"
PERL5_CPAN_IS_RUNNING="2078"
PERL_CANARY_STABILITY_NOPROMPT="1"
PERL_MM_USE_DEFAULT="1"
PERL_USE_UNSAFE_INC="1"
@INC:
/tmp/loop_over_bdir-2070-HtePjb/HTML-Menu-TreeView-1.22-0/blib/arch
/tmp/loop_over_bdir-2070-HtePjb/HTML-Menu-TreeView-1.22-0/blib/lib
/home/sand/src/perl/repoperls/installed-perls/host/k93focal/v5.34.3/d3e4/lib/site_perl/5.34.3/x86_64-linux-ld
/home/sand/src/perl/repoperls/installed-perls/host/k93focal/v5.34.3/d3e4/lib/site_perl/5.34.3
/home/sand/src/perl/repoperls/installed-perls/host/k93focal/v5.34.3/d3e4/lib/5.34.3/x86_64-linux-ld
/home/sand/src/perl/repoperls/installed-perls/host/k93focal/v5.34.3/d3e4/lib/5.34.3
.