CTKlib v2.06 Perl 5 v5.20.1 MSWin32-x86-multi-thread-64int

Status
Pass
From
Alexandr Ciornii (CHORNY)
Dist
CTKlib v2.06
Platform
Perl 5 v5.20.1 MSWin32-x86-multi-thread-64int
Date
2020-09-06 16:50:32
ID
c76b7b14-6bf6-1014-a65c-c651035e0edc
This distribution has been tested as part of the CPAN Testers
project, supporting the Perl programming language.  See
http://wiki.cpantesters.org/ for more information or email
questions to cpan-testers-discuss@perl.org


--
Dear Sergey Lepenkov,

This is a computer-generated report for CTKlib-2.06
on perl 5.20.1, created by CPAN-Reporter-1.2014.

Thank you for uploading your work to CPAN.  Congratulations!
All tests were successful.

Sections of this report:

    * Tester comments
    * Program output
    * Prerequisites
    * Environment and other context

------------------------------
TESTER COMMENTS
------------------------------

Additional comments from tester:

this report is from an automated smoke testing program
and was not reviewed by a human for accuracy

------------------------------
PROGRAM OUTPUT
------------------------------

Output from 'C:\STRAWB~1\c\bin\dmake.exe test':

"C:\Strawberry201\perl\bin\perl.exe" "-MExtUtils::Command::MM" "-MTest::Harness" "-e" "undef *Test::Harness::Switches; test_harness(0, 'blib\lib', 'blib\arch')" t/*.t
t/00-distribution.t .... skipped: Currently a developer-only test
t/00-fixme.t ........... ok
t/00-pod-coverage.t .... skipped: Currently a developer-only test
t/00-pod.t ............. skipped: Currently a developer-only test
t/00-trailingspace.t ... skipped: Test::TrailingSpace required for trailing space test
t/01-use.t ............. ok
t/02-default.t ......... ok
t/03-xsutil.t .......... ok
t/04-ctkx.t ............ ok
t/05-helper.t .......... ok
t/06-format.t .......... ok
t/07-cgu_void.t ........ ok
t/08-tfvals.t .......... ok
t/09-configuration.t ... ok
t/10-log.t ............. ok
t/11-plugins.t ......... ok
t/12-app.t ............. ok
t/13-void.t ............ ok
t/14-plugin-file.t ..... skipped: Currently a developer-only test
t/15-flags.t ........... ok
t/16-plugin-archive.t .. skipped: Currently a developer-only test
t/17-crypt-tcd04.t ..... ok
t/18-crypt.t ........... skipped: Currently a developer-only test
t/19-crypt-gpg.t ....... skipped: Currently a developer-only test
t/20-plugin-net.t ...... skipped: Currently a developer-only test
t/21-sendmail.t ........ skipped: Currently a developer-only test
t/22-dbi.t ............. skipped: Currently a developer-only test
t/23-attrs.t ........... ok
t/24-digest.t .......... ok
t/25-plugins-ext.t ..... skipped: Currently a developer-only test
All tests successful.
Files=30, Tests=183, 19 wallclock secs ( 0.21 usr +  0.05 sys =  0.26 CPU)
Result: PASS

------------------------------
PREREQUISITES
------------------------------

Prerequisite modules loaded:

requires:

    Module                 Need     Have    
    ---------------------- -------- --------
    Class::C3::Adopt::NEXT 0.13     0.13    
    Class::Singleton       1.4      1.4     
    Config::General        2        2.56    
    DBI                    1.63     1.631   
    ExtUtils::MakeMaker    6.6      7.04    
    File::Copy             2        2.30    
    File::Copy::Recursive  0.38     0.38    
    File::Find             0        1.27    
    File::Path             2        2.09    
    File::Pid              1        1.01    
    File::Spec             0.82     3.48    
    File::Temp             0        0.2304  
    IO                     0        1.31    
    IO::String             1.08     1.08    
    IPC::Open3             1        1.16    
    JSON                   2.9      2.90    
    List::Util             1.45     1.55    
    MIME::Base64           3        3.14    
    MIME::Lite             3        3.030   
    MRO::Compat            0.12     0.12    
    Net::FTP               2.6      2.79    
    perl                   5.016001 5.020001
    Perl::OSType           1        1.007   
    Symbol                 1.05     1.07    
    Sys::Syslog            0        0.33    
    Term::ANSIColor        4.03     4.03    
    Text::SimpleTable      2        2.03    
    Time::HiRes            1.97     1.9726  
    Time::Local            1.2      1.2300  
    Try::Tiny              0.27     0.30    
    URI                    1.6      1.67    
    XML::Simple            2.22     2.25    
    XSLoader               0.01     0.17    
    YAML                   0.73     1.15    
    YAML::XS               0.4      0.52    

build_requires:

    Module                 Need     Have    
    ---------------------- -------- --------
    Test::Simple           1        1.001006

configure_requires:

    Module                 Need     Have    
    ---------------------- -------- --------
    ExtUtils::MakeMaker    0        7.04    


------------------------------
ENVIRONMENT AND OTHER CONTEXT
------------------------------

Environment variables:

    AUTOMATED_TESTING = 1
    COMSPEC = C:\WINDOWS\system32\cmd.exe
    NUMBER_OF_PROCESSORS = 1
    PATH = C:\WINDOWS\system32;C:\WINDOWS;C:\WINDOWS\System32\Wbem;C:\Strawberry201\c\bin;C:\Strawberry201\perl\site\bin;C:\Strawberry201\perl\bin;C:\Git\cmd
    PERL5LIB = C:\STRAWB~1\cpan\build\File-Pid-1.01-oV4g63/blib/arch;C:\STRAWB~1\cpan\build\File-Pid-1.01-oV4g63/blib/lib;C:\STRAWB~1\cpan\build\Scalar-List-Utils-1.55-BIUKt6/blib/arch;C:\STRAWB~1\cpan\build\Scalar-List-Utils-1.55-BIUKt6/blib/lib;C:\STRAWB~1\cpan\build\XML-Simple-2.25-_Zd64g/blib/arch;C:\STRAWB~1\cpan\build\XML-Simple-2.25-_Zd64g/blib/lib;C:\STRAWB~1\cpan\build\Try-Tiny-0.30-KGzGlN/blib/arch;C:\STRAWB~1\cpan\build\Try-Tiny-0.30-KGzGlN/blib/lib
    PERL5OPT = 
    PERL5_CPANPLUS_IS_RUNNING = 1064
    PERL5_CPAN_IS_RUNNING = 1064
    PERL5_CPAN_IS_RUNNING_IN_RECURSION = 1644,1064
    PERL_CR_SMOKER_CURRENT = CTKlib-2.06
    PERL_CR_SMOKER_RUNONCE = 1
    PERL_EXTUTILS_AUTOINSTALL = --defaultdeps
    PERL_MM_USE_DEFAULT = 1
    PROCESSOR_IDENTIFIER = x86 Family 16 Model 5 Stepping 3, AuthenticAMD
    TEMP = C:\DOCUME~1\c\LOCALS~1\Temp

Perl special variables (and OS-specific diagnostics, for MSWin32):

    $^X = C:\Strawberry201\perl\bin\perl.exe
    $UID/$EUID = 0 / 0
    $GID = 0
    $EGID = 0
    Win32::GetOSName = WinXP/.Net
    Win32::GetOSVersion = Service Pack 3, 5, 1, 2600, 2, 3, 0, 256, 1
    Win32::FsType = NTFS
    Win32::IsAdminUser = 1

Perl module toolchain versions installed:

    Module              Have    
    ------------------- --------
    CPAN                2.05    
    CPAN::Meta          2.142060
    Cwd                 3.48    
    ExtUtils::CBuilder  0.280219
    ExtUtils::Command   1.18    
    ExtUtils::Install   1.68    
    ExtUtils::MakeMaker 7.04    
    ExtUtils::Manifest  1.66    
    ExtUtils::ParseXS   3.24    
    File::Spec          3.48    
    JSON                2.90    
    JSON::PP            2.27203 
    Module::Build       0.4211  
    Module::Signature   0.78    
    Parse::CPAN::Meta   1.4414  
    Test::Harness       3.33    
    Test::More          1.001006
    YAML                1.15    
    YAML::Syck          1.29    
    version             0.9909  


--

Summary of my perl5 (revision 5 version 20 subversion 1) configuration:
   
  Platform:
    osname=MSWin32, osvers=6.3, archname=MSWin32-x86-multi-thread-64int
    uname='Win32 strawberry-perl 5.20.1.1 #1 Mon Sep 15 18:25:23 2014 i386'
    config_args='undef'
    hint=recommended, useposix=true, d_sigaction=undef
    useithreads=define, usemultiplicity=define
    use64bitint=define, use64bitall=undef, uselongdouble=undef
    usemymalloc=n, bincompat5005=undef
  Compiler:
    cc='gcc', ccflags =' -s -O2 -DWIN32  -DPERL_TEXTMODE_SCRIPTS -DPERL_IMPLICIT_CONTEXT -DPERL_IMPLICIT_SYS -DUSE_PERLIO -fwrapv -fno-strict-aliasing -mms-bitfields',
    optimize='-s -O2',
    cppflags='-DWIN32'
    ccversion='', gccversion='4.8.3', gccosandvers=''
    intsize=4, longsize=4, ptrsize=4, doublesize=8, byteorder=12345678
    d_longlong=define, longlongsize=8, d_longdbl=define, longdblsize=12
    ivtype='long long', ivsize=8, nvtype='double', nvsize=8, Off_t='long long', lseeksize=8
    alignbytes=8, prototype=define
  Linker and Libraries:
    ld='g++', ldflags ='-s -L"C:\STRAWB~1\perl\lib\CORE" -L"C:\STRAWB~1\c\lib"'
    libpth=C:\STRAWB~1\c\lib C:\STRAWB~1\c\i686-w64-mingw32\lib C:\STRAWB~1\c\lib\gcc\i686-w64-mingw32\4.8.3
    libs=-lmoldname -lkernel32 -luser32 -lgdi32 -lwinspool -lcomdlg32 -ladvapi32 -lshell32 -lole32 -loleaut32 -lnetapi32 -luuid -lws2_32 -lmpr -lwinmm -lversion -lodbc32 -lodbccp32 -lcomctl32
    perllibs=-lmoldname -lkernel32 -luser32 -lgdi32 -lwinspool -lcomdlg32 -ladvapi32 -lshell32 -lole32 -loleaut32 -lnetapi32 -luuid -lws2_32 -lmpr -lwinmm -lversion -lodbc32 -lodbccp32 -lcomctl32
    libc=, so=dll, useshrplib=true, libperl=libperl520.a
    gnulibc_version=''
  Dynamic Linking:
    dlsrc=dl_win32.xs, dlext=xs.dll, d_dlsymun=undef, ccdlflags=' '
    cccdlflags=' ', lddlflags='-mdll -s -L"C:\STRAWB~1\perl\lib\CORE" -L"C:\STRAWB~1\c\lib"'


Characteristics of this binary (from libperl): 
  Compile-time options: HAS_TIMES HAVE_INTERP_INTERN MULTIPLICITY
                        PERLIO_LAYERS PERL_DONT_CREATE_GVSV
                        PERL_HASH_FUNC_ONE_AT_A_TIME_HARD
                        PERL_IMPLICIT_CONTEXT PERL_IMPLICIT_SYS
                        PERL_MALLOC_WRAP PERL_NEW_COPY_ON_WRITE
                        PERL_PRESERVE_IVUV USE_64_BIT_INT USE_ITHREADS
                        USE_LARGE_FILES USE_LOCALE USE_LOCALE_COLLATE
                        USE_LOCALE_CTYPE USE_LOCALE_NUMERIC USE_PERLIO
                        USE_PERL_ATOF
  Built under MSWin32
  Compiled at Sep 15 2014 18:29:20
  %ENV:
    PERL5LIB="C:\STRAWB~1\cpan\build\File-Pid-1.01-oV4g63/blib/arch;C:\STRAWB~1\cpan\build\File-Pid-1.01-oV4g63/blib/lib;C:\STRAWB~1\cpan\build\Scalar-List-Utils-1.55-BIUKt6/blib/arch;C:\STRAWB~1\cpan\build\Scalar-List-Utils-1.55-BIUKt6/blib/lib;C:\STRAWB~1\cpan\build\XML-Simple-2.25-_Zd64g/blib/arch;C:\STRAWB~1\cpan\build\XML-Simple-2.25-_Zd64g/blib/lib;C:\STRAWB~1\cpan\build\Try-Tiny-0.30-KGzGlN/blib/arch;C:\STRAWB~1\cpan\build\Try-Tiny-0.30-KGzGlN/blib/lib"
    PERL5_CPANPLUS_IS_RUNNING="1064"
    PERL5_CPAN_IS_RUNNING="1064"
    PERL5_CPAN_IS_RUNNING_IN_RECURSION="1644,1064"
    PERL_CR_SMOKER_CURRENT="CTKlib-2.06"
    PERL_CR_SMOKER_RUNONCE="1"
    PERL_EXTUTILS_AUTOINSTALL="--defaultdeps"
    PERL_MM_USE_DEFAULT="1"
  @INC:
    C:\STRAWB~1\cpan\build\File-Pid-1.01-oV4g63/blib/arch
    C:\STRAWB~1\cpan\build\File-Pid-1.01-oV4g63/blib/lib
    C:\STRAWB~1\cpan\build\Scalar-List-Utils-1.55-BIUKt6/blib/arch
    C:\STRAWB~1\cpan\build\Scalar-List-Utils-1.55-BIUKt6/blib/lib
    C:\STRAWB~1\cpan\build\XML-Simple-2.25-_Zd64g/blib/arch
    C:\STRAWB~1\cpan\build\XML-Simple-2.25-_Zd64g/blib/lib
    C:\STRAWB~1\cpan\build\Try-Tiny-0.30-KGzGlN/blib/arch
    C:\STRAWB~1\cpan\build\Try-Tiny-0.30-KGzGlN/blib/lib
    C:/Strawberry201/perl/site/lib
    C:/Strawberry201/perl/vendor/lib
    C:/Strawberry201/perl/lib
    .