Test-mysqld v1.0030 Perl 5 v5.38.2 MSWin32-x64-multi-thread
- Status
- Pass
- From
- LNATION
- Dist
-
Test-mysqld v1.0030
- Platform
- Perl 5 v5.38.2 MSWin32-x64-multi-thread
- Date
- 2025-05-20 07:38:38
- ID
- c78b2bb0-6fb1-1014-b3d7-c43884602b2a
This distribution has been tested as part of the CPAN Testers
project, supporting the Perl programming language. See
http://wiki.cpantesters.org/ for more information or email
questions to cpan-testers-discuss@perl.org
--
Dear Masayuki Matsuki,
This is a computer-generated report for Test-mysqld-1.0030
on perl 5.38.2, created by CPAN-Reporter-1.2020.
Thank you for uploading your work to CPAN. Congratulations!
All tests were successful.
Sections of this report:
* Tester comments
* Program output
* Prerequisites
* Environment and other context
------------------------------
TESTER COMMENTS
------------------------------
Additional comments from tester:
this report is from an automated smoke testing program
and was not reviewed by a human for accuracy
------------------------------
PROGRAM OUTPUT
------------------------------
Output from 'C:\Strawberry\perl\bin\perl.exe ./Build test':
t/00-base.t ............ ok
The system cannot find the path specified.
The system cannot find the path specified.
t/01-raii.t ............ skipped: could not find mysqld, please set appropriate PATH
The system cannot find the path specified.
The system cannot find the path specified.
t/02-multi.t ........... skipped: could not find mysqld, please set appropriate PATH
The system cannot find the path specified.
The system cannot find the path specified.
t/03-not-found.t ....... ok
The system cannot find the path specified.
The system cannot find the path specified.
t/04-multiprocess.t .... skipped: could not find mysqld, please set appropriate PATH
The system cannot find the path specified.
The system cannot find the path specified.
t/05-copy-data-from.t .. skipped: could not find mysqld, please set appropriate PATH
The system cannot find the path specified.
The system cannot find the path specified.
t/06-start-mysqlds.t ... skipped: could not find mysqld, please set appropriate PATH
All tests successful.
Files=7, Tests=4, 2 wallclock secs ( 0.08 usr + 0.00 sys = 0.08 CPU)
Result: PASS
------------------------------
PREREQUISITES
------------------------------
Prerequisite modules loaded:
requires:
Module Need Have
--------------------- -------- --------
Class::Accessor::Lite 0 0.08
DBI 0 1.643
File::Copy::Recursive 0 0.45
File::Temp 0 0.2311
perl 5.008001 5.038002
build_requires:
Module Need Have
--------------------- -------- --------
Test::More 0 1.302212
Test::SharedFork 0 0.35
configure_requires:
Module Need Have
--------------------- -------- --------
Module::Build::Tiny 0.035 0.047
opt_requires:
Module Need Have
--------------------- -------- --------
DBD::MariaDB 0 1.24
! DBD::mysql 0 n/a
------------------------------
ENVIRONMENT AND OTHER CONTEXT
------------------------------
Environment variables:
AUTOMATED_TESTING = 1
COMSPEC = C:\Windows\system32\cmd.exe
NUMBER_OF_PROCESSORS = 2
PATH = C:\Windows\system32;C:\Windows;C:\Windows\System32\Wbem;C:\Windows\System32\WindowsPowerShell\v1.0\;C:\Windows\System32\OpenSSH\;C:\Program Files\Amazon\cfn-bootstrap\;C:\Strawberry\c\bin;C:\Strawberry\perl\site\bin;C:\Strawberry\perl\bin;C:\Users\Administrator\AppData\Local\Microsoft\WindowsApps;C:\Users\Administrator\AppData\Local\Microsoft\WinGet\Links;
PERL5LIB =
PERL5OPT =
PERL5_CPANPLUS_IS_RUNNING = 2952
PERL5_CPAN_IS_RUNNING = 2952
PERL5_CPAN_IS_RUNNING_IN_RECURSION = 3324,2952
PERL_CR_SMOKER_CURRENT = Test-DB-Shared-0.004
PERL_EXTUTILS_AUTOINSTALL = --defaultdeps
PERL_MM_USE_DEFAULT = 1
PERL_USE_UNSAFE_INC = 1
PROCESSOR_IDENTIFIER = Intel64 Family 6 Model 85 Stepping 7, GenuineIntel
TEMP = C:\Users\ADMINI~1\AppData\Local\Temp\2
Perl special variables (and OS-specific diagnostics, for MSWin32):
$^X = C:\Strawberry\perl\bin\perl.exe
$UID/$EUID = 0 / 0
$GID = 0
$EGID = 0
Win32::GetOSName = WinServer
Win32::GetOSVersion = , 10, 0, 26100, 2, 0, 0, 400, 3
Win32::FsType = NTFS
Win32::IsAdminUser = 1
Perl module toolchain versions installed:
Module Have
------------------- --------
CPAN 2.36
CPAN::Meta 2.150010
Cwd 3.89
ExtUtils::CBuilder 0.280238
ExtUtils::Command 7.74
ExtUtils::Install 2.22
ExtUtils::MakeMaker 7.74
ExtUtils::Manifest 1.75
ExtUtils::ParseXS 3.57
File::Spec 3.88
JSON 4.10
JSON::PP 4.16
Module::Build 0.4234
Module::Signature n/a
Parse::CPAN::Meta 2.150010
Test2 1.302212
Test::Harness 3.52
Test::More 1.302212
YAML 1.31
YAML::Syck 1.34
version 0.9930
--
Summary of my perl5 (revision 5 version 38 subversion 2) configuration:
Platform:
osname=MSWin32
osvers=10.0.19045.3693
archname=MSWin32-x64-multi-thread
uname='Win32 strawberry-perl 5.38.2.2 # 06:03:00 Mon December 11 2023 x64'
config_args='undef'
hint=recommended
useposix=true
d_sigaction=undef
useithreads=define
usemultiplicity=define
use64bitint=define
use64bitall=undef
uselongdouble=undef
usemymalloc=n
default_inc_excludes_dot=define
Compiler:
cc='gcc'
ccflags =' -DWIN32 -DWIN64 -DPERL_TEXTMODE_SCRIPTS -DMULTIPLICITY -DPERL_IMPLICIT_SYS -DUSE_PERLIO -D__USE_MINGW_ANSI_STDIO -fwrapv -fno-strict-aliasing -mms-bitfields'
optimize='-Os -falign-functions -falign-jumps -falign-labels -falign-loops -freorder-blocks -freorder-blocks-algorithm=stc -freorder-blocks-and-partition'
cppflags='-DWIN32'
ccversion=''
gccversion='13.1.0'
gccosandvers=''
intsize=4
longsize=4
ptrsize=8
doublesize=8
byteorder=12345678
doublekind=3
d_longlong=define
longlongsize=8
d_longdbl=define
longdblsize=16
longdblkind=3
ivtype='long long'
ivsize=8
nvtype='double'
nvsize=8
Off_t='long long'
lseeksize=8
alignbytes=8
prototype=define
Linker and Libraries:
ld='g++'
ldflags ='-s -L"C:\STRAWB~1\perl\lib\CORE" -L"C:\STRAWB~1\c\lib" -L"C:\STRAWB~1\c\x86_64-w64-mingw32\lib" -L"C:\STRAWB~1\c\lib\gcc\x86_64-w64-mingw32\13.1.0"'
libpth=C:\STRAWB~1\c\lib C:\STRAWB~1\c\x86_64-w64-mingw32\lib C:\STRAWB~1\c\lib\gcc\x86_64-w64-mingw32\13.1.0 C:\STRAWB~1\c\x86_64-w64-mingw32\lib C:\STRAWB~1\c\lib\gcc\x86_64-w64-mingw32\13.1.0
libs= -lmoldname -lkernel32 -luser32 -lgdi32 -lwinspool -lcomdlg32 -ladvapi32 -lshell32 -lole32 -loleaut32 -lnetapi32 -luuid -lws2_32 -lmpr -lwinmm -lversion -lodbc32 -lodbccp32 -lcomctl32
perllibs= -lmoldname -lkernel32 -luser32 -lgdi32 -lwinspool -lcomdlg32 -ladvapi32 -lshell32 -lole32 -loleaut32 -lnetapi32 -luuid -lws2_32 -lmpr -lwinmm -lversion -lodbc32 -lodbccp32 -lcomctl32
libc=
so=dll
useshrplib=true
libperl=libperl538.a
gnulibc_version=''
Dynamic Linking:
dlsrc=dl_win32.xs
dlext=xs.dll
d_dlsymun=undef
ccdlflags=' '
cccdlflags=' '
lddlflags='-shared -s -L"C:\STRAWB~1\perl\lib\CORE" -L"C:\STRAWB~1\c\lib" -L"C:\STRAWB~1\c\x86_64-w64-mingw32\lib" -L"C:\STRAWB~1\c\lib\gcc\x86_64-w64-mingw32\13.1.0"'
Characteristics of this binary (from libperl):
Compile-time options:
HAS_LONG_DOUBLE
HAS_TIMES
HAVE_INTERP_INTERN
MULTIPLICITY
PERLIO_LAYERS
PERL_COPY_ON_WRITE
PERL_DONT_CREATE_GVSV
PERL_HASH_FUNC_SIPHASH13
PERL_HASH_USE_SBOX32
PERL_IMPLICIT_SYS
PERL_MALLOC_WRAP
PERL_OP_PARENT
PERL_PRESERVE_IVUV
PERL_USE_SAFE_PUTENV
USE_64_BIT_INT
USE_ITHREADS
USE_LARGE_FILES
USE_LOCALE
USE_LOCALE_COLLATE
USE_LOCALE_CTYPE
USE_LOCALE_NUMERIC
USE_LOCALE_TIME
USE_PERLIO
USE_PERL_ATOF
Built under MSWin32
Compiled at Dec 11 2023 17:03:26
%ENV:
PERL5_CPANPLUS_IS_RUNNING="2952"
PERL5_CPAN_IS_RUNNING="2952"
PERL5_CPAN_IS_RUNNING_IN_RECURSION="3324,2952"
PERL_CR_SMOKER_CURRENT="Test-DB-Shared-0.004"
PERL_EXTUTILS_AUTOINSTALL="--defaultdeps"
PERL_MM_USE_DEFAULT="1"
PERL_USE_UNSAFE_INC="1"
@INC:
C:/Strawberry/perl/site/lib
C:/Strawberry/perl/vendor/lib
C:/Strawberry/perl/lib
.