Devel-Chitin v0.22 Perl 5 v5.8.9 x86_64-linux

Status
Pass
From
David Cantrell (DCANTRELL)
Dist
Devel-Chitin v0.22
Platform
Perl 5 v5.8.9 x86_64-linux
Date
2022-12-02 23:33:52
ID
c78c100a-7299-11ed-a43d-7dba3c788dd4
This distribution has been tested as part of the CPAN Testers
project, supporting the Perl programming language.  See
http://wiki.cpantesters.org/ for more information or email
questions to cpan-testers-discuss@perl.org


--
Dear Anthony Brummett,

This is a computer-generated report for Devel-Chitin-0.22
on perl 5.8.9, created by CPAN-Reporter-1.2018.

Thank you for uploading your work to CPAN.  Congratulations!
All tests were successful.

Sections of this report:

    * Tester comments
    * Program output
    * Prerequisites
    * Environment and other context

------------------------------
TESTER COMMENTS
------------------------------

Additional comments from tester:

this report is from an automated smoke testing program
and was not reviewed by a human for accuracy

------------------------------
PROGRAM OUTPUT
------------------------------

Output from '/usr/bin/make test':

PERL_DL_NONLAZY=1 "/home/david/cpantesting/perl-5.8.9/bin/perl" "-MExtUtils::Command::MM" "-MTest::Harness" "-e" "undef *Test::Harness::Switches; test_harness(0, 'blib/lib', 'blib/arch')" t/*.t
t/00-use.t ......................... ok
t/01-attach-detach.t ............... ok
t/02-step-lvalue.t ................. ok
t/02-step.t ........................ ok
t/02-stepout-catch-return.t ........ ok
t/02-stepout-lvalue.t .............. ok
t/02-stepout.t ..................... ok
t/02-stepover-exception.t .......... ok
t/02-stepover-goto-label.t ......... ok
t/02-stepover-goto-sub.t ........... ok
t/02-stepover-lvalue-exception.t ... ok
t/02-stepover-lvalue-goto-label.t .. ok
t/02-stepover-lvalue.t ............. ok
t/02-stepover.t .................... ok
t/03-continue-end.t ................ ok
t/03-continue-to.t ................. ok
t/04-breakpoint-once.t ............. ok
t/04-breakpoint.t .................. ok
t/04-change-breakpoint-code.t ...... ok
t/04-conditional-breakpoint.t ...... ok
t/04-delete-breakpoint.t ........... ok
t/05-location-callsite.t ........... ok
t/05-location.t .................... ok
t/06-action.t ...................... ok
t/07-stack.t ....................... ok
t/08-trace.t ....................... ok
t/09-disable-debugger.t ............ ok
t/10-loaded_files.t ................ ok
t/11-postponed.t ................... ok
t/12-eval.t ........................ ok
t/13-fork.t ........................ ok
untrapped at t/14-step-in-uncaught-exception.t line 9.
t/14-step-in-uncaught-exception.t .. ok
untrapped at t/14-uncaught-exception.t line 11.
t/14-uncaught-exception.t .......... ok
t/15-subroutine-location.t ......... ok
t/16-user-requested-exit.t ......... ok
t/17-db-event-loop.t ............... ok
t/18-getvar-at-level.t ............. ok
t/19-watch-expr.t .................. ok
t/20-optree-construction.t ......... ok
Statement unlikely to be reached at (eval 276) line 4.
	(Maybe you meant system() when you said exec()?)
Use of "do" to call subroutines is deprecated at (eval 336) line 4.
t/20-optree-deparse.t .............. ok
t/21-deparse-trace-anon-sub.t ...... ok
t/21-deparse-trace-fib.t ........... ok
t/21-deparse-trace-statements.t .... ok
t/22-sub-name-bug.t ................ ok
All tests successful.
Files=44, Tests=344, 75 wallclock secs ( 0.50 usr  0.25 sys + 13.41 cusr  2.11 csys = 16.27 CPU)
Result: PASS

------------------------------
PREREQUISITES
------------------------------

Prerequisite modules loaded:

requires:

    Module                Need     Have    
    --------------------- -------- --------
    B                     0        1.19    
    base                  0        2.13    
    Carp                  0        1.10    
    constant              0        1.17    
    Devel::Callsite       0        1.0.1   
    Digest::MD5           0        2.37    
    Exporter              0        5.63    
    Fcntl                 0        1.06    
    IO::File              0        1.14    
    PadWalker             0        2.5     
    perl                  5.008009 5.008009
    POSIX                 0        1.15    
    Scalar::Util          0        1.63    
    Socket                0        1.81    
    strict                0        1.03    
    warnings              0        1.05_01 

build_requires:

    Module                Need     Have    
    --------------------- -------- --------
    ExtUtils::MakeMaker   0        7.64    
    File::Basename        0        2.77    
    lib                   0        0.61    
    List::Util            1.45     1.63    
    Sub::Name             0        0.26    
    Test2::API            1.302136 1.302188
    Test2::IPC            0        1.302188
    Test2::Require::Fork  0        0.000145
    Test2::Tools::Basic   0        0.000145
    Test2::Tools::Subtest 0        0.000145
    Test2::V0             0        0.000145
    Test::Builder         0        1.302188
    Test::More            0        1.302188

configure_requires:

    Module                Need     Have    
    --------------------- -------- --------
    ExtUtils::MakeMaker   0        7.64    


------------------------------
ENVIRONMENT AND OTHER CONTEXT
------------------------------

Environment variables:

    AUTOMATED_TESTING = 1
    LANG = en_GB.UTF-8
    LANGUAGE = en_GB:en
    LC_TERMINAL = iTerm2
    LC_TERMINAL_VERSION = 3.4.18
    NONINTERACTIVE_TESTING = 1
    PATH = /home/david/.cargo/bin:/home/david/perl5/perlbrew/bin:/home/david/perl5/perlbrew/perls/perl-5.30.2/bin:/home/david/bin:/usr/local/bin:/usr/bin:/bin:/usr/local/games:/usr/games
    PERL = 5.8.9
    PERL5LIB = 
    PERL5OPT = 
    PERL5_CPANPLUS_IS_RUNNING = 3985450
    PERL5_CPAN_IS_RUNNING = 3985450
    PERLBREW_HOME = /home/david/.perlbrew
    PERLBREW_MANPATH = /home/david/perl5/perlbrew/perls/perl-5.30.2/man
    PERLBREW_PATH = /home/david/perl5/perlbrew/bin:/home/david/perl5/perlbrew/perls/perl-5.30.2/bin
    PERLBREW_PERL = perl-5.30.2
    PERLBREW_ROOT = /home/david/perl5/perlbrew
    PERLBREW_SHELLRC_VERSION = 0.89
    PERLBREW_VERSION = 0.89
    PERLVER = 5.8.9
    PERL_INLINE_DIRECTORY = /home/david/.Inline-5.8.9
    PERL_MM_USE_DEFAULT = 1
    PERL_USE_UNSAFE_INC = 0
    SHELL = /bin/bash
    TERM = screen

Perl special variables (and OS-specific diagnostics, for MSWin32):

    $^X = /home/david/cpantesting/perl-5.8.9/bin/perl
    $UID/$EUID = 1000 / 1000
    $GID = 1000 24 25 27 29 30 44 46 109 1000
    $EGID = 1000 24 25 27 29 30 44 46 109 1000

Perl module toolchain versions installed:

    Module              Have    
    ------------------- --------
    CPAN                2.29    
    CPAN::Meta          2.143240
    Cwd                 3.75    
    ExtUtils::CBuilder  0.280236
    ExtUtils::Command   7.64    
    ExtUtils::Install   2.06    
    ExtUtils::MakeMaker 7.64    
    ExtUtils::Manifest  1.70    
    ExtUtils::ParseXS   3.44    
    File::Spec          3.75    
    JSON                n/a     
    JSON::PP            4.07    
    Module::Build       0.4231  
    Module::Signature   n/a     
    Parse::CPAN::Meta   1.4414  
    Test::Harness       3.42    
    Test::More          1.302188
    YAML                1.30    
    YAML::Syck          n/a     
    version             0.9929  


--

Summary of my perl5 (revision 5 version 8 subversion 9) configuration:
  Platform:
    osname=linux, osvers=5.10.0-11-amd64, archname=x86_64-linux
    uname='linux cpantesting-linux-utm 5.10.0-11-amd64 #1 smp debian 5.10.92-1 (2022-01-18) x86_64 gnulinux '
    config_args='-de -Dprefix=/home/david/cpantesting/perl-5.8.9 -A ccflags=-fwrapv'
    hint=recommended, useposix=true, d_sigaction=define
    usethreads=undef use5005threads=undef useithreads=undef usemultiplicity=undef
    useperlio=define d_sfio=undef uselargefiles=define usesocks=undef
    use64bitint=define use64bitall=define uselongdouble=undef
    usemymalloc=n, bincompat5005=undef
  Compiler:
    cc='cc', ccflags ='-fwrapv -fno-strict-aliasing -pipe -I/usr/local/include -D_LARGEFILE_SOURCE -D_FILE_OFFSET_BITS=64',
    optimize='-O2',
    cppflags='-fwrapv -fno-strict-aliasing -pipe -I/usr/local/include'
    ccversion='', gccversion='10.2.1 20210110', gccosandvers=''
    intsize=4, longsize=8, ptrsize=8, doublesize=8, byteorder=12345678
    d_longlong=define, longlongsize=8, d_longdbl=define, longdblsize=16
    ivtype='long', ivsize=8, nvtype='double', nvsize=8, Off_t='off_t', lseeksize=8
    alignbytes=8, prototype=define
  Linker and Libraries:
    ld='cc', ldflags =' -L/usr/local/lib'
    libpth=/usr/local/lib /lib/x86_64-linux-gnu /lib/../lib /usr/lib/x86_64-linux-gnu /usr/lib/../lib /lib /usr/lib /lib64 /usr/lib64
    libs=-lnsl -ldl -lm -lcrypt -lutil -lc
    perllibs=-lnsl -ldl -lm -lcrypt -lutil -lc
    libc=libc-2.31.so, so=so, useshrplib=false, libperl=libperl.a
    gnulibc_version='2.31'
  Dynamic Linking:
    dlsrc=dl_dlopen.xs, dlext=so, d_dlsymun=undef, ccdlflags='-Wl,-E'
    cccdlflags='-fPIC', lddlflags='-shared -O2 -L/usr/local/lib'


Characteristics of this binary (from libperl): 
  Compile-time options: PERL_MALLOC_WRAP USE_64_BIT_ALL USE_64_BIT_INT
                        USE_FAST_STDIO USE_LARGE_FILES USE_PERLIO
  Locally applied patches:
	Devel::PatchPerl 2.08
  Built under linux
  Compiled at Feb  5 2022 22:16:28
  %ENV:
    PERL="5.8.9"
    PERL5LIB=""
    PERL5OPT=""
    PERL5_CPANPLUS_IS_RUNNING="3985450"
    PERL5_CPAN_IS_RUNNING="3985450"
    PERLBREW_HOME="/home/david/.perlbrew"
    PERLBREW_MANPATH="/home/david/perl5/perlbrew/perls/perl-5.30.2/man"
    PERLBREW_PATH="/home/david/perl5/perlbrew/bin:/home/david/perl5/perlbrew/perls/perl-5.30.2/bin"
    PERLBREW_PERL="perl-5.30.2"
    PERLBREW_ROOT="/home/david/perl5/perlbrew"
    PERLBREW_SHELLRC_VERSION="0.89"
    PERLBREW_VERSION="0.89"
    PERLVER="5.8.9"
    PERL_INLINE_DIRECTORY="/home/david/.Inline-5.8.9"
    PERL_MM_USE_DEFAULT="1"
    PERL_USE_UNSAFE_INC="0"
  @INC:
    /home/david/cpantesting/perl-5.8.9/lib/5.8.9/x86_64-linux
    /home/david/cpantesting/perl-5.8.9/lib/5.8.9
    /home/david/cpantesting/perl-5.8.9/lib/site_perl/5.8.9/x86_64-linux
    /home/david/cpantesting/perl-5.8.9/lib/site_perl/5.8.9
    .