Back
From: metabase:user:30977d10-2aae-11df-837a-5e0a49663a4f
Subject: PASS Sort-Bucket-0.02 v5.8.9 GNU/Linux
Date: 2011-08-04T13:00:50Z
This distribution has been tested as part of the CPAN Testers
project, supporting the Perl programming language. See
http://wiki.cpantesters.org/ for more information or email
questions to cpan-testers-discuss@perl.org
--
Dear Nick Cleaton,
This is a computer-generated report for Sort-Bucket-0.02
on perl 5.8.9, created by CPAN-Reporter-1.1902.
Thank you for uploading your work to CPAN. Congratulations!
All tests were successful.
Sections of this report:
* Tester comments
* Program output
* Prerequisites
* Environment and other context
------------------------------
TESTER COMMENTS
------------------------------
Additional comments from tester:
this report is from an automated smoke testing program
and was not reviewed by a human for accuracy
------------------------------
PROGRAM OUTPUT
------------------------------
Output from '/usr/bin/make test':
/home/trushel/perl/perl589/bin/perl Build --makefile_env_macros 1 test
#
# Benchmark | CORE::sort() | Sort::Bucket | Ratio
# 10k digits | 0.06047s | 0.001211s | 49.94
# 100k digits | 1.35s | 0.2663s | 5.072
# 200k digits | 3.087s | 0.6082s | 5.075
# 500k digits | 9.776s | 1.912s | 5.113
# 1M digits | 23.19s | 2.617s | 8.861
# 10k binary | 1.874s | 0.0007801s | 2402
# 100k binary | 1.806s | 0.08897s | 20.3
# 200k binary | 5.189s | 0.3057s | 16.98
# 500k binary | 16.79s | 0.6399s | 26.24
# 1M binary | 32.82s | 1.736s | 18.9
t/benchmark.t ............ ok
t/cbv-nondescending.t .... ok
t/cbv.t .................. ok
t/inplace_bucket_sort.t .. ok
t/inplace_gaps.t ......... ok
t/invalid.t .............. ok
t/ms_do_mergesort.t ...... ok
All tests successful.
Files=7, Tests=1413, 586 wallclock secs ( 0.18 usr 0.03 sys + 83.74 cusr 0.45 csys = 84.40 CPU)
Result: PASS
------------------------------
PREREQUISITES
------------------------------
Prerequisite modules loaded:
requires:
Module Need Have
-------------------- ---- --------
Exporter 0 5.63
XSLoader 0 0.10
build_requires:
Module Need Have
-------------------- ---- --------
Devel::Refcount 0 0.09
Digest::MD5 0 2.51
ExtUtils::CBuilder 0 0.280202
List::Util 0 1.23
Test::Exception 0 0.31
Test::Group 0 0.18
Test::Group::Foreach 0 0.03
Test::More 0.88 0.98
Time::HiRes 0 1.9715
configure_requires:
Module Need Have
-------------------- ---- --------
Module::Build 0.35 0.3800
------------------------------
ENVIRONMENT AND OTHER CONTEXT
------------------------------
Environment variables:
AUTOMATED_TESTING = 1
LANG = en_US.UTF-8
LANGUAGE = en
LC_COLLATE = C
LC_MONETARY = C
LC_NUMERIC = C
LC_TIME = C
PATH = /usr/local/sbin:/usr/local/bin:/usr/sbin:/usr/bin:/sbin:/bin
PERL5LIB =
PERL5OPT =
PERL5_CPANPLUS_IS_RUNNING = 28606
PERL5_CPAN_IS_RUNNING = 28606
PERL5_CPAN_IS_RUNNING_IN_RECURSION = 2491,28606
PERL_CR_SMOKER_CURRENT = Sort-Bucket-0.02
PERL_EXTUTILS_AUTOINSTALL = --defaultdeps
PERL_MM_USE_DEFAULT = 1
SHELL = /bin/bash
TERM = xterm
Perl special variables (and OS-specific diagnostics, for MSWin32):
$^X = /home/trushel/perl/perl589/bin/perl
$UID/$EUID = 138375 / 138375
$GID = 5762 4 20 21 24 25 26 30 44 46 104 105 119 122 431 5762
$EGID = 5762 4 20 21 24 25 26 30 44 46 104 105 119 122 431 5762
Perl module toolchain versions installed:
Module Have
------------------- --------
CPAN 1.97_51
Cwd 3.33
ExtUtils::CBuilder 0.280202
ExtUtils::Command 1.16
ExtUtils::Install 1.54
ExtUtils::MakeMaker 6.58
ExtUtils::Manifest 1.58
ExtUtils::ParseXS 2.2206
File::Spec 3.33
Module::Build 0.3800
Module::Signature n/a
Test::Harness 3.23
Test::More 0.98
YAML 0.73
YAML::Syck 1.17
version 0.93
--
Summary of my perl5 (revision 5 version 8 subversion 9) configuration:
Platform:
osname=linux, osvers=2.6.32-33-generic, archname=x86_64-linux
uname='linux trushel-glaptop 2.6.32-33-generic #70-ubuntu smp thu jul 7 21:13:52 utc 2011 x86_64 gnulinux '
config_args=''
hint=recommended, useposix=true, d_sigaction=define
usethreads=undef use5005threads=undef useithreads=undef usemultiplicity=undef
useperlio=define d_sfio=undef uselargefiles=define usesocks=undef
use64bitint=define use64bitall=define uselongdouble=undef
usemymalloc=n, bincompat5005=undef
Compiler:
cc='cc', ccflags ='-fno-strict-aliasing -pipe -I/usr/local/include -D_LARGEFILE_SOURCE -D_FILE_OFFSET_BITS=64',
optimize='-O2',
cppflags='-fno-strict-aliasing -pipe -I/usr/local/include'
ccversion='', gccversion='4.4.3', gccosandvers=''
intsize=4, longsize=8, ptrsize=8, doublesize=8, byteorder=12345678
d_longlong=define, longlongsize=8, d_longdbl=define, longdblsize=16
ivtype='long', ivsize=8, nvtype='double', nvsize=8, Off_t='off_t', lseeksize=8
alignbytes=8, prototype=define
Linker and Libraries:
ld='cc', ldflags =' -L/usr/local/lib'
libpth=/usr/local/lib /lib /usr/lib /lib64 /usr/lib64
libs=-lnsl -ldb -ldl -lm -lcrypt -lutil -lc
perllibs=-lnsl -ldl -lm -lcrypt -lutil -lc
libc=/lib/libc-2.11.1.so, so=so, useshrplib=false, libperl=libperl.a
gnulibc_version='2.11.1'
Dynamic Linking:
dlsrc=dl_dlopen.xs, dlext=so, d_dlsymun=undef, ccdlflags='-Wl,-E'
cccdlflags='-fPIC', lddlflags='-shared -O2 -L/usr/local/lib'
Characteristics of this binary (from libperl):
Compile-time options: PERL_MALLOC_WRAP USE_64_BIT_ALL USE_64_BIT_INT
USE_FAST_STDIO USE_LARGE_FILES USE_PERLIO
Built under linux
Compiled at Aug 1 2011 06:12:45
%ENV:
PERL5LIB=""
PERL5OPT=""
PERL5_CPANPLUS_IS_RUNNING="28606"
PERL5_CPAN_IS_RUNNING="28606"
PERL5_CPAN_IS_RUNNING_IN_RECURSION="2491,28606"
PERL_CR_SMOKER_CURRENT="Sort-Bucket-0.02"
PERL_EXTUTILS_AUTOINSTALL="--defaultdeps"
PERL_MM_USE_DEFAULT="1"
@INC:
/home/trushel/perl/perl589/lib/5.8.9/x86_64-linux
/home/trushel/perl/perl589/lib/5.8.9
/home/trushel/perl/perl589/lib/site_perl/5.8.9/x86_64-linux
/home/trushel/perl/perl589/lib/site_perl/5.8.9
.