Net-Upwork-API v2.2.1 Perl 5 v5.14.4 x86_64-linux-ld

Status
Pass
From
Andreas J. König (ANDK)
Dist
Net-Upwork-API v2.2.1
Platform
Perl 5 v5.14.4 x86_64-linux-ld
Date
2024-04-07 12:10:10
ID
c7c7a2e8-f4d7-11ee-a2b5-80c7b3d9f4c2
This distribution has been tested as part of the CPAN Testers
project, supporting the Perl programming language.  See
http://wiki.cpantesters.org/ for more information or email
questions to cpan-testers-discuss@perl.org


--
Dear Maksym Novozhylov,

This is a computer-generated report for Net-Upwork-API-2.2.1
on perl 5.14.4, created by CPAN-Reporter-1.2019.

Thank you for uploading your work to CPAN.  Congratulations!
All tests were successful.

Sections of this report:

    * Tester comments
    * Program output
    * Prerequisites
    * Environment and other context

------------------------------
TESTER COMMENTS
------------------------------

Additional comments from tester:

this report is from an automated smoke testing program
and was not reviewed by a human for accuracy

------------------------------
PROGRAM OUTPUT
------------------------------

Output from './Build test':

t/0-signature.t ............................. ok
t/00.load.t ................................. ok
t/01.core_packages.t ........................ ok
t/02.routers_auth.t ......................... ok
t/03.routers_messages.t ..................... ok
t/04.routers_snapshot.t ..................... ok
t/05.routers_metadata.t ..................... ok
t/06.routers_payments.t ..................... ok
t/07.routers_workdays.t ..................... ok
t/08.routers_workdiary.t .................... ok
t/09.routers_activities_engagement.t ........ ok
t/10.routers_activities_team.t .............. ok
t/11.routers_freelancers_profile.t .......... ok
t/12.routers_freelancers_search.t ........... ok
t/13.routers_jobs_profile.t ................. ok
t/14.routers_jobs_search.t .................. ok
t/15.routers_organization_companies.t ....... ok
t/16.routers_organization_teams.t ........... ok
t/17.routers_organization_users.t ........... ok
t/18.routers_hr_contracts.t ................. ok
t/19.routers_hr_engagements.t ............... ok
t/20.routers_hr_interviews.t ................ ok
t/21.routers_hr_jobs.t ...................... ok
t/22.routers_hr_milestones.t ................ ok
t/23.routers_hr_submissions.t ............... ok
t/24.routers_hr_clients_applications.t ...... ok
t/25.routers_hr_clients_offers.t ............ ok
t/26.routers_hr_freelancers_offers.t ........ ok
t/27.routers_hr_freelancers_applications.t .. ok
t/28.routers_reports_time.t ................. ok
t/29.routers_reports_finance_accounts.t ..... ok
t/30.routers_reports_finance_billings.t ..... ok
t/31.routers_reports_finance_earnings.t ..... ok
t/32.routers_graphql.t ...................... ok
All tests successful.
Files=34, Tests=180,  7 wallclock secs ( 0.09 usr  0.08 sys +  3.61 cusr  1.09 csys =  4.87 CPU)
Result: PASS

------------------------------
PREREQUISITES
------------------------------

Prerequisite modules loaded:

requires:

    Module          Need   Have    
    --------------- ------ --------
    IO::Socket::SSL 1.965  2.083   
    Net::OAuth2     0.67   0.67    
    perl            v5.8.8 5.014004

build_requires:

    Module          Need   Have    
    --------------- ------ --------
    Test::More      0.66   1.302195
    Test::Warn      0.21   0.37    

configure_requires:

    Module          Need   Have    
    --------------- ------ --------
    Module::Build   0.42   0.4234  


------------------------------
ENVIRONMENT AND OTHER CONTEXT
------------------------------

Environment variables:

    AUTOMATED_TESTING = 1
    LANG = en_US.UTF-8
    LANGUAGE = en_US:en
    PATH = /home/sand/bin:/usr/local/bin:/usr/bin:/bin:/usr/games:/usr/local/perl/bin:/usr/X11/bin:/sbin:/usr/sbin
    PERL5LIB = 
    PERL5OPT = 
    PERL5_CPANPLUS_IS_RUNNING = 2929431
    PERL5_CPAN_IS_RUNNING = 2929431
    PERL_CANARY_STABILITY_NOPROMPT = 1
    PERL_MM_USE_DEFAULT = 1
    PERL_USE_UNSAFE_INC = 1
    SHELL = /usr/bin/zsh
    TERM = screen

Perl special variables (and OS-specific diagnostics, for MSWin32):

    $^X = /home/sand/src/perl/repoperls/installed-perls/host/k93msid/v5.14.4/af11/bin/perl
    $UID/$EUID = 1005 / 1005
    $GID = 1005 1005
    $EGID = 1005 1005

Perl module toolchain versions installed:

    Module              Have    
    ------------------- --------
    CPAN                2.36    
    CPAN::Meta          2.150010
    Cwd                 3.75    
    ExtUtils::CBuilder  0.280236
    ExtUtils::Command   7.70    
    ExtUtils::Install   2.06    
    ExtUtils::MakeMaker 7.70    
    ExtUtils::Manifest  1.70    
    ExtUtils::ParseXS   3.51    
    File::Spec          3.75    
    JSON                4.10    
    JSON::PP            4.17_01 
    Module::Build       0.4234  
    Module::Signature   0.88    
    Parse::CPAN::Meta   2.150010
    Test2               1.302195
    Test::Harness       3.47    
    Test::More          1.302195
    YAML                1.30    
    YAML::Syck          1.34    
    version             0.9930  


--

Summary of my perl5 (revision 5 version 14 subversion 4) configuration:
  Derived from: 26c5c13a4ece9084f310610bb17fb2f24c72a73e
  Platform:
    osname=linux, osvers=6.1.0-7-amd64, archname=x86_64-linux-ld
    uname='linux k93msid 6.1.0-7-amd64 #1 smp preempt_dynamic debian 6.1.20-1 (2023-03-19) x86_64 gnulinux '
    config_args='-Dprefix=/home/sand/src/perl/repoperls/installed-perls/host/k93msid/v5.14.4/af11 -Dmyhostname=k93msid -Dinstallusrbinperl=n -Uversiononly -Dusedevel -des -Ui_db -Dlibswanted=cl pthread socket inet nsl gdbm dbm malloc dl ld sun m crypt sec util c cposix posix ucb BSD gdbm_compat -Uuseithreads -Duselongdouble -DEBUGGING=-g'
    hint=recommended, useposix=true, d_sigaction=define
    useithreads=undef, usemultiplicity=undef
    useperlio=define, d_sfio=undef, uselargefiles=define, usesocks=undef
    use64bitint=define, use64bitall=define, uselongdouble=define
    usemymalloc=n, bincompat5005=undef
  Compiler:
    cc='cc', ccflags ='-fwrapv -fno-strict-aliasing -pipe -fstack-protector -I/usr/local/include -D_LARGEFILE_SOURCE -D_FILE_OFFSET_BITS=64',
    optimize='-O2 -g',
    cppflags='-fwrapv -fno-strict-aliasing -pipe -fstack-protector -I/usr/local/include'
    ccversion='', gccversion='12.2.0', gccosandvers=''
    intsize=4, longsize=8, ptrsize=8, doublesize=8, byteorder=12345678
    d_longlong=define, longlongsize=8, d_longdbl=define, longdblsize=16
    ivtype='long', ivsize=8, nvtype='long double', nvsize=16, Off_t='off_t', lseeksize=8
    alignbytes=16, prototype=define
  Linker and Libraries:
    ld='cc', ldflags =' -fstack-protector -L/usr/local/lib'
    libpth=/usr/local/lib /lib/x86_64-linux-gnu /lib/../lib /usr/lib/x86_64-linux-gnu /usr/lib/../lib /lib /usr/lib /lib64 /usr/lib64
    libs=-lpthread -lnsl -ldl -lm -lcrypt -lutil -lc
    perllibs=-lpthread -lnsl -ldl -lm -lcrypt -lutil -lc
    libc=/lib/x86_64-linux-gnu/libc.so.6, so=so, useshrplib=false, libperl=libperl.a
    gnulibc_version='2.36'
  Dynamic Linking:
    dlsrc=dl_dlopen.xs, dlext=so, d_dlsymun=undef, ccdlflags='-Wl,-E'
    cccdlflags='-fPIC', lddlflags='-shared -O2 -g -L/usr/local/lib -fstack-protector'


Characteristics of this binary (from libperl): 
  Compile-time options: PERL_DONT_CREATE_GVSV PERL_MALLOC_WRAP
                        PERL_PRESERVE_IVUV PERL_USE_DEVEL USE_64_BIT_ALL
                        USE_64_BIT_INT USE_LARGE_FILES USE_LONG_DOUBLE
                        USE_PERLIO USE_PERL_ATOF
  Locally applied patches:
	uncommitted-changes
  Built under linux
  Compiled at Jul  2 2023 22:36:01
  %ENV:
    PERL5LIB=""
    PERL5OPT=""
    PERL5_CPANPLUS_IS_RUNNING="2929431"
    PERL5_CPAN_IS_RUNNING="2929431"
    PERL_CANARY_STABILITY_NOPROMPT="1"
    PERL_MM_USE_DEFAULT="1"
    PERL_USE_UNSAFE_INC="1"
  @INC:
    /home/sand/src/perl/repoperls/installed-perls/host/k93msid/v5.14.4/af11/lib/site_perl/5.14.4/x86_64-linux-ld
    /home/sand/src/perl/repoperls/installed-perls/host/k93msid/v5.14.4/af11/lib/site_perl/5.14.4
    /home/sand/src/perl/repoperls/installed-perls/host/k93msid/v5.14.4/af11/lib/5.14.4/x86_64-linux-ld
    /home/sand/src/perl/repoperls/installed-perls/host/k93msid/v5.14.4/af11/lib/5.14.4
    .