POE v1.370 Perl 5 v5.32.0 MSWin32-x64-multi-thread

Status
Pass
From
twata
Dist
POE v1.370
Platform
Perl 5 v5.32.0 MSWin32-x64-multi-thread
Date
2024-01-03 10:40:40
ID
c7e35cab-708e-1014-8029-7a42cb952333
This distribution has been tested as part of the CPAN Testers
project, supporting the Perl programming language.  See
http://wiki.cpantesters.org/ for more information or email
questions to cpan-testers-discuss@perl.org


--
Dear Chris Williams,

This is a computer-generated report for POE-1.370
on perl 5.32.0, created by CPAN-Reporter-1.2019.

Thank you for uploading your work to CPAN.  Congratulations!
All tests were successful.

Sections of this report:

    * Tester comments
    * Program output
    * Prerequisites
    * Environment and other context

------------------------------
TESTER COMMENTS
------------------------------

Additional comments from tester:

none provided

------------------------------
PROGRAM OUTPUT
------------------------------

Output from 'C:\Strawberry\c\bin\gmake.exe test':

"C:\Strawberry\perl\bin\perl.exe" mylib\gen-tests.perl lib/POE.pm 
"C:\Strawberry\perl\bin\perl.exe" "-MExtUtils::Command::MM" "-MTest::Harness" "-e" "undef *Test::Harness::Switches; test_harness(0, 'blib\lib', 'blib\arch')" t/*.t t/*/*.t t/*/*/*.t
# Testing POE 1.370, POE::Test::Loops 1.360, Perl 5.032000, C:\Strawberry\perl\bin\perl.exe on MSWin32
# pogomips: 39577598
t/00_info.t ........................................ ok
t/10_units/01_pod/01_pod.t ......................... skipped: enable by setting RELEASE_TESTING
t/10_units/01_pod/02_pod_coverage.t ................ skipped: enable by setting RELEASE_TESTING
t/10_units/01_pod/03_pod_no404s.t .................. skipped: enable by setting RELEASE_TESTING
t/10_units/01_pod/04_pod_linkcheck.t ............... skipped: enable by setting RELEASE_TESTING
t/10_units/02_pipes/01_base.t ...................... skipped: not implemented yet
t/10_units/02_pipes/02_oneway.t .................... ok
t/10_units/02_pipes/03_twoway.t .................... ok
Subroutine AUTOLOAD redefined at C:/Strawberry/perl/lib/Time\HiRes.pm line 58.
Subroutine import redefined at C:/Strawberry/perl/lib/Time\HiRes.pm line 76.
Subroutine tv_interval redefined at C:/Strawberry/perl/lib/Time\HiRes.pm line 98.
Subroutine Time::HiRes::CLONE redefined at C:/Strawberry/perl/lib/Time\HiRes.pm line 94.
Subroutine Time::HiRes::constant redefined at C:/Strawberry/perl/lib/Time\HiRes.pm line 94.
Subroutine Time::HiRes::usleep redefined at C:/Strawberry/perl/lib/Time\HiRes.pm line 94.
Subroutine Time::HiRes::nanosleep redefined at C:/Strawberry/perl/lib/Time\HiRes.pm line 94.
Subroutine Time::HiRes::sleep redefined at C:/Strawberry/perl/lib/Time\HiRes.pm line 94.
Subroutine Time::HiRes::ualarm redefined at C:/Strawberry/perl/lib/Time\HiRes.pm line 94.
Subroutine Time::HiRes::alarm redefined at C:/Strawberry/perl/lib/Time\HiRes.pm line 94.
Subroutine Time::HiRes::gettimeofday redefined at C:/Strawberry/perl/lib/Time\HiRes.pm line 94.
Subroutine Time::HiRes::time redefined at C:/Strawberry/perl/lib/Time\HiRes.pm line 94.
Subroutine Time::HiRes::utime redefined at C:/Strawberry/perl/lib/Time\HiRes.pm line 94.
Subroutine Time::HiRes::clock_gettime redefined at C:/Strawberry/perl/lib/Time\HiRes.pm line 94.
Subroutine Time::HiRes::clock_getres redefined at C:/Strawberry/perl/lib/Time\HiRes.pm line 94.
Subroutine Time::HiRes::clock_nanosleep redefined at C:/Strawberry/perl/lib/Time\HiRes.pm line 94.
Subroutine Time::HiRes::clock redefined at C:/Strawberry/perl/lib/Time\HiRes.pm line 94.
Subroutine Time::HiRes::lstat redefined at C:/Strawberry/perl/lib/Time\HiRes.pm line 94.
Subroutine Time::HiRes::stat redefined at C:/Strawberry/perl/lib/Time\HiRes.pm line 94.
t/10_units/03_base/01_poe.t ........................ ok
t/10_units/03_base/03_component.t .................. ok
t/10_units/03_base/04_driver.t ..................... ok
t/10_units/03_base/05_filter.t ..................... ok
t/10_units/03_base/06_loop.t ....................... ok
t/10_units/03_base/07_queue.t ...................... ok
t/10_units/03_base/08_resource.t ................... ok
t/10_units/03_base/09_resources.t .................. ok
t/10_units/03_base/10_wheel.t ...................... ok
Subroutine AUTOLOAD redefined at C:/Strawberry/perl/lib/Time\HiRes.pm line 58.
Subroutine import redefined at C:/Strawberry/perl/lib/Time\HiRes.pm line 76.
Subroutine tv_interval redefined at C:/Strawberry/perl/lib/Time\HiRes.pm line 98.
Subroutine Time::HiRes::CLONE redefined at C:/Strawberry/perl/lib/Time\HiRes.pm line 94.
Subroutine Time::HiRes::constant redefined at C:/Strawberry/perl/lib/Time\HiRes.pm line 94.
Subroutine Time::HiRes::usleep redefined at C:/Strawberry/perl/lib/Time\HiRes.pm line 94.
Subroutine Time::HiRes::nanosleep redefined at C:/Strawberry/perl/lib/Time\HiRes.pm line 94.
Subroutine Time::HiRes::sleep redefined at C:/Strawberry/perl/lib/Time\HiRes.pm line 94.
Subroutine Time::HiRes::ualarm redefined at C:/Strawberry/perl/lib/Time\HiRes.pm line 94.
Subroutine Time::HiRes::alarm redefined at C:/Strawberry/perl/lib/Time\HiRes.pm line 94.
Subroutine Time::HiRes::gettimeofday redefined at C:/Strawberry/perl/lib/Time\HiRes.pm line 94.
Subroutine Time::HiRes::time redefined at C:/Strawberry/perl/lib/Time\HiRes.pm line 94.
Subroutine Time::HiRes::utime redefined at C:/Strawberry/perl/lib/Time\HiRes.pm line 94.
Subroutine Time::HiRes::clock_gettime redefined at C:/Strawberry/perl/lib/Time\HiRes.pm line 94.
Subroutine Time::HiRes::clock_getres redefined at C:/Strawberry/perl/lib/Time\HiRes.pm line 94.
Subroutine Time::HiRes::clock_nanosleep redefined at C:/Strawberry/perl/lib/Time\HiRes.pm line 94.
Subroutine Time::HiRes::clock redefined at C:/Strawberry/perl/lib/Time\HiRes.pm line 94.
Subroutine Time::HiRes::lstat redefined at C:/Strawberry/perl/lib/Time\HiRes.pm line 94.
Subroutine Time::HiRes::stat redefined at C:/Strawberry/perl/lib/Time\HiRes.pm line 94.
t/10_units/03_base/11_assert_usage.t ............... ok
Subroutine AUTOLOAD redefined at C:/Strawberry/perl/lib/Time\HiRes.pm line 58.
Subroutine import redefined at C:/Strawberry/perl/lib/Time\HiRes.pm line 76.
Subroutine tv_interval redefined at C:/Strawberry/perl/lib/Time\HiRes.pm line 98.
Subroutine Time::HiRes::CLONE redefined at C:/Strawberry/perl/lib/Time\HiRes.pm line 94.
Subroutine Time::HiRes::constant redefined at C:/Strawberry/perl/lib/Time\HiRes.pm line 94.
Subroutine Time::HiRes::usleep redefined at C:/Strawberry/perl/lib/Time\HiRes.pm line 94.
Subroutine Time::HiRes::nanosleep redefined at C:/Strawberry/perl/lib/Time\HiRes.pm line 94.
Subroutine Time::HiRes::sleep redefined at C:/Strawberry/perl/lib/Time\HiRes.pm line 94.
Subroutine Time::HiRes::ualarm redefined at C:/Strawberry/perl/lib/Time\HiRes.pm line 94.
Subroutine Time::HiRes::alarm redefined at C:/Strawberry/perl/lib/Time\HiRes.pm line 94.
Subroutine Time::HiRes::gettimeofday redefined at C:/Strawberry/perl/lib/Time\HiRes.pm line 94.
Subroutine Time::HiRes::time redefined at C:/Strawberry/perl/lib/Time\HiRes.pm line 94.
Subroutine Time::HiRes::utime redefined at C:/Strawberry/perl/lib/Time\HiRes.pm line 94.
Subroutine Time::HiRes::clock_gettime redefined at C:/Strawberry/perl/lib/Time\HiRes.pm line 94.
Subroutine Time::HiRes::clock_getres redefined at C:/Strawberry/perl/lib/Time\HiRes.pm line 94.
Subroutine Time::HiRes::clock_nanosleep redefined at C:/Strawberry/perl/lib/Time\HiRes.pm line 94.
Subroutine Time::HiRes::clock redefined at C:/Strawberry/perl/lib/Time\HiRes.pm line 94.
Subroutine Time::HiRes::lstat redefined at C:/Strawberry/perl/lib/Time\HiRes.pm line 94.
Subroutine Time::HiRes::stat redefined at C:/Strawberry/perl/lib/Time\HiRes.pm line 94.
t/10_units/03_base/12_assert_retval.t .............. ok
Subroutine AUTOLOAD redefined at C:/Strawberry/perl/lib/Time\HiRes.pm line 58.
Subroutine import redefined at C:/Strawberry/perl/lib/Time\HiRes.pm line 76.
Subroutine tv_interval redefined at C:/Strawberry/perl/lib/Time\HiRes.pm line 98.
Subroutine Time::HiRes::CLONE redefined at C:/Strawberry/perl/lib/Time\HiRes.pm line 94.
Subroutine Time::HiRes::constant redefined at C:/Strawberry/perl/lib/Time\HiRes.pm line 94.
Subroutine Time::HiRes::usleep redefined at C:/Strawberry/perl/lib/Time\HiRes.pm line 94.
Subroutine Time::HiRes::nanosleep redefined at C:/Strawberry/perl/lib/Time\HiRes.pm line 94.
Subroutine Time::HiRes::sleep redefined at C:/Strawberry/perl/lib/Time\HiRes.pm line 94.
Subroutine Time::HiRes::ualarm redefined at C:/Strawberry/perl/lib/Time\HiRes.pm line 94.
Subroutine Time::HiRes::alarm redefined at C:/Strawberry/perl/lib/Time\HiRes.pm line 94.
Subroutine Time::HiRes::gettimeofday redefined at C:/Strawberry/perl/lib/Time\HiRes.pm line 94.
Subroutine Time::HiRes::time redefined at C:/Strawberry/perl/lib/Time\HiRes.pm line 94.
Subroutine Time::HiRes::utime redefined at C:/Strawberry/perl/lib/Time\HiRes.pm line 94.
Subroutine Time::HiRes::clock_gettime redefined at C:/Strawberry/perl/lib/Time\HiRes.pm line 94.
Subroutine Time::HiRes::clock_getres redefined at C:/Strawberry/perl/lib/Time\HiRes.pm line 94.
Subroutine Time::HiRes::clock_nanosleep redefined at C:/Strawberry/perl/lib/Time\HiRes.pm line 94.
Subroutine Time::HiRes::clock redefined at C:/Strawberry/perl/lib/Time\HiRes.pm line 94.
Subroutine Time::HiRes::lstat redefined at C:/Strawberry/perl/lib/Time\HiRes.pm line 94.
Subroutine Time::HiRes::stat redefined at C:/Strawberry/perl/lib/Time\HiRes.pm line 94.
t/10_units/03_base/13_assert_data.t ................ ok
Subroutine AUTOLOAD redefined at C:/Strawberry/perl/lib/Time\HiRes.pm line 58.
Subroutine import redefined at C:/Strawberry/perl/lib/Time\HiRes.pm line 76.
Subroutine tv_interval redefined at C:/Strawberry/perl/lib/Time\HiRes.pm line 98.
Subroutine Time::HiRes::CLONE redefined at C:/Strawberry/perl/lib/Time\HiRes.pm line 94.
Subroutine Time::HiRes::constant redefined at C:/Strawberry/perl/lib/Time\HiRes.pm line 94.
Subroutine Time::HiRes::usleep redefined at C:/Strawberry/perl/lib/Time\HiRes.pm line 94.
Subroutine Time::HiRes::nanosleep redefined at C:/Strawberry/perl/lib/Time\HiRes.pm line 94.
Subroutine Time::HiRes::sleep redefined at C:/Strawberry/perl/lib/Time\HiRes.pm line 94.
Subroutine Time::HiRes::ualarm redefined at C:/Strawberry/perl/lib/Time\HiRes.pm line 94.
Subroutine Time::HiRes::alarm redefined at C:/Strawberry/perl/lib/Time\HiRes.pm line 94.
Subroutine Time::HiRes::gettimeofday redefined at C:/Strawberry/perl/lib/Time\HiRes.pm line 94.
Subroutine Time::HiRes::time redefined at C:/Strawberry/perl/lib/Time\HiRes.pm line 94.
Subroutine Time::HiRes::utime redefined at C:/Strawberry/perl/lib/Time\HiRes.pm line 94.
Subroutine Time::HiRes::clock_gettime redefined at C:/Strawberry/perl/lib/Time\HiRes.pm line 94.
Subroutine Time::HiRes::clock_getres redefined at C:/Strawberry/perl/lib/Time\HiRes.pm line 94.
Subroutine Time::HiRes::clock_nanosleep redefined at C:/Strawberry/perl/lib/Time\HiRes.pm line 94.
Subroutine Time::HiRes::clock redefined at C:/Strawberry/perl/lib/Time\HiRes.pm line 94.
Subroutine Time::HiRes::lstat redefined at C:/Strawberry/perl/lib/Time\HiRes.pm line 94.
Subroutine Time::HiRes::stat redefined at C:/Strawberry/perl/lib/Time\HiRes.pm line 94.
t/10_units/03_base/14_kernel.t ..................... ok
Subroutine AUTOLOAD redefined at C:/Strawberry/perl/lib/Time\HiRes.pm line 58.
Subroutine import redefined at C:/Strawberry/perl/lib/Time\HiRes.pm line 76.
Subroutine tv_interval redefined at C:/Strawberry/perl/lib/Time\HiRes.pm line 98.
Subroutine Time::HiRes::CLONE redefined at C:/Strawberry/perl/lib/Time\HiRes.pm line 94.
Subroutine Time::HiRes::constant redefined at C:/Strawberry/perl/lib/Time\HiRes.pm line 94.
Subroutine Time::HiRes::usleep redefined at C:/Strawberry/perl/lib/Time\HiRes.pm line 94.
Subroutine Time::HiRes::nanosleep redefined at C:/Strawberry/perl/lib/Time\HiRes.pm line 94.
Subroutine Time::HiRes::sleep redefined at C:/Strawberry/perl/lib/Time\HiRes.pm line 94.
Subroutine Time::HiRes::ualarm redefined at C:/Strawberry/perl/lib/Time\HiRes.pm line 94.
Subroutine Time::HiRes::alarm redefined at C:/Strawberry/perl/lib/Time\HiRes.pm line 94.
Subroutine Time::HiRes::gettimeofday redefined at C:/Strawberry/perl/lib/Time\HiRes.pm line 94.
Subroutine Time::HiRes::time redefined at C:/Strawberry/perl/lib/Time\HiRes.pm line 94.
Subroutine Time::HiRes::utime redefined at C:/Strawberry/perl/lib/Time\HiRes.pm line 94.
Subroutine Time::HiRes::clock_gettime redefined at C:/Strawberry/perl/lib/Time\HiRes.pm line 94.
Subroutine Time::HiRes::clock_getres redefined at C:/Strawberry/perl/lib/Time\HiRes.pm line 94.
Subroutine Time::HiRes::clock_nanosleep redefined at C:/Strawberry/perl/lib/Time\HiRes.pm line 94.
Subroutine Time::HiRes::clock redefined at C:/Strawberry/perl/lib/Time\HiRes.pm line 94.
Subroutine Time::HiRes::lstat redefined at C:/Strawberry/perl/lib/Time\HiRes.pm line 94.
Subroutine Time::HiRes::stat redefined at C:/Strawberry/perl/lib/Time\HiRes.pm line 94.
t/10_units/03_base/15_kernel_internal.t ............ ok
t/10_units/03_base/16_nfa_usage.t .................. ok
t/10_units/03_base/17_detach_start.t ............... ok
t/10_units/04_drivers/01_sysrw.t ................... ok
t/10_units/05_filters/01_block.t ................... ok
t/10_units/05_filters/02_grep.t .................... ok
Downgrading wide characters in HTTP header. Consider installing Email::MIME::RFC2047::Encoder at C:\Strawberry\cpan\build\POE-1.370-0\blib\lib/POE/Filter/HTTPD.pm line 73.
	POE::Filter::HTTPD::__ANON__("En \x{e9}t\x{e9}") called at C:\Strawberry\cpan\build\POE-1.370-0\blib\lib/POE/Filter/HTTPD.pm line 449
	POE::Filter::HTTPD::headers_as_strings(POE::Filter::HTTPD=ARRAY(0x29c5558), HTTP::Headers=HASH(0x29e6388), "\x{d}\x{a}") called at C:\Strawberry\cpan\build\POE-1.370-0\blib\lib/POE/Filter/HTTPD.pm line 411
	POE::Filter::HTTPD::put(POE::Filter::HTTPD=ARRAY(0x29c5558), ARRAY(0x29e7748)) called at t/10_units/05_filters/03_http.t line 426
t/10_units/05_filters/03_http.t .................... ok
t/10_units/05_filters/04_line.t .................... ok
t/10_units/05_filters/05_map.t ..................... ok
t/10_units/05_filters/06_recordblock.t ............. ok
t/10_units/05_filters/07_reference.t ............... ok
t/10_units/05_filters/08_stream.t .................. ok
t/10_units/05_filters/50_stackable.t ............... ok
t/10_units/05_filters/51_reference_die.t ........... ok
Subroutine AUTOLOAD redefined at C:/Strawberry/perl/lib/Time\HiRes.pm line 58.
Subroutine import redefined at C:/Strawberry/perl/lib/Time\HiRes.pm line 76.
Subroutine tv_interval redefined at C:/Strawberry/perl/lib/Time\HiRes.pm line 98.
Subroutine Time::HiRes::CLONE redefined at C:/Strawberry/perl/lib/Time\HiRes.pm line 94.
Subroutine Time::HiRes::constant redefined at C:/Strawberry/perl/lib/Time\HiRes.pm line 94.
Subroutine Time::HiRes::usleep redefined at C:/Strawberry/perl/lib/Time\HiRes.pm line 94.
Subroutine Time::HiRes::nanosleep redefined at C:/Strawberry/perl/lib/Time\HiRes.pm line 94.
Subroutine Time::HiRes::sleep redefined at C:/Strawberry/perl/lib/Time\HiRes.pm line 94.
Subroutine Time::HiRes::ualarm redefined at C:/Strawberry/perl/lib/Time\HiRes.pm line 94.
Subroutine Time::HiRes::alarm redefined at C:/Strawberry/perl/lib/Time\HiRes.pm line 94.
Subroutine Time::HiRes::gettimeofday redefined at C:/Strawberry/perl/lib/Time\HiRes.pm line 94.
Subroutine Time::HiRes::time redefined at C:/Strawberry/perl/lib/Time\HiRes.pm line 94.
Subroutine Time::HiRes::utime redefined at C:/Strawberry/perl/lib/Time\HiRes.pm line 94.
Subroutine Time::HiRes::clock_gettime redefined at C:/Strawberry/perl/lib/Time\HiRes.pm line 94.
Subroutine Time::HiRes::clock_getres redefined at C:/Strawberry/perl/lib/Time\HiRes.pm line 94.
Subroutine Time::HiRes::clock_nanosleep redefined at C:/Strawberry/perl/lib/Time\HiRes.pm line 94.
Subroutine Time::HiRes::clock redefined at C:/Strawberry/perl/lib/Time\HiRes.pm line 94.
Subroutine Time::HiRes::lstat redefined at C:/Strawberry/perl/lib/Time\HiRes.pm line 94.
Subroutine Time::HiRes::stat redefined at C:/Strawberry/perl/lib/Time\HiRes.pm line 94.
t/10_units/05_filters/99_filterchange.t ............ ok
t/10_units/06_queues/01_array.t .................... ok
t/10_units/07_exceptions/01_normal.t ............... ok
t/10_units/07_exceptions/02_turn_off.t ............. ok
t/10_units/07_exceptions/03_not_handled.t .......... ok
Subroutine AUTOLOAD redefined at C:/Strawberry/perl/lib/Time\HiRes.pm line 58.
Subroutine import redefined at C:/Strawberry/perl/lib/Time\HiRes.pm line 76.
Subroutine tv_interval redefined at C:/Strawberry/perl/lib/Time\HiRes.pm line 98.
Subroutine Time::HiRes::CLONE redefined at C:/Strawberry/perl/lib/Time\HiRes.pm line 94.
Subroutine Time::HiRes::constant redefined at C:/Strawberry/perl/lib/Time\HiRes.pm line 94.
Subroutine Time::HiRes::usleep redefined at C:/Strawberry/perl/lib/Time\HiRes.pm line 94.
Subroutine Time::HiRes::nanosleep redefined at C:/Strawberry/perl/lib/Time\HiRes.pm line 94.
Subroutine Time::HiRes::sleep redefined at C:/Strawberry/perl/lib/Time\HiRes.pm line 94.
Subroutine Time::HiRes::ualarm redefined at C:/Strawberry/perl/lib/Time\HiRes.pm line 94.
Subroutine Time::HiRes::alarm redefined at C:/Strawberry/perl/lib/Time\HiRes.pm line 94.
Subroutine Time::HiRes::gettimeofday redefined at C:/Strawberry/perl/lib/Time\HiRes.pm line 94.
Subroutine Time::HiRes::time redefined at C:/Strawberry/perl/lib/Time\HiRes.pm line 94.
Subroutine Time::HiRes::utime redefined at C:/Strawberry/perl/lib/Time\HiRes.pm line 94.
Subroutine Time::HiRes::clock_gettime redefined at C:/Strawberry/perl/lib/Time\HiRes.pm line 94.
Subroutine Time::HiRes::clock_getres redefined at C:/Strawberry/perl/lib/Time\HiRes.pm line 94.
Subroutine Time::HiRes::clock_nanosleep redefined at C:/Strawberry/perl/lib/Time\HiRes.pm line 94.
Subroutine Time::HiRes::clock redefined at C:/Strawberry/perl/lib/Time\HiRes.pm line 94.
Subroutine Time::HiRes::lstat redefined at C:/Strawberry/perl/lib/Time\HiRes.pm line 94.
Subroutine Time::HiRes::stat redefined at C:/Strawberry/perl/lib/Time\HiRes.pm line 94.
t/10_units/08_loops/01_explicit_loop.t ............. ok
t/10_units/08_loops/02_explicit_loop_fail.t ........ ok
Subroutine AUTOLOAD redefined at C:/Strawberry/perl/lib/Time\HiRes.pm line 58.
Subroutine import redefined at C:/Strawberry/perl/lib/Time\HiRes.pm line 76.
Subroutine tv_interval redefined at C:/Strawberry/perl/lib/Time\HiRes.pm line 98.
Subroutine Time::HiRes::CLONE redefined at C:/Strawberry/perl/lib/Time\HiRes.pm line 94.
Subroutine Time::HiRes::constant redefined at C:/Strawberry/perl/lib/Time\HiRes.pm line 94.
Subroutine Time::HiRes::usleep redefined at C:/Strawberry/perl/lib/Time\HiRes.pm line 94.
Subroutine Time::HiRes::nanosleep redefined at C:/Strawberry/perl/lib/Time\HiRes.pm line 94.
Subroutine Time::HiRes::sleep redefined at C:/Strawberry/perl/lib/Time\HiRes.pm line 94.
Subroutine Time::HiRes::ualarm redefined at C:/Strawberry/perl/lib/Time\HiRes.pm line 94.
Subroutine Time::HiRes::alarm redefined at C:/Strawberry/perl/lib/Time\HiRes.pm line 94.
Subroutine Time::HiRes::gettimeofday redefined at C:/Strawberry/perl/lib/Time\HiRes.pm line 94.
Subroutine Time::HiRes::time redefined at C:/Strawberry/perl/lib/Time\HiRes.pm line 94.
Subroutine Time::HiRes::utime redefined at C:/Strawberry/perl/lib/Time\HiRes.pm line 94.
Subroutine Time::HiRes::clock_gettime redefined at C:/Strawberry/perl/lib/Time\HiRes.pm line 94.
Subroutine Time::HiRes::clock_getres redefined at C:/Strawberry/perl/lib/Time\HiRes.pm line 94.
Subroutine Time::HiRes::clock_nanosleep redefined at C:/Strawberry/perl/lib/Time\HiRes.pm line 94.
Subroutine Time::HiRes::clock redefined at C:/Strawberry/perl/lib/Time\HiRes.pm line 94.
Subroutine Time::HiRes::lstat redefined at C:/Strawberry/perl/lib/Time\HiRes.pm line 94.
Subroutine Time::HiRes::stat redefined at C:/Strawberry/perl/lib/Time\HiRes.pm line 94.
IO::Poll is defective on MSWin32.  Falling back to IO::Select.
t/10_units/08_loops/03_explicit_loop_poll.t ........ ok
Subroutine AUTOLOAD redefined at C:/Strawberry/perl/lib/Time\HiRes.pm line 58.
Subroutine import redefined at C:/Strawberry/perl/lib/Time\HiRes.pm line 76.
Subroutine tv_interval redefined at C:/Strawberry/perl/lib/Time\HiRes.pm line 98.
Subroutine Time::HiRes::CLONE redefined at C:/Strawberry/perl/lib/Time\HiRes.pm line 94.
Subroutine Time::HiRes::constant redefined at C:/Strawberry/perl/lib/Time\HiRes.pm line 94.
Subroutine Time::HiRes::usleep redefined at C:/Strawberry/perl/lib/Time\HiRes.pm line 94.
Subroutine Time::HiRes::nanosleep redefined at C:/Strawberry/perl/lib/Time\HiRes.pm line 94.
Subroutine Time::HiRes::sleep redefined at C:/Strawberry/perl/lib/Time\HiRes.pm line 94.
Subroutine Time::HiRes::ualarm redefined at C:/Strawberry/perl/lib/Time\HiRes.pm line 94.
Subroutine Time::HiRes::alarm redefined at C:/Strawberry/perl/lib/Time\HiRes.pm line 94.
Subroutine Time::HiRes::gettimeofday redefined at C:/Strawberry/perl/lib/Time\HiRes.pm line 94.
Subroutine Time::HiRes::time redefined at C:/Strawberry/perl/lib/Time\HiRes.pm line 94.
Subroutine Time::HiRes::utime redefined at C:/Strawberry/perl/lib/Time\HiRes.pm line 94.
Subroutine Time::HiRes::clock_gettime redefined at C:/Strawberry/perl/lib/Time\HiRes.pm line 94.
Subroutine Time::HiRes::clock_getres redefined at C:/Strawberry/perl/lib/Time\HiRes.pm line 94.
Subroutine Time::HiRes::clock_nanosleep redefined at C:/Strawberry/perl/lib/Time\HiRes.pm line 94.
Subroutine Time::HiRes::clock redefined at C:/Strawberry/perl/lib/Time\HiRes.pm line 94.
Subroutine Time::HiRes::lstat redefined at C:/Strawberry/perl/lib/Time\HiRes.pm line 94.
Subroutine Time::HiRes::stat redefined at C:/Strawberry/perl/lib/Time\HiRes.pm line 94.
IO::Poll is defective on MSWin32.  Falling back to IO::Select.
t/10_units/08_loops/04_explicit_loop_envvar.t ...... ok
Subroutine AUTOLOAD redefined at C:/Strawberry/perl/lib/Time\HiRes.pm line 58.
Subroutine import redefined at C:/Strawberry/perl/lib/Time\HiRes.pm line 76.
Subroutine tv_interval redefined at C:/Strawberry/perl/lib/Time\HiRes.pm line 98.
Subroutine Time::HiRes::CLONE redefined at C:/Strawberry/perl/lib/Time\HiRes.pm line 94.
Subroutine Time::HiRes::constant redefined at C:/Strawberry/perl/lib/Time\HiRes.pm line 94.
Subroutine Time::HiRes::usleep redefined at C:/Strawberry/perl/lib/Time\HiRes.pm line 94.
Subroutine Time::HiRes::nanosleep redefined at C:/Strawberry/perl/lib/Time\HiRes.pm line 94.
Subroutine Time::HiRes::sleep redefined at C:/Strawberry/perl/lib/Time\HiRes.pm line 94.
Subroutine Time::HiRes::ualarm redefined at C:/Strawberry/perl/lib/Time\HiRes.pm line 94.
Subroutine Time::HiRes::alarm redefined at C:/Strawberry/perl/lib/Time\HiRes.pm line 94.
Subroutine Time::HiRes::gettimeofday redefined at C:/Strawberry/perl/lib/Time\HiRes.pm line 94.
Subroutine Time::HiRes::time redefined at C:/Strawberry/perl/lib/Time\HiRes.pm line 94.
Subroutine Time::HiRes::utime redefined at C:/Strawberry/perl/lib/Time\HiRes.pm line 94.
Subroutine Time::HiRes::clock_gettime redefined at C:/Strawberry/perl/lib/Time\HiRes.pm line 94.
Subroutine Time::HiRes::clock_getres redefined at C:/Strawberry/perl/lib/Time\HiRes.pm line 94.
Subroutine Time::HiRes::clock_nanosleep redefined at C:/Strawberry/perl/lib/Time\HiRes.pm line 94.
Subroutine Time::HiRes::clock redefined at C:/Strawberry/perl/lib/Time\HiRes.pm line 94.
Subroutine Time::HiRes::lstat redefined at C:/Strawberry/perl/lib/Time\HiRes.pm line 94.
Subroutine Time::HiRes::stat redefined at C:/Strawberry/perl/lib/Time\HiRes.pm line 94.
t/10_units/08_loops/05_kernel_loop.t ............... ok
Subroutine AUTOLOAD redefined at C:/Strawberry/perl/lib/Time\HiRes.pm line 58.
Subroutine import redefined at C:/Strawberry/perl/lib/Time\HiRes.pm line 76.
Subroutine tv_interval redefined at C:/Strawberry/perl/lib/Time\HiRes.pm line 98.
Subroutine Time::HiRes::CLONE redefined at C:/Strawberry/perl/lib/Time\HiRes.pm line 94.
Subroutine Time::HiRes::constant redefined at C:/Strawberry/perl/lib/Time\HiRes.pm line 94.
Subroutine Time::HiRes::usleep redefined at C:/Strawberry/perl/lib/Time\HiRes.pm line 94.
Subroutine Time::HiRes::nanosleep redefined at C:/Strawberry/perl/lib/Time\HiRes.pm line 94.
Subroutine Time::HiRes::sleep redefined at C:/Strawberry/perl/lib/Time\HiRes.pm line 94.
Subroutine Time::HiRes::ualarm redefined at C:/Strawberry/perl/lib/Time\HiRes.pm line 94.
Subroutine Time::HiRes::alarm redefined at C:/Strawberry/perl/lib/Time\HiRes.pm line 94.
Subroutine Time::HiRes::gettimeofday redefined at C:/Strawberry/perl/lib/Time\HiRes.pm line 94.
Subroutine Time::HiRes::time redefined at C:/Strawberry/perl/lib/Time\HiRes.pm line 94.
Subroutine Time::HiRes::utime redefined at C:/Strawberry/perl/lib/Time\HiRes.pm line 94.
Subroutine Time::HiRes::clock_gettime redefined at C:/Strawberry/perl/lib/Time\HiRes.pm line 94.
Subroutine Time::HiRes::clock_getres redefined at C:/Strawberry/perl/lib/Time\HiRes.pm line 94.
Subroutine Time::HiRes::clock_nanosleep redefined at C:/Strawberry/perl/lib/Time\HiRes.pm line 94.
Subroutine Time::HiRes::clock redefined at C:/Strawberry/perl/lib/Time\HiRes.pm line 94.
Subroutine Time::HiRes::lstat redefined at C:/Strawberry/perl/lib/Time\HiRes.pm line 94.
Subroutine Time::HiRes::stat redefined at C:/Strawberry/perl/lib/Time\HiRes.pm line 94.
IO::Poll is defective on MSWin32.  Falling back to IO::Select.
t/10_units/08_loops/06_kernel_loop_poll.t .......... ok
t/10_units/08_loops/07_kernel_loop_fail.t .......... ok
Subroutine AUTOLOAD redefined at C:/Strawberry/perl/lib/Time\HiRes.pm line 58.
Subroutine import redefined at C:/Strawberry/perl/lib/Time\HiRes.pm line 76.
Subroutine tv_interval redefined at C:/Strawberry/perl/lib/Time\HiRes.pm line 98.
Subroutine Time::HiRes::CLONE redefined at C:/Strawberry/perl/lib/Time\HiRes.pm line 94.
Subroutine Time::HiRes::constant redefined at C:/Strawberry/perl/lib/Time\HiRes.pm line 94.
Subroutine Time::HiRes::usleep redefined at C:/Strawberry/perl/lib/Time\HiRes.pm line 94.
Subroutine Time::HiRes::nanosleep redefined at C:/Strawberry/perl/lib/Time\HiRes.pm line 94.
Subroutine Time::HiRes::sleep redefined at C:/Strawberry/perl/lib/Time\HiRes.pm line 94.
Subroutine Time::HiRes::ualarm redefined at C:/Strawberry/perl/lib/Time\HiRes.pm line 94.
Subroutine Time::HiRes::alarm redefined at C:/Strawberry/perl/lib/Time\HiRes.pm line 94.
Subroutine Time::HiRes::gettimeofday redefined at C:/Strawberry/perl/lib/Time\HiRes.pm line 94.
Subroutine Time::HiRes::time redefined at C:/Strawberry/perl/lib/Time\HiRes.pm line 94.
Subroutine Time::HiRes::utime redefined at C:/Strawberry/perl/lib/Time\HiRes.pm line 94.
Subroutine Time::HiRes::clock_gettime redefined at C:/Strawberry/perl/lib/Time\HiRes.pm line 94.
Subroutine Time::HiRes::clock_getres redefined at C:/Strawberry/perl/lib/Time\HiRes.pm line 94.
Subroutine Time::HiRes::clock_nanosleep redefined at C:/Strawberry/perl/lib/Time\HiRes.pm line 94.
Subroutine Time::HiRes::clock redefined at C:/Strawberry/perl/lib/Time\HiRes.pm line 94.
Subroutine Time::HiRes::lstat redefined at C:/Strawberry/perl/lib/Time\HiRes.pm line 94.
Subroutine Time::HiRes::stat redefined at C:/Strawberry/perl/lib/Time\HiRes.pm line 94.
IO::Poll is defective on MSWin32.  Falling back to IO::Select.
t/10_units/08_loops/08_kernel_loop_search_poll.t ... ok
t/10_units/08_loops/09_naive_loop_load.t ........... ok
t/10_units/08_loops/10_naive_loop_load_poll.t ...... ok
t/10_units/08_loops/11_double_loop.t ............... ok
Subroutine AUTOLOAD redefined at C:/Strawberry/perl/lib/Time\HiRes.pm line 58.
Subroutine import redefined at C:/Strawberry/perl/lib/Time\HiRes.pm line 76.
Subroutine tv_interval redefined at C:/Strawberry/perl/lib/Time\HiRes.pm line 98.
Subroutine Time::HiRes::CLONE redefined at C:/Strawberry/perl/lib/Time\HiRes.pm line 94.
Subroutine Time::HiRes::constant redefined at C:/Strawberry/perl/lib/Time\HiRes.pm line 94.
Subroutine Time::HiRes::usleep redefined at C:/Strawberry/perl/lib/Time\HiRes.pm line 94.
Subroutine Time::HiRes::nanosleep redefined at C:/Strawberry/perl/lib/Time\HiRes.pm line 94.
Subroutine Time::HiRes::sleep redefined at C:/Strawberry/perl/lib/Time\HiRes.pm line 94.
Subroutine Time::HiRes::ualarm redefined at C:/Strawberry/perl/lib/Time\HiRes.pm line 94.
Subroutine Time::HiRes::alarm redefined at C:/Strawberry/perl/lib/Time\HiRes.pm line 94.
Subroutine Time::HiRes::gettimeofday redefined at C:/Strawberry/perl/lib/Time\HiRes.pm line 94.
Subroutine Time::HiRes::time redefined at C:/Strawberry/perl/lib/Time\HiRes.pm line 94.
Subroutine Time::HiRes::utime redefined at C:/Strawberry/perl/lib/Time\HiRes.pm line 94.
Subroutine Time::HiRes::clock_gettime redefined at C:/Strawberry/perl/lib/Time\HiRes.pm line 94.
Subroutine Time::HiRes::clock_getres redefined at C:/Strawberry/perl/lib/Time\HiRes.pm line 94.
Subroutine Time::HiRes::clock_nanosleep redefined at C:/Strawberry/perl/lib/Time\HiRes.pm line 94.
Subroutine Time::HiRes::clock redefined at C:/Strawberry/perl/lib/Time\HiRes.pm line 94.
Subroutine Time::HiRes::lstat redefined at C:/Strawberry/perl/lib/Time\HiRes.pm line 94.
Subroutine Time::HiRes::stat redefined at C:/Strawberry/perl/lib/Time\HiRes.pm line 94.
t/20_resources/10_perl/aliases.t ................... ok
Subroutine AUTOLOAD redefined at C:/Strawberry/perl/lib/Time\HiRes.pm line 58.
Subroutine import redefined at C:/Strawberry/perl/lib/Time\HiRes.pm line 76.
Subroutine tv_interval redefined at C:/Strawberry/perl/lib/Time\HiRes.pm line 98.
Subroutine Time::HiRes::CLONE redefined at C:/Strawberry/perl/lib/Time\HiRes.pm line 94.
Subroutine Time::HiRes::constant redefined at C:/Strawberry/perl/lib/Time\HiRes.pm line 94.
Subroutine Time::HiRes::usleep redefined at C:/Strawberry/perl/lib/Time\HiRes.pm line 94.
Subroutine Time::HiRes::nanosleep redefined at C:/Strawberry/perl/lib/Time\HiRes.pm line 94.
Subroutine Time::HiRes::sleep redefined at C:/Strawberry/perl/lib/Time\HiRes.pm line 94.
Subroutine Time::HiRes::ualarm redefined at C:/Strawberry/perl/lib/Time\HiRes.pm line 94.
Subroutine Time::HiRes::alarm redefined at C:/Strawberry/perl/lib/Time\HiRes.pm line 94.
Subroutine Time::HiRes::gettimeofday redefined at C:/Strawberry/perl/lib/Time\HiRes.pm line 94.
Subroutine Time::HiRes::time redefined at C:/Strawberry/perl/lib/Time\HiRes.pm line 94.
Subroutine Time::HiRes::utime redefined at C:/Strawberry/perl/lib/Time\HiRes.pm line 94.
Subroutine Time::HiRes::clock_gettime redefined at C:/Strawberry/perl/lib/Time\HiRes.pm line 94.
Subroutine Time::HiRes::clock_getres redefined at C:/Strawberry/perl/lib/Time\HiRes.pm line 94.
Subroutine Time::HiRes::clock_nanosleep redefined at C:/Strawberry/perl/lib/Time\HiRes.pm line 94.
Subroutine Time::HiRes::clock redefined at C:/Strawberry/perl/lib/Time\HiRes.pm line 94.
Subroutine Time::HiRes::lstat redefined at C:/Strawberry/perl/lib/Time\HiRes.pm line 94.
Subroutine Time::HiRes::stat redefined at C:/Strawberry/perl/lib/Time\HiRes.pm line 94.
t/20_resources/10_perl/caller_state.t .............. ok
Subroutine AUTOLOAD redefined at C:/Strawberry/perl/lib/Time\HiRes.pm line 58.
Subroutine import redefined at C:/Strawberry/perl/lib/Time\HiRes.pm line 76.
Subroutine tv_interval redefined at C:/Strawberry/perl/lib/Time\HiRes.pm line 98.
Subroutine Time::HiRes::CLONE redefined at C:/Strawberry/perl/lib/Time\HiRes.pm line 94.
Subroutine Time::HiRes::constant redefined at C:/Strawberry/perl/lib/Time\HiRes.pm line 94.
Subroutine Time::HiRes::usleep redefined at C:/Strawberry/perl/lib/Time\HiRes.pm line 94.
Subroutine Time::HiRes::nanosleep redefined at C:/Strawberry/perl/lib/Time\HiRes.pm line 94.
Subroutine Time::HiRes::sleep redefined at C:/Strawberry/perl/lib/Time\HiRes.pm line 94.
Subroutine Time::HiRes::ualarm redefined at C:/Strawberry/perl/lib/Time\HiRes.pm line 94.
Subroutine Time::HiRes::alarm redefined at C:/Strawberry/perl/lib/Time\HiRes.pm line 94.
Subroutine Time::HiRes::gettimeofday redefined at C:/Strawberry/perl/lib/Time\HiRes.pm line 94.
Subroutine Time::HiRes::time redefined at C:/Strawberry/perl/lib/Time\HiRes.pm line 94.
Subroutine Time::HiRes::utime redefined at C:/Strawberry/perl/lib/Time\HiRes.pm line 94.
Subroutine Time::HiRes::clock_gettime redefined at C:/Strawberry/perl/lib/Time\HiRes.pm line 94.
Subroutine Time::HiRes::clock_getres redefined at C:/Strawberry/perl/lib/Time\HiRes.pm line 94.
Subroutine Time::HiRes::clock_nanosleep redefined at C:/Strawberry/perl/lib/Time\HiRes.pm line 94.
Subroutine Time::HiRes::clock redefined at C:/Strawberry/perl/lib/Time\HiRes.pm line 94.
Subroutine Time::HiRes::lstat redefined at C:/Strawberry/perl/lib/Time\HiRes.pm line 94.
Subroutine Time::HiRes::stat redefined at C:/Strawberry/perl/lib/Time\HiRes.pm line 94.
t/20_resources/10_perl/events.t .................... ok
Subroutine AUTOLOAD redefined at C:/Strawberry/perl/lib/Time\HiRes.pm line 58.
Subroutine import redefined at C:/Strawberry/perl/lib/Time\HiRes.pm line 76.
Subroutine tv_interval redefined at C:/Strawberry/perl/lib/Time\HiRes.pm line 98.
Subroutine Time::HiRes::CLONE redefined at C:/Strawberry/perl/lib/Time\HiRes.pm line 94.
Subroutine Time::HiRes::constant redefined at C:/Strawberry/perl/lib/Time\HiRes.pm line 94.
Subroutine Time::HiRes::usleep redefined at C:/Strawberry/perl/lib/Time\HiRes.pm line 94.
Subroutine Time::HiRes::nanosleep redefined at C:/Strawberry/perl/lib/Time\HiRes.pm line 94.
Subroutine Time::HiRes::sleep redefined at C:/Strawberry/perl/lib/Time\HiRes.pm line 94.
Subroutine Time::HiRes::ualarm redefined at C:/Strawberry/perl/lib/Time\HiRes.pm line 94.
Subroutine Time::HiRes::alarm redefined at C:/Strawberry/perl/lib/Time\HiRes.pm line 94.
Subroutine Time::HiRes::gettimeofday redefined at C:/Strawberry/perl/lib/Time\HiRes.pm line 94.
Subroutine Time::HiRes::time redefined at C:/Strawberry/perl/lib/Time\HiRes.pm line 94.
Subroutine Time::HiRes::utime redefined at C:/Strawberry/perl/lib/Time\HiRes.pm line 94.
Subroutine Time::HiRes::clock_gettime redefined at C:/Strawberry/perl/lib/Time\HiRes.pm line 94.
Subroutine Time::HiRes::clock_getres redefined at C:/Strawberry/perl/lib/Time\HiRes.pm line 94.
Subroutine Time::HiRes::clock_nanosleep redefined at C:/Strawberry/perl/lib/Time\HiRes.pm line 94.
Subroutine Time::HiRes::clock redefined at C:/Strawberry/perl/lib/Time\HiRes.pm line 94.
Subroutine Time::HiRes::lstat redefined at C:/Strawberry/perl/lib/Time\HiRes.pm line 94.
Subroutine Time::HiRes::stat redefined at C:/Strawberry/perl/lib/Time\HiRes.pm line 94.
t/20_resources/10_perl/extrefs.t ................... ok
Subroutine AUTOLOAD redefined at C:/Strawberry/perl/lib/Time\HiRes.pm line 58.
Subroutine import redefined at C:/Strawberry/perl/lib/Time\HiRes.pm line 76.
Subroutine tv_interval redefined at C:/Strawberry/perl/lib/Time\HiRes.pm line 98.
Subroutine Time::HiRes::CLONE redefined at C:/Strawberry/perl/lib/Time\HiRes.pm line 94.
Subroutine Time::HiRes::constant redefined at C:/Strawberry/perl/lib/Time\HiRes.pm line 94.
Subroutine Time::HiRes::usleep redefined at C:/Strawberry/perl/lib/Time\HiRes.pm line 94.
Subroutine Time::HiRes::nanosleep redefined at C:/Strawberry/perl/lib/Time\HiRes.pm line 94.
Subroutine Time::HiRes::sleep redefined at C:/Strawberry/perl/lib/Time\HiRes.pm line 94.
Subroutine Time::HiRes::ualarm redefined at C:/Strawberry/perl/lib/Time\HiRes.pm line 94.
Subroutine Time::HiRes::alarm redefined at C:/Strawberry/perl/lib/Time\HiRes.pm line 94.
Subroutine Time::HiRes::gettimeofday redefined at C:/Strawberry/perl/lib/Time\HiRes.pm line 94.
Subroutine Time::HiRes::time redefined at C:/Strawberry/perl/lib/Time\HiRes.pm line 94.
Subroutine Time::HiRes::utime redefined at C:/Strawberry/perl/lib/Time\HiRes.pm line 94.
Subroutine Time::HiRes::clock_gettime redefined at C:/Strawberry/perl/lib/Time\HiRes.pm line 94.
Subroutine Time::HiRes::clock_getres redefined at C:/Strawberry/perl/lib/Time\HiRes.pm line 94.
Subroutine Time::HiRes::clock_nanosleep redefined at C:/Strawberry/perl/lib/Time\HiRes.pm line 94.
Subroutine Time::HiRes::clock redefined at C:/Strawberry/perl/lib/Time\HiRes.pm line 94.
Subroutine Time::HiRes::lstat redefined at C:/Strawberry/perl/lib/Time\HiRes.pm line 94.
Subroutine Time::HiRes::stat redefined at C:/Strawberry/perl/lib/Time\HiRes.pm line 94.
t/20_resources/10_perl/extrefs_gc.t ................ ok
Subroutine AUTOLOAD redefined at C:/Strawberry/perl/lib/Time\HiRes.pm line 58.
Subroutine import redefined at C:/Strawberry/perl/lib/Time\HiRes.pm line 76.
Subroutine tv_interval redefined at C:/Strawberry/perl/lib/Time\HiRes.pm line 98.
Subroutine Time::HiRes::CLONE redefined at C:/Strawberry/perl/lib/Time\HiRes.pm line 94.
Subroutine Time::HiRes::constant redefined at C:/Strawberry/perl/lib/Time\HiRes.pm line 94.
Subroutine Time::HiRes::usleep redefined at C:/Strawberry/perl/lib/Time\HiRes.pm line 94.
Subroutine Time::HiRes::nanosleep redefined at C:/Strawberry/perl/lib/Time\HiRes.pm line 94.
Subroutine Time::HiRes::sleep redefined at C:/Strawberry/perl/lib/Time\HiRes.pm line 94.
Subroutine Time::HiRes::ualarm redefined at C:/Strawberry/perl/lib/Time\HiRes.pm line 94.
Subroutine Time::HiRes::alarm redefined at C:/Strawberry/perl/lib/Time\HiRes.pm line 94.
Subroutine Time::HiRes::gettimeofday redefined at C:/Strawberry/perl/lib/Time\HiRes.pm line 94.
Subroutine Time::HiRes::time redefined at C:/Strawberry/perl/lib/Time\HiRes.pm line 94.
Subroutine Time::HiRes::utime redefined at C:/Strawberry/perl/lib/Time\HiRes.pm line 94.
Subroutine Time::HiRes::clock_gettime redefined at C:/Strawberry/perl/lib/Time\HiRes.pm line 94.
Subroutine Time::HiRes::clock_getres redefined at C:/Strawberry/perl/lib/Time\HiRes.pm line 94.
Subroutine Time::HiRes::clock_nanosleep redefined at C:/Strawberry/perl/lib/Time\HiRes.pm line 94.
Subroutine Time::HiRes::clock redefined at C:/Strawberry/perl/lib/Time\HiRes.pm line 94.
Subroutine Time::HiRes::lstat redefined at C:/Strawberry/perl/lib/Time\HiRes.pm line 94.
Subroutine Time::HiRes::stat redefined at C:/Strawberry/perl/lib/Time\HiRes.pm line 94.
t/20_resources/10_perl/filehandles.t ............... ok
Subroutine AUTOLOAD redefined at C:/Strawberry/perl/lib/Time\HiRes.pm line 58.
Subroutine import redefined at C:/Strawberry/perl/lib/Time\HiRes.pm line 76.
Subroutine tv_interval redefined at C:/Strawberry/perl/lib/Time\HiRes.pm line 98.
Subroutine Time::HiRes::CLONE redefined at C:/Strawberry/perl/lib/Time\HiRes.pm line 94.
Subroutine Time::HiRes::constant redefined at C:/Strawberry/perl/lib/Time\HiRes.pm line 94.
Subroutine Time::HiRes::usleep redefined at C:/Strawberry/perl/lib/Time\HiRes.pm line 94.
Subroutine Time::HiRes::nanosleep redefined at C:/Strawberry/perl/lib/Time\HiRes.pm line 94.
Subroutine Time::HiRes::sleep redefined at C:/Strawberry/perl/lib/Time\HiRes.pm line 94.
Subroutine Time::HiRes::ualarm redefined at C:/Strawberry/perl/lib/Time\HiRes.pm line 94.
Subroutine Time::HiRes::alarm redefined at C:/Strawberry/perl/lib/Time\HiRes.pm line 94.
Subroutine Time::HiRes::gettimeofday redefined at C:/Strawberry/perl/lib/Time\HiRes.pm line 94.
Subroutine Time::HiRes::time redefined at C:/Strawberry/perl/lib/Time\HiRes.pm line 94.
Subroutine Time::HiRes::utime redefined at C:/Strawberry/perl/lib/Time\HiRes.pm line 94.
Subroutine Time::HiRes::clock_gettime redefined at C:/Strawberry/perl/lib/Time\HiRes.pm line 94.
Subroutine Time::HiRes::clock_getres redefined at C:/Strawberry/perl/lib/Time\HiRes.pm line 94.
Subroutine Time::HiRes::clock_nanosleep redefined at C:/Strawberry/perl/lib/Time\HiRes.pm line 94.
Subroutine Time::HiRes::clock redefined at C:/Strawberry/perl/lib/Time\HiRes.pm line 94.
Subroutine Time::HiRes::lstat redefined at C:/Strawberry/perl/lib/Time\HiRes.pm line 94.
Subroutine Time::HiRes::stat redefined at C:/Strawberry/perl/lib/Time\HiRes.pm line 94.
t/20_resources/10_perl/sessions.t .................. ok
Subroutine AUTOLOAD redefined at C:/Strawberry/perl/lib/Time\HiRes.pm line 58.
Subroutine import redefined at C:/Strawberry/perl/lib/Time\HiRes.pm line 76.
Subroutine tv_interval redefined at C:/Strawberry/perl/lib/Time\HiRes.pm line 98.
Subroutine Time::HiRes::CLONE redefined at C:/Strawberry/perl/lib/Time\HiRes.pm line 94.
Subroutine Time::HiRes::constant redefined at C:/Strawberry/perl/lib/Time\HiRes.pm line 94.
Subroutine Time::HiRes::usleep redefined at C:/Strawberry/perl/lib/Time\HiRes.pm line 94.
Subroutine Time::HiRes::nanosleep redefined at C:/Strawberry/perl/lib/Time\HiRes.pm line 94.
Subroutine Time::HiRes::sleep redefined at C:/Strawberry/perl/lib/Time\HiRes.pm line 94.
Subroutine Time::HiRes::ualarm redefined at C:/Strawberry/perl/lib/Time\HiRes.pm line 94.
Subroutine Time::HiRes::alarm redefined at C:/Strawberry/perl/lib/Time\HiRes.pm line 94.
Subroutine Time::HiRes::gettimeofday redefined at C:/Strawberry/perl/lib/Time\HiRes.pm line 94.
Subroutine Time::HiRes::time redefined at C:/Strawberry/perl/lib/Time\HiRes.pm line 94.
Subroutine Time::HiRes::utime redefined at C:/Strawberry/perl/lib/Time\HiRes.pm line 94.
Subroutine Time::HiRes::clock_gettime redefined at C:/Strawberry/perl/lib/Time\HiRes.pm line 94.
Subroutine Time::HiRes::clock_getres redefined at C:/Strawberry/perl/lib/Time\HiRes.pm line 94.
Subroutine Time::HiRes::clock_nanosleep redefined at C:/Strawberry/perl/lib/Time\HiRes.pm line 94.
Subroutine Time::HiRes::clock redefined at C:/Strawberry/perl/lib/Time\HiRes.pm line 94.
Subroutine Time::HiRes::lstat redefined at C:/Strawberry/perl/lib/Time\HiRes.pm line 94.
Subroutine Time::HiRes::stat redefined at C:/Strawberry/perl/lib/Time\HiRes.pm line 94.
t/20_resources/10_perl/sids.t ...................... ok
Subroutine AUTOLOAD redefined at C:/Strawberry/perl/lib/Time\HiRes.pm line 58.
Subroutine import redefined at C:/Strawberry/perl/lib/Time\HiRes.pm line 76.
Subroutine tv_interval redefined at C:/Strawberry/perl/lib/Time\HiRes.pm line 98.
Subroutine Time::HiRes::CLONE redefined at C:/Strawberry/perl/lib/Time\HiRes.pm line 94.
Subroutine Time::HiRes::constant redefined at C:/Strawberry/perl/lib/Time\HiRes.pm line 94.
Subroutine Time::HiRes::usleep redefined at C:/Strawberry/perl/lib/Time\HiRes.pm line 94.
Subroutine Time::HiRes::nanosleep redefined at C:/Strawberry/perl/lib/Time\HiRes.pm line 94.
Subroutine Time::HiRes::sleep redefined at C:/Strawberry/perl/lib/Time\HiRes.pm line 94.
Subroutine Time::HiRes::ualarm redefined at C:/Strawberry/perl/lib/Time\HiRes.pm line 94.
Subroutine Time::HiRes::alarm redefined at C:/Strawberry/perl/lib/Time\HiRes.pm line 94.
Subroutine Time::HiRes::gettimeofday redefined at C:/Strawberry/perl/lib/Time\HiRes.pm line 94.
Subroutine Time::HiRes::time redefined at C:/Strawberry/perl/lib/Time\HiRes.pm line 94.
Subroutine Time::HiRes::utime redefined at C:/Strawberry/perl/lib/Time\HiRes.pm line 94.
Subroutine Time::HiRes::clock_gettime redefined at C:/Strawberry/perl/lib/Time\HiRes.pm line 94.
Subroutine Time::HiRes::clock_getres redefined at C:/Strawberry/perl/lib/Time\HiRes.pm line 94.
Subroutine Time::HiRes::clock_nanosleep redefined at C:/Strawberry/perl/lib/Time\HiRes.pm line 94.
Subroutine Time::HiRes::clock redefined at C:/Strawberry/perl/lib/Time\HiRes.pm line 94.
Subroutine Time::HiRes::lstat redefined at C:/Strawberry/perl/lib/Time\HiRes.pm line 94.
Subroutine Time::HiRes::stat redefined at C:/Strawberry/perl/lib/Time\HiRes.pm line 94.
t/20_resources/10_perl/signals.t ................... ok
t/30_loops/io_poll/00_info.t ....................... skipped: IO::Poll is not 100% compatible with MSWin32
t/30_loops/io_poll/all_errors.t .................... skipped: IO::Poll is not 100% compatible with MSWin32
t/30_loops/io_poll/comp_tcp.t ...................... skipped: IO::Poll is not 100% compatible with MSWin32
t/30_loops/io_poll/comp_tcp_concurrent.t ........... skipped: IO::Poll is not 100% compatible with MSWin32
t/30_loops/io_poll/connect_errors.t ................ skipped: IO::Poll is not 100% compatible with MSWin32
t/30_loops/io_poll/k_alarms.t ...................... skipped: IO::Poll is not 100% compatible with MSWin32
t/30_loops/io_poll/k_aliases.t ..................... skipped: IO::Poll is not 100% compatible with MSWin32
t/30_loops/io_poll/k_detach.t ...................... skipped: IO::Poll is not 100% compatible with MSWin32
t/30_loops/io_poll/k_run_returns.t ................. skipped: IO::Poll is not 100% compatible with MSWin32
t/30_loops/io_poll/k_selects.t ..................... skipped: IO::Poll is not 100% compatible with MSWin32
t/30_loops/io_poll/k_sig_child.t ................... skipped: IO::Poll is not 100% compatible with MSWin32
t/30_loops/io_poll/k_signals.t ..................... skipped: IO::Poll is not 100% compatible with MSWin32
t/30_loops/io_poll/k_signals_rerun.t ............... skipped: IO::Poll is not 100% compatible with MSWin32
t/30_loops/io_poll/sbk_signal_init.t ............... skipped: IO::Poll is not 100% compatible with MSWin32
t/30_loops/io_poll/ses_nfa.t ....................... skipped: IO::Poll is not 100% compatible with MSWin32
t/30_loops/io_poll/ses_session.t ................... skipped: IO::Poll is not 100% compatible with MSWin32
t/30_loops/io_poll/wheel_accept.t .................. skipped: IO::Poll is not 100% compatible with MSWin32
t/30_loops/io_poll/wheel_curses.t .................. skipped: IO::Poll is not 100% compatible with MSWin32
t/30_loops/io_poll/wheel_readline.t ................ skipped: IO::Poll is not 100% compatible with MSWin32
t/30_loops/io_poll/wheel_readwrite.t ............... skipped: IO::Poll is not 100% compatible with MSWin32
t/30_loops/io_poll/wheel_run.t ..................... skipped: IO::Poll is not 100% compatible with MSWin32
t/30_loops/io_poll/wheel_run_size.t ................ skipped: IO::Poll is not 100% compatible with MSWin32
t/30_loops/io_poll/wheel_sf_ipv6.t ................. skipped: IO::Poll is not 100% compatible with MSWin32
t/30_loops/io_poll/wheel_sf_tcp.t .................. skipped: IO::Poll is not 100% compatible with MSWin32
t/30_loops/io_poll/wheel_sf_udp.t .................. skipped: IO::Poll is not 100% compatible with MSWin32
t/30_loops/io_poll/wheel_sf_unix.t ................. skipped: IO::Poll is not 100% compatible with MSWin32
t/30_loops/io_poll/wheel_tail.t .................... skipped: IO::Poll is not 100% compatible with MSWin32
t/30_loops/io_poll/z_kogman_sig_order.t ............ skipped: IO::Poll is not 100% compatible with MSWin32
t/30_loops/io_poll/z_leolo_wheel_run.t ............. skipped: IO::Poll is not 100% compatible with MSWin32
t/30_loops/io_poll/z_merijn_sigchld_system.t ....... skipped: IO::Poll is not 100% compatible with MSWin32
t/30_loops/io_poll/z_rt39872_sigchld.t ............. skipped: IO::Poll is not 100% compatible with MSWin32
t/30_loops/io_poll/z_rt39872_sigchld_stop.t ........ skipped: IO::Poll is not 100% compatible with MSWin32
t/30_loops/io_poll/z_rt53302_fh_watchers.t ......... skipped: IO::Poll is not 100% compatible with MSWin32
t/30_loops/io_poll/z_rt54319_bazerka_followtail.t .. skipped: IO::Poll is not 100% compatible with MSWin32
t/30_loops/io_poll/z_steinert_signal_integrity.t ... skipped: IO::Poll is not 100% compatible with MSWin32
Subroutine AUTOLOAD redefined at C:/Strawberry/perl/lib/Time\HiRes.pm line 58.
Subroutine import redefined at C:/Strawberry/perl/lib/Time\HiRes.pm line 76.
Subroutine tv_interval redefined at C:/Strawberry/perl/lib/Time\HiRes.pm line 98.
Subroutine Time::HiRes::CLONE redefined at C:/Strawberry/perl/lib/Time\HiRes.pm line 94.
Subroutine Time::HiRes::constant redefined at C:/Strawberry/perl/lib/Time\HiRes.pm line 94.
Subroutine Time::HiRes::usleep redefined at C:/Strawberry/perl/lib/Time\HiRes.pm line 94.
Subroutine Time::HiRes::nanosleep redefined at C:/Strawberry/perl/lib/Time\HiRes.pm line 94.
Subroutine Time::HiRes::sleep redefined at C:/Strawberry/perl/lib/Time\HiRes.pm line 94.
Subroutine Time::HiRes::ualarm redefined at C:/Strawberry/perl/lib/Time\HiRes.pm line 94.
Subroutine Time::HiRes::alarm redefined at C:/Strawberry/perl/lib/Time\HiRes.pm line 94.
Subroutine Time::HiRes::gettimeofday redefined at C:/Strawberry/perl/lib/Time\HiRes.pm line 94.
Subroutine Time::HiRes::time redefined at C:/Strawberry/perl/lib/Time\HiRes.pm line 94.
Subroutine Time::HiRes::utime redefined at C:/Strawberry/perl/lib/Time\HiRes.pm line 94.
Subroutine Time::HiRes::clock_gettime redefined at C:/Strawberry/perl/lib/Time\HiRes.pm line 94.
Subroutine Time::HiRes::clock_getres redefined at C:/Strawberry/perl/lib/Time\HiRes.pm line 94.
Subroutine Time::HiRes::clock_nanosleep redefined at C:/Strawberry/perl/lib/Time\HiRes.pm line 94.
Subroutine Time::HiRes::clock redefined at C:/Strawberry/perl/lib/Time\HiRes.pm line 94.
Subroutine Time::HiRes::lstat redefined at C:/Strawberry/perl/lib/Time\HiRes.pm line 94.
Subroutine Time::HiRes::stat redefined at C:/Strawberry/perl/lib/Time\HiRes.pm line 94.
# Testing POE 1.370, POE::Test::Loops 1.360, Using Loop(POE::Loop::Select), Perl 5.032000, C:\Strawberry\perl\bin\perl.exe on MSWin32
t/30_loops/select/00_info.t ........................ ok
t/30_loops/select/all_errors.t ..................... skipped: most of these should move into other test files
Subroutine AUTOLOAD redefined at C:/Strawberry/perl/lib/Time\HiRes.pm line 58.
Subroutine import redefined at C:/Strawberry/perl/lib/Time\HiRes.pm line 76.
Subroutine tv_interval redefined at C:/Strawberry/perl/lib/Time\HiRes.pm line 98.
Subroutine Time::HiRes::CLONE redefined at C:/Strawberry/perl/lib/Time\HiRes.pm line 94.
Subroutine Time::HiRes::constant redefined at C:/Strawberry/perl/lib/Time\HiRes.pm line 94.
Subroutine Time::HiRes::usleep redefined at C:/Strawberry/perl/lib/Time\HiRes.pm line 94.
Subroutine Time::HiRes::nanosleep redefined at C:/Strawberry/perl/lib/Time\HiRes.pm line 94.
Subroutine Time::HiRes::sleep redefined at C:/Strawberry/perl/lib/Time\HiRes.pm line 94.
Subroutine Time::HiRes::ualarm redefined at C:/Strawberry/perl/lib/Time\HiRes.pm line 94.
Subroutine Time::HiRes::alarm redefined at C:/Strawberry/perl/lib/Time\HiRes.pm line 94.
Subroutine Time::HiRes::gettimeofday redefined at C:/Strawberry/perl/lib/Time\HiRes.pm line 94.
Subroutine Time::HiRes::time redefined at C:/Strawberry/perl/lib/Time\HiRes.pm line 94.
Subroutine Time::HiRes::utime redefined at C:/Strawberry/perl/lib/Time\HiRes.pm line 94.
Subroutine Time::HiRes::clock_gettime redefined at C:/Strawberry/perl/lib/Time\HiRes.pm line 94.
Subroutine Time::HiRes::clock_getres redefined at C:/Strawberry/perl/lib/Time\HiRes.pm line 94.
Subroutine Time::HiRes::clock_nanosleep redefined at C:/Strawberry/perl/lib/Time\HiRes.pm line 94.
Subroutine Time::HiRes::clock redefined at C:/Strawberry/perl/lib/Time\HiRes.pm line 94.
Subroutine Time::HiRes::lstat redefined at C:/Strawberry/perl/lib/Time\HiRes.pm line 94.
Subroutine Time::HiRes::stat redefined at C:/Strawberry/perl/lib/Time\HiRes.pm line 94.
t/30_loops/select/comp_tcp.t ....................... ok
t/30_loops/select/comp_tcp_concurrent.t ............ skipped: Windows sockets aren't as concurrent as those on Unix
Subroutine AUTOLOAD redefined at C:/Strawberry/perl/lib/Time\HiRes.pm line 58.
Subroutine import redefined at C:/Strawberry/perl/lib/Time\HiRes.pm line 76.
Subroutine tv_interval redefined at C:/Strawberry/perl/lib/Time\HiRes.pm line 98.
Subroutine Time::HiRes::CLONE redefined at C:/Strawberry/perl/lib/Time\HiRes.pm line 94.
Subroutine Time::HiRes::constant redefined at C:/Strawberry/perl/lib/Time\HiRes.pm line 94.
Subroutine Time::HiRes::usleep redefined at C:/Strawberry/perl/lib/Time\HiRes.pm line 94.
Subroutine Time::HiRes::nanosleep redefined at C:/Strawberry/perl/lib/Time\HiRes.pm line 94.
Subroutine Time::HiRes::sleep redefined at C:/Strawberry/perl/lib/Time\HiRes.pm line 94.
Subroutine Time::HiRes::ualarm redefined at C:/Strawberry/perl/lib/Time\HiRes.pm line 94.
Subroutine Time::HiRes::alarm redefined at C:/Strawberry/perl/lib/Time\HiRes.pm line 94.
Subroutine Time::HiRes::gettimeofday redefined at C:/Strawberry/perl/lib/Time\HiRes.pm line 94.
Subroutine Time::HiRes::time redefined at C:/Strawberry/perl/lib/Time\HiRes.pm line 94.
Subroutine Time::HiRes::utime redefined at C:/Strawberry/perl/lib/Time\HiRes.pm line 94.
Subroutine Time::HiRes::clock_gettime redefined at C:/Strawberry/perl/lib/Time\HiRes.pm line 94.
Subroutine Time::HiRes::clock_getres redefined at C:/Strawberry/perl/lib/Time\HiRes.pm line 94.
Subroutine Time::HiRes::clock_nanosleep redefined at C:/Strawberry/perl/lib/Time\HiRes.pm line 94.
Subroutine Time::HiRes::clock redefined at C:/Strawberry/perl/lib/Time\HiRes.pm line 94.
Subroutine Time::HiRes::lstat redefined at C:/Strawberry/perl/lib/Time\HiRes.pm line 94.
Subroutine Time::HiRes::stat redefined at C:/Strawberry/perl/lib/Time\HiRes.pm line 94.
t/30_loops/select/connect_errors.t ................. skipped: This test fails for various versions of MSWin32 perl
Subroutine AUTOLOAD redefined at C:/Strawberry/perl/lib/Time\HiRes.pm line 58.
Subroutine import redefined at C:/Strawberry/perl/lib/Time\HiRes.pm line 76.
Subroutine tv_interval redefined at C:/Strawberry/perl/lib/Time\HiRes.pm line 98.
Subroutine Time::HiRes::CLONE redefined at C:/Strawberry/perl/lib/Time\HiRes.pm line 94.
Subroutine Time::HiRes::constant redefined at C:/Strawberry/perl/lib/Time\HiRes.pm line 94.
Subroutine Time::HiRes::usleep redefined at C:/Strawberry/perl/lib/Time\HiRes.pm line 94.
Subroutine Time::HiRes::nanosleep redefined at C:/Strawberry/perl/lib/Time\HiRes.pm line 94.
Subroutine Time::HiRes::sleep redefined at C:/Strawberry/perl/lib/Time\HiRes.pm line 94.
Subroutine Time::HiRes::ualarm redefined at C:/Strawberry/perl/lib/Time\HiRes.pm line 94.
Subroutine Time::HiRes::alarm redefined at C:/Strawberry/perl/lib/Time\HiRes.pm line 94.
Subroutine Time::HiRes::gettimeofday redefined at C:/Strawberry/perl/lib/Time\HiRes.pm line 94.
Subroutine Time::HiRes::time redefined at C:/Strawberry/perl/lib/Time\HiRes.pm line 94.
Subroutine Time::HiRes::utime redefined at C:/Strawberry/perl/lib/Time\HiRes.pm line 94.
Subroutine Time::HiRes::clock_gettime redefined at C:/Strawberry/perl/lib/Time\HiRes.pm line 94.
Subroutine Time::HiRes::clock_getres redefined at C:/Strawberry/perl/lib/Time\HiRes.pm line 94.
Subroutine Time::HiRes::clock_nanosleep redefined at C:/Strawberry/perl/lib/Time\HiRes.pm line 94.
Subroutine Time::HiRes::clock redefined at C:/Strawberry/perl/lib/Time\HiRes.pm line 94.
Subroutine Time::HiRes::lstat redefined at C:/Strawberry/perl/lib/Time\HiRes.pm line 94.
Subroutine Time::HiRes::stat redefined at C:/Strawberry/perl/lib/Time\HiRes.pm line 94.
t/30_loops/select/k_alarms.t ....................... ok
Subroutine AUTOLOAD redefined at C:/Strawberry/perl/lib/Time\HiRes.pm line 58.
Subroutine import redefined at C:/Strawberry/perl/lib/Time\HiRes.pm line 76.
Subroutine tv_interval redefined at C:/Strawberry/perl/lib/Time\HiRes.pm line 98.
Subroutine Time::HiRes::CLONE redefined at C:/Strawberry/perl/lib/Time\HiRes.pm line 94.
Subroutine Time::HiRes::constant redefined at C:/Strawberry/perl/lib/Time\HiRes.pm line 94.
Subroutine Time::HiRes::usleep redefined at C:/Strawberry/perl/lib/Time\HiRes.pm line 94.
Subroutine Time::HiRes::nanosleep redefined at C:/Strawberry/perl/lib/Time\HiRes.pm line 94.
Subroutine Time::HiRes::sleep redefined at C:/Strawberry/perl/lib/Time\HiRes.pm line 94.
Subroutine Time::HiRes::ualarm redefined at C:/Strawberry/perl/lib/Time\HiRes.pm line 94.
Subroutine Time::HiRes::alarm redefined at C:/Strawberry/perl/lib/Time\HiRes.pm line 94.
Subroutine Time::HiRes::gettimeofday redefined at C:/Strawberry/perl/lib/Time\HiRes.pm line 94.
Subroutine Time::HiRes::time redefined at C:/Strawberry/perl/lib/Time\HiRes.pm line 94.
Subroutine Time::HiRes::utime redefined at C:/Strawberry/perl/lib/Time\HiRes.pm line 94.
Subroutine Time::HiRes::clock_gettime redefined at C:/Strawberry/perl/lib/Time\HiRes.pm line 94.
Subroutine Time::HiRes::clock_getres redefined at C:/Strawberry/perl/lib/Time\HiRes.pm line 94.
Subroutine Time::HiRes::clock_nanosleep redefined at C:/Strawberry/perl/lib/Time\HiRes.pm line 94.
Subroutine Time::HiRes::clock redefined at C:/Strawberry/perl/lib/Time\HiRes.pm line 94.
Subroutine Time::HiRes::lstat redefined at C:/Strawberry/perl/lib/Time\HiRes.pm line 94.
Subroutine Time::HiRes::stat redefined at C:/Strawberry/perl/lib/Time\HiRes.pm line 94.
t/30_loops/select/k_aliases.t ...................... ok
Subroutine AUTOLOAD redefined at C:/Strawberry/perl/lib/Time\HiRes.pm line 58.
Subroutine import redefined at C:/Strawberry/perl/lib/Time\HiRes.pm line 76.
Subroutine tv_interval redefined at C:/Strawberry/perl/lib/Time\HiRes.pm line 98.
Subroutine Time::HiRes::CLONE redefined at C:/Strawberry/perl/lib/Time\HiRes.pm line 94.
Subroutine Time::HiRes::constant redefined at C:/Strawberry/perl/lib/Time\HiRes.pm line 94.
Subroutine Time::HiRes::usleep redefined at C:/Strawberry/perl/lib/Time\HiRes.pm line 94.
Subroutine Time::HiRes::nanosleep redefined at C:/Strawberry/perl/lib/Time\HiRes.pm line 94.
Subroutine Time::HiRes::sleep redefined at C:/Strawberry/perl/lib/Time\HiRes.pm line 94.
Subroutine Time::HiRes::ualarm redefined at C:/Strawberry/perl/lib/Time\HiRes.pm line 94.
Subroutine Time::HiRes::alarm redefined at C:/Strawberry/perl/lib/Time\HiRes.pm line 94.
Subroutine Time::HiRes::gettimeofday redefined at C:/Strawberry/perl/lib/Time\HiRes.pm line 94.
Subroutine Time::HiRes::time redefined at C:/Strawberry/perl/lib/Time\HiRes.pm line 94.
Subroutine Time::HiRes::utime redefined at C:/Strawberry/perl/lib/Time\HiRes.pm line 94.
Subroutine Time::HiRes::clock_gettime redefined at C:/Strawberry/perl/lib/Time\HiRes.pm line 94.
Subroutine Time::HiRes::clock_getres redefined at C:/Strawberry/perl/lib/Time\HiRes.pm line 94.
Subroutine Time::HiRes::clock_nanosleep redefined at C:/Strawberry/perl/lib/Time\HiRes.pm line 94.
Subroutine Time::HiRes::clock redefined at C:/Strawberry/perl/lib/Time\HiRes.pm line 94.
Subroutine Time::HiRes::lstat redefined at C:/Strawberry/perl/lib/Time\HiRes.pm line 94.
Subroutine Time::HiRes::stat redefined at C:/Strawberry/perl/lib/Time\HiRes.pm line 94.
t/30_loops/select/k_detach.t ....................... ok
Subroutine AUTOLOAD redefined at C:/Strawberry/perl/lib/Time\HiRes.pm line 58.
Subroutine import redefined at C:/Strawberry/perl/lib/Time\HiRes.pm line 76.
Subroutine tv_interval redefined at C:/Strawberry/perl/lib/Time\HiRes.pm line 98.
Subroutine Time::HiRes::CLONE redefined at C:/Strawberry/perl/lib/Time\HiRes.pm line 94.
Subroutine Time::HiRes::constant redefined at C:/Strawberry/perl/lib/Time\HiRes.pm line 94.
Subroutine Time::HiRes::usleep redefined at C:/Strawberry/perl/lib/Time\HiRes.pm line 94.
Subroutine Time::HiRes::nanosleep redefined at C:/Strawberry/perl/lib/Time\HiRes.pm line 94.
Subroutine Time::HiRes::sleep redefined at C:/Strawberry/perl/lib/Time\HiRes.pm line 94.
Subroutine Time::HiRes::ualarm redefined at C:/Strawberry/perl/lib/Time\HiRes.pm line 94.
Subroutine Time::HiRes::alarm redefined at C:/Strawberry/perl/lib/Time\HiRes.pm line 94.
Subroutine Time::HiRes::gettimeofday redefined at C:/Strawberry/perl/lib/Time\HiRes.pm line 94.
Subroutine Time::HiRes::time redefined at C:/Strawberry/perl/lib/Time\HiRes.pm line 94.
Subroutine Time::HiRes::utime redefined at C:/Strawberry/perl/lib/Time\HiRes.pm line 94.
Subroutine Time::HiRes::clock_gettime redefined at C:/Strawberry/perl/lib/Time\HiRes.pm line 94.
Subroutine Time::HiRes::clock_getres redefined at C:/Strawberry/perl/lib/Time\HiRes.pm line 94.
Subroutine Time::HiRes::clock_nanosleep redefined at C:/Strawberry/perl/lib/Time\HiRes.pm line 94.
Subroutine Time::HiRes::clock redefined at C:/Strawberry/perl/lib/Time\HiRes.pm line 94.
Subroutine Time::HiRes::lstat redefined at C:/Strawberry/perl/lib/Time\HiRes.pm line 94.
Subroutine Time::HiRes::stat redefined at C:/Strawberry/perl/lib/Time\HiRes.pm line 94.
t/30_loops/select/k_run_returns.t .................. ok
Subroutine AUTOLOAD redefined at C:/Strawberry/perl/lib/Time\HiRes.pm line 58.
Subroutine import redefined at C:/Strawberry/perl/lib/Time\HiRes.pm line 76.
Subroutine tv_interval redefined at C:/Strawberry/perl/lib/Time\HiRes.pm line 98.
Subroutine Time::HiRes::CLONE redefined at C:/Strawberry/perl/lib/Time\HiRes.pm line 94.
Subroutine Time::HiRes::constant redefined at C:/Strawberry/perl/lib/Time\HiRes.pm line 94.
Subroutine Time::HiRes::usleep redefined at C:/Strawberry/perl/lib/Time\HiRes.pm line 94.
Subroutine Time::HiRes::nanosleep redefined at C:/Strawberry/perl/lib/Time\HiRes.pm line 94.
Subroutine Time::HiRes::sleep redefined at C:/Strawberry/perl/lib/Time\HiRes.pm line 94.
Subroutine Time::HiRes::ualarm redefined at C:/Strawberry/perl/lib/Time\HiRes.pm line 94.
Subroutine Time::HiRes::alarm redefined at C:/Strawberry/perl/lib/Time\HiRes.pm line 94.
Subroutine Time::HiRes::gettimeofday redefined at C:/Strawberry/perl/lib/Time\HiRes.pm line 94.
Subroutine Time::HiRes::time redefined at C:/Strawberry/perl/lib/Time\HiRes.pm line 94.
Subroutine Time::HiRes::utime redefined at C:/Strawberry/perl/lib/Time\HiRes.pm line 94.
Subroutine Time::HiRes::clock_gettime redefined at C:/Strawberry/perl/lib/Time\HiRes.pm line 94.
Subroutine Time::HiRes::clock_getres redefined at C:/Strawberry/perl/lib/Time\HiRes.pm line 94.
Subroutine Time::HiRes::clock_nanosleep redefined at C:/Strawberry/perl/lib/Time\HiRes.pm line 94.
Subroutine Time::HiRes::clock redefined at C:/Strawberry/perl/lib/Time\HiRes.pm line 94.
Subroutine Time::HiRes::lstat redefined at C:/Strawberry/perl/lib/Time\HiRes.pm line 94.
Subroutine Time::HiRes::stat redefined at C:/Strawberry/perl/lib/Time\HiRes.pm line 94.
t/30_loops/select/k_selects.t ...................... ok
t/30_loops/select/k_sig_child.t .................... skipped: MSWin32 does not support signals
t/30_loops/select/k_signals.t ...................... skipped: MSWin32 does not support signals
Subroutine AUTOLOAD redefined at C:/Strawberry/perl/lib/Time\HiRes.pm line 58.
Subroutine import redefined at C:/Strawberry/perl/lib/Time\HiRes.pm line 76.
Subroutine tv_interval redefined at C:/Strawberry/perl/lib/Time\HiRes.pm line 98.
Subroutine Time::HiRes::CLONE redefined at C:/Strawberry/perl/lib/Time\HiRes.pm line 94.
Subroutine Time::HiRes::constant redefined at C:/Strawberry/perl/lib/Time\HiRes.pm line 94.
Subroutine Time::HiRes::usleep redefined at C:/Strawberry/perl/lib/Time\HiRes.pm line 94.
Subroutine Time::HiRes::nanosleep redefined at C:/Strawberry/perl/lib/Time\HiRes.pm line 94.
Subroutine Time::HiRes::sleep redefined at C:/Strawberry/perl/lib/Time\HiRes.pm line 94.
Subroutine Time::HiRes::ualarm redefined at C:/Strawberry/perl/lib/Time\HiRes.pm line 94.
Subroutine Time::HiRes::alarm redefined at C:/Strawberry/perl/lib/Time\HiRes.pm line 94.
Subroutine Time::HiRes::gettimeofday redefined at C:/Strawberry/perl/lib/Time\HiRes.pm line 94.
Subroutine Time::HiRes::time redefined at C:/Strawberry/perl/lib/Time\HiRes.pm line 94.
Subroutine Time::HiRes::utime redefined at C:/Strawberry/perl/lib/Time\HiRes.pm line 94.
Subroutine Time::HiRes::clock_gettime redefined at C:/Strawberry/perl/lib/Time\HiRes.pm line 94.
Subroutine Time::HiRes::clock_getres redefined at C:/Strawberry/perl/lib/Time\HiRes.pm line 94.
Subroutine Time::HiRes::clock_nanosleep redefined at C:/Strawberry/perl/lib/Time\HiRes.pm line 94.
Subroutine Time::HiRes::clock redefined at C:/Strawberry/perl/lib/Time\HiRes.pm line 94.
Subroutine Time::HiRes::lstat redefined at C:/Strawberry/perl/lib/Time\HiRes.pm line 94.
Subroutine Time::HiRes::stat redefined at C:/Strawberry/perl/lib/Time\HiRes.pm line 94.
t/30_loops/select/k_signals_rerun.t ................ skipped: Perl on MSWin32 is too fragile for this test - it crashes
Subroutine AUTOLOAD redefined at C:/Strawberry/perl/lib/Time\HiRes.pm line 58.
Subroutine import redefined at C:/Strawberry/perl/lib/Time\HiRes.pm line 76.
Subroutine tv_interval redefined at C:/Strawberry/perl/lib/Time\HiRes.pm line 98.
Subroutine Time::HiRes::CLONE redefined at C:/Strawberry/perl/lib/Time\HiRes.pm line 94.
Subroutine Time::HiRes::constant redefined at C:/Strawberry/perl/lib/Time\HiRes.pm line 94.
Subroutine Time::HiRes::usleep redefined at C:/Strawberry/perl/lib/Time\HiRes.pm line 94.
Subroutine Time::HiRes::nanosleep redefined at C:/Strawberry/perl/lib/Time\HiRes.pm line 94.
Subroutine Time::HiRes::sleep redefined at C:/Strawberry/perl/lib/Time\HiRes.pm line 94.
Subroutine Time::HiRes::ualarm redefined at C:/Strawberry/perl/lib/Time\HiRes.pm line 94.
Subroutine Time::HiRes::alarm redefined at C:/Strawberry/perl/lib/Time\HiRes.pm line 94.
Subroutine Time::HiRes::gettimeofday redefined at C:/Strawberry/perl/lib/Time\HiRes.pm line 94.
Subroutine Time::HiRes::time redefined at C:/Strawberry/perl/lib/Time\HiRes.pm line 94.
Subroutine Time::HiRes::utime redefined at C:/Strawberry/perl/lib/Time\HiRes.pm line 94.
Subroutine Time::HiRes::clock_gettime redefined at C:/Strawberry/perl/lib/Time\HiRes.pm line 94.
Subroutine Time::HiRes::clock_getres redefined at C:/Strawberry/perl/lib/Time\HiRes.pm line 94.
Subroutine Time::HiRes::clock_nanosleep redefined at C:/Strawberry/perl/lib/Time\HiRes.pm line 94.
Subroutine Time::HiRes::clock redefined at C:/Strawberry/perl/lib/Time\HiRes.pm line 94.
Subroutine Time::HiRes::lstat redefined at C:/Strawberry/perl/lib/Time\HiRes.pm line 94.
Subroutine Time::HiRes::stat redefined at C:/Strawberry/perl/lib/Time\HiRes.pm line 94.
t/30_loops/select/sbk_signal_init.t ................ ok
Subroutine AUTOLOAD redefined at C:/Strawberry/perl/lib/Time\HiRes.pm line 58.
Subroutine import redefined at C:/Strawberry/perl/lib/Time\HiRes.pm line 76.
Subroutine tv_interval redefined at C:/Strawberry/perl/lib/Time\HiRes.pm line 98.
Subroutine Time::HiRes::CLONE redefined at C:/Strawberry/perl/lib/Time\HiRes.pm line 94.
Subroutine Time::HiRes::constant redefined at C:/Strawberry/perl/lib/Time\HiRes.pm line 94.
Subroutine Time::HiRes::usleep redefined at C:/Strawberry/perl/lib/Time\HiRes.pm line 94.
Subroutine Time::HiRes::nanosleep redefined at C:/Strawberry/perl/lib/Time\HiRes.pm line 94.
Subroutine Time::HiRes::sleep redefined at C:/Strawberry/perl/lib/Time\HiRes.pm line 94.
Subroutine Time::HiRes::ualarm redefined at C:/Strawberry/perl/lib/Time\HiRes.pm line 94.
Subroutine Time::HiRes::alarm redefined at C:/Strawberry/perl/lib/Time\HiRes.pm line 94.
Subroutine Time::HiRes::gettimeofday redefined at C:/Strawberry/perl/lib/Time\HiRes.pm line 94.
Subroutine Time::HiRes::time redefined at C:/Strawberry/perl/lib/Time\HiRes.pm line 94.
Subroutine Time::HiRes::utime redefined at C:/Strawberry/perl/lib/Time\HiRes.pm line 94.
Subroutine Time::HiRes::clock_gettime redefined at C:/Strawberry/perl/lib/Time\HiRes.pm line 94.
Subroutine Time::HiRes::clock_getres redefined at C:/Strawberry/perl/lib/Time\HiRes.pm line 94.
Subroutine Time::HiRes::clock_nanosleep redefined at C:/Strawberry/perl/lib/Time\HiRes.pm line 94.
Subroutine Time::HiRes::clock redefined at C:/Strawberry/perl/lib/Time\HiRes.pm line 94.
Subroutine Time::HiRes::lstat redefined at C:/Strawberry/perl/lib/Time\HiRes.pm line 94.
Subroutine Time::HiRes::stat redefined at C:/Strawberry/perl/lib/Time\HiRes.pm line 94.
t/30_loops/select/ses_nfa.t ........................ ok
Subroutine AUTOLOAD redefined at C:/Strawberry/perl/lib/Time\HiRes.pm line 58.
Subroutine import redefined at C:/Strawberry/perl/lib/Time\HiRes.pm line 76.
Subroutine tv_interval redefined at C:/Strawberry/perl/lib/Time\HiRes.pm line 98.
Subroutine Time::HiRes::CLONE redefined at C:/Strawberry/perl/lib/Time\HiRes.pm line 94.
Subroutine Time::HiRes::constant redefined at C:/Strawberry/perl/lib/Time\HiRes.pm line 94.
Subroutine Time::HiRes::usleep redefined at C:/Strawberry/perl/lib/Time\HiRes.pm line 94.
Subroutine Time::HiRes::nanosleep redefined at C:/Strawberry/perl/lib/Time\HiRes.pm line 94.
Subroutine Time::HiRes::sleep redefined at C:/Strawberry/perl/lib/Time\HiRes.pm line 94.
Subroutine Time::HiRes::ualarm redefined at C:/Strawberry/perl/lib/Time\HiRes.pm line 94.
Subroutine Time::HiRes::alarm redefined at C:/Strawberry/perl/lib/Time\HiRes.pm line 94.
Subroutine Time::HiRes::gettimeofday redefined at C:/Strawberry/perl/lib/Time\HiRes.pm line 94.
Subroutine Time::HiRes::time redefined at C:/Strawberry/perl/lib/Time\HiRes.pm line 94.
Subroutine Time::HiRes::utime redefined at C:/Strawberry/perl/lib/Time\HiRes.pm line 94.
Subroutine Time::HiRes::clock_gettime redefined at C:/Strawberry/perl/lib/Time\HiRes.pm line 94.
Subroutine Time::HiRes::clock_getres redefined at C:/Strawberry/perl/lib/Time\HiRes.pm line 94.
Subroutine Time::HiRes::clock_nanosleep redefined at C:/Strawberry/perl/lib/Time\HiRes.pm line 94.
Subroutine Time::HiRes::clock redefined at C:/Strawberry/perl/lib/Time\HiRes.pm line 94.
Subroutine Time::HiRes::lstat redefined at C:/Strawberry/perl/lib/Time\HiRes.pm line 94.
Subroutine Time::HiRes::stat redefined at C:/Strawberry/perl/lib/Time\HiRes.pm line 94.
# This test generates some STDERR during trace testing.
=== 1592 === 23 -> _start (from C:\Strawberry\cpan\build\POE-1.370-0\blib\lib/POE/Kernel.pm at 1498)
=== 1592 === 23 -> woot (from C:\home\sunnyday\perl5\lib\perl5\POE\Test\Loops/ses_session.pm at 691)
=== 1592 === 23 -> narf (from C:\home\sunnyday\perl5\lib\perl5\POE\Test\Loops/ses_session.pm at 692)
=== 1592 === 23 -> _stop (from C:\Strawberry\cpan\build\POE-1.370-0\blib\lib/POE/Resource/Sessions.pm at 571)
t/30_loops/select/ses_session.t .................... ok
Subroutine AUTOLOAD redefined at C:/Strawberry/perl/lib/Time\HiRes.pm line 58.
Subroutine import redefined at C:/Strawberry/perl/lib/Time\HiRes.pm line 76.
Subroutine tv_interval redefined at C:/Strawberry/perl/lib/Time\HiRes.pm line 98.
Subroutine Time::HiRes::CLONE redefined at C:/Strawberry/perl/lib/Time\HiRes.pm line 94.
Subroutine Time::HiRes::constant redefined at C:/Strawberry/perl/lib/Time\HiRes.pm line 94.
Subroutine Time::HiRes::usleep redefined at C:/Strawberry/perl/lib/Time\HiRes.pm line 94.
Subroutine Time::HiRes::nanosleep redefined at C:/Strawberry/perl/lib/Time\HiRes.pm line 94.
Subroutine Time::HiRes::sleep redefined at C:/Strawberry/perl/lib/Time\HiRes.pm line 94.
Subroutine Time::HiRes::ualarm redefined at C:/Strawberry/perl/lib/Time\HiRes.pm line 94.
Subroutine Time::HiRes::alarm redefined at C:/Strawberry/perl/lib/Time\HiRes.pm line 94.
Subroutine Time::HiRes::gettimeofday redefined at C:/Strawberry/perl/lib/Time\HiRes.pm line 94.
Subroutine Time::HiRes::time redefined at C:/Strawberry/perl/lib/Time\HiRes.pm line 94.
Subroutine Time::HiRes::utime redefined at C:/Strawberry/perl/lib/Time\HiRes.pm line 94.
Subroutine Time::HiRes::clock_gettime redefined at C:/Strawberry/perl/lib/Time\HiRes.pm line 94.
Subroutine Time::HiRes::clock_getres redefined at C:/Strawberry/perl/lib/Time\HiRes.pm line 94.
Subroutine Time::HiRes::clock_nanosleep redefined at C:/Strawberry/perl/lib/Time\HiRes.pm line 94.
Subroutine Time::HiRes::clock redefined at C:/Strawberry/perl/lib/Time\HiRes.pm line 94.
Subroutine Time::HiRes::lstat redefined at C:/Strawberry/perl/lib/Time\HiRes.pm line 94.
Subroutine Time::HiRes::stat redefined at C:/Strawberry/perl/lib/Time\HiRes.pm line 94.
t/30_loops/select/wheel_accept.t ................... ok
t/30_loops/select/wheel_curses.t ................... skipped: Can't multiplex consoles in MSWin32
t/30_loops/select/wheel_readline.t ................. skipped: MSWin32 cannot multiplex terminals
Subroutine AUTOLOAD redefined at C:/Strawberry/perl/lib/Time\HiRes.pm line 58.
Subroutine import redefined at C:/Strawberry/perl/lib/Time\HiRes.pm line 76.
Subroutine tv_interval redefined at C:/Strawberry/perl/lib/Time\HiRes.pm line 98.
Subroutine Time::HiRes::CLONE redefined at C:/Strawberry/perl/lib/Time\HiRes.pm line 94.
Subroutine Time::HiRes::constant redefined at C:/Strawberry/perl/lib/Time\HiRes.pm line 94.
Subroutine Time::HiRes::usleep redefined at C:/Strawberry/perl/lib/Time\HiRes.pm line 94.
Subroutine Time::HiRes::nanosleep redefined at C:/Strawberry/perl/lib/Time\HiRes.pm line 94.
Subroutine Time::HiRes::sleep redefined at C:/Strawberry/perl/lib/Time\HiRes.pm line 94.
Subroutine Time::HiRes::ualarm redefined at C:/Strawberry/perl/lib/Time\HiRes.pm line 94.
Subroutine Time::HiRes::alarm redefined at C:/Strawberry/perl/lib/Time\HiRes.pm line 94.
Subroutine Time::HiRes::gettimeofday redefined at C:/Strawberry/perl/lib/Time\HiRes.pm line 94.
Subroutine Time::HiRes::time redefined at C:/Strawberry/perl/lib/Time\HiRes.pm line 94.
Subroutine Time::HiRes::utime redefined at C:/Strawberry/perl/lib/Time\HiRes.pm line 94.
Subroutine Time::HiRes::clock_gettime redefined at C:/Strawberry/perl/lib/Time\HiRes.pm line 94.
Subroutine Time::HiRes::clock_getres redefined at C:/Strawberry/perl/lib/Time\HiRes.pm line 94.
Subroutine Time::HiRes::clock_nanosleep redefined at C:/Strawberry/perl/lib/Time\HiRes.pm line 94.
Subroutine Time::HiRes::clock redefined at C:/Strawberry/perl/lib/Time\HiRes.pm line 94.
Subroutine Time::HiRes::lstat redefined at C:/Strawberry/perl/lib/Time\HiRes.pm line 94.
Subroutine Time::HiRes::stat redefined at C:/Strawberry/perl/lib/Time\HiRes.pm line 94.
t/30_loops/select/wheel_readwrite.t ................ ok
t/30_loops/select/wheel_run.t ...................... skipped: Signal handling on MSWin32 is too fragile - Perl crashes
Subroutine AUTOLOAD redefined at C:/Strawberry/perl/lib/Time\HiRes.pm line 58.
Subroutine import redefined at C:/Strawberry/perl/lib/Time\HiRes.pm line 76.
Subroutine tv_interval redefined at C:/Strawberry/perl/lib/Time\HiRes.pm line 98.
Subroutine Time::HiRes::CLONE redefined at C:/Strawberry/perl/lib/Time\HiRes.pm line 94.
Subroutine Time::HiRes::constant redefined at C:/Strawberry/perl/lib/Time\HiRes.pm line 94.
Subroutine Time::HiRes::usleep redefined at C:/Strawberry/perl/lib/Time\HiRes.pm line 94.
Subroutine Time::HiRes::nanosleep redefined at C:/Strawberry/perl/lib/Time\HiRes.pm line 94.
Subroutine Time::HiRes::sleep redefined at C:/Strawberry/perl/lib/Time\HiRes.pm line 94.
Subroutine Time::HiRes::ualarm redefined at C:/Strawberry/perl/lib/Time\HiRes.pm line 94.
Subroutine Time::HiRes::alarm redefined at C:/Strawberry/perl/lib/Time\HiRes.pm line 94.
Subroutine Time::HiRes::gettimeofday redefined at C:/Strawberry/perl/lib/Time\HiRes.pm line 94.
Subroutine Time::HiRes::time redefined at C:/Strawberry/perl/lib/Time\HiRes.pm line 94.
Subroutine Time::HiRes::utime redefined at C:/Strawberry/perl/lib/Time\HiRes.pm line 94.
Subroutine Time::HiRes::clock_gettime redefined at C:/Strawberry/perl/lib/Time\HiRes.pm line 94.
Subroutine Time::HiRes::clock_getres redefined at C:/Strawberry/perl/lib/Time\HiRes.pm line 94.
Subroutine Time::HiRes::clock_nanosleep redefined at C:/Strawberry/perl/lib/Time\HiRes.pm line 94.
Subroutine Time::HiRes::clock redefined at C:/Strawberry/perl/lib/Time\HiRes.pm line 94.
Subroutine Time::HiRes::lstat redefined at C:/Strawberry/perl/lib/Time\HiRes.pm line 94.
Subroutine Time::HiRes::stat redefined at C:/Strawberry/perl/lib/Time\HiRes.pm line 94.
t/30_loops/select/wheel_run_size.t ................. skipped: This test requires Term::Size
t/30_loops/select/wheel_sf_ipv6.t .................. skipped: Socket::GetAddrInfo is needed for IPv6 tests
Subroutine AUTOLOAD redefined at C:/Strawberry/perl/lib/Time\HiRes.pm line 58.
Subroutine import redefined at C:/Strawberry/perl/lib/Time\HiRes.pm line 76.
Subroutine tv_interval redefined at C:/Strawberry/perl/lib/Time\HiRes.pm line 98.
Subroutine Time::HiRes::CLONE redefined at C:/Strawberry/perl/lib/Time\HiRes.pm line 94.
Subroutine Time::HiRes::constant redefined at C:/Strawberry/perl/lib/Time\HiRes.pm line 94.
Subroutine Time::HiRes::usleep redefined at C:/Strawberry/perl/lib/Time\HiRes.pm line 94.
Subroutine Time::HiRes::nanosleep redefined at C:/Strawberry/perl/lib/Time\HiRes.pm line 94.
Subroutine Time::HiRes::sleep redefined at C:/Strawberry/perl/lib/Time\HiRes.pm line 94.
Subroutine Time::HiRes::ualarm redefined at C:/Strawberry/perl/lib/Time\HiRes.pm line 94.
Subroutine Time::HiRes::alarm redefined at C:/Strawberry/perl/lib/Time\HiRes.pm line 94.
Subroutine Time::HiRes::gettimeofday redefined at C:/Strawberry/perl/lib/Time\HiRes.pm line 94.
Subroutine Time::HiRes::time redefined at C:/Strawberry/perl/lib/Time\HiRes.pm line 94.
Subroutine Time::HiRes::utime redefined at C:/Strawberry/perl/lib/Time\HiRes.pm line 94.
Subroutine Time::HiRes::clock_gettime redefined at C:/Strawberry/perl/lib/Time\HiRes.pm line 94.
Subroutine Time::HiRes::clock_getres redefined at C:/Strawberry/perl/lib/Time\HiRes.pm line 94.
Subroutine Time::HiRes::clock_nanosleep redefined at C:/Strawberry/perl/lib/Time\HiRes.pm line 94.
Subroutine Time::HiRes::clock redefined at C:/Strawberry/perl/lib/Time\HiRes.pm line 94.
Subroutine Time::HiRes::lstat redefined at C:/Strawberry/perl/lib/Time\HiRes.pm line 94.
Subroutine Time::HiRes::stat redefined at C:/Strawberry/perl/lib/Time\HiRes.pm line 94.
t/30_loops/select/wheel_sf_tcp.t ................... ok
Subroutine AUTOLOAD redefined at C:/Strawberry/perl/lib/Time\HiRes.pm line 58.
Subroutine import redefined at C:/Strawberry/perl/lib/Time\HiRes.pm line 76.
Subroutine tv_interval redefined at C:/Strawberry/perl/lib/Time\HiRes.pm line 98.
Subroutine Time::HiRes::CLONE redefined at C:/Strawberry/perl/lib/Time\HiRes.pm line 94.
Subroutine Time::HiRes::constant redefined at C:/Strawberry/perl/lib/Time\HiRes.pm line 94.
Subroutine Time::HiRes::usleep redefined at C:/Strawberry/perl/lib/Time\HiRes.pm line 94.
Subroutine Time::HiRes::nanosleep redefined at C:/Strawberry/perl/lib/Time\HiRes.pm line 94.
Subroutine Time::HiRes::sleep redefined at C:/Strawberry/perl/lib/Time\HiRes.pm line 94.
Subroutine Time::HiRes::ualarm redefined at C:/Strawberry/perl/lib/Time\HiRes.pm line 94.
Subroutine Time::HiRes::alarm redefined at C:/Strawberry/perl/lib/Time\HiRes.pm line 94.
Subroutine Time::HiRes::gettimeofday redefined at C:/Strawberry/perl/lib/Time\HiRes.pm line 94.
Subroutine Time::HiRes::time redefined at C:/Strawberry/perl/lib/Time\HiRes.pm line 94.
Subroutine Time::HiRes::utime redefined at C:/Strawberry/perl/lib/Time\HiRes.pm line 94.
Subroutine Time::HiRes::clock_gettime redefined at C:/Strawberry/perl/lib/Time\HiRes.pm line 94.
Subroutine Time::HiRes::clock_getres redefined at C:/Strawberry/perl/lib/Time\HiRes.pm line 94.
Subroutine Time::HiRes::clock_nanosleep redefined at C:/Strawberry/perl/lib/Time\HiRes.pm line 94.
Subroutine Time::HiRes::clock redefined at C:/Strawberry/perl/lib/Time\HiRes.pm line 94.
Subroutine Time::HiRes::lstat redefined at C:/Strawberry/perl/lib/Time\HiRes.pm line 94.
Subroutine Time::HiRes::stat redefined at C:/Strawberry/perl/lib/Time\HiRes.pm line 94.
t/30_loops/select/wheel_sf_udp.t ................... ok
t/30_loops/select/wheel_sf_unix.t .................. skipped: MSWin32 does not support UNIX sockets
Subroutine AUTOLOAD redefined at C:/Strawberry/perl/lib/Time\HiRes.pm line 58.
Subroutine import redefined at C:/Strawberry/perl/lib/Time\HiRes.pm line 76.
Subroutine tv_interval redefined at C:/Strawberry/perl/lib/Time\HiRes.pm line 98.
Subroutine Time::HiRes::CLONE redefined at C:/Strawberry/perl/lib/Time\HiRes.pm line 94.
Subroutine Time::HiRes::constant redefined at C:/Strawberry/perl/lib/Time\HiRes.pm line 94.
Subroutine Time::HiRes::usleep redefined at C:/Strawberry/perl/lib/Time\HiRes.pm line 94.
Subroutine Time::HiRes::nanosleep redefined at C:/Strawberry/perl/lib/Time\HiRes.pm line 94.
Subroutine Time::HiRes::sleep redefined at C:/Strawberry/perl/lib/Time\HiRes.pm line 94.
Subroutine Time::HiRes::ualarm redefined at C:/Strawberry/perl/lib/Time\HiRes.pm line 94.
Subroutine Time::HiRes::alarm redefined at C:/Strawberry/perl/lib/Time\HiRes.pm line 94.
Subroutine Time::HiRes::gettimeofday redefined at C:/Strawberry/perl/lib/Time\HiRes.pm line 94.
Subroutine Time::HiRes::time redefined at C:/Strawberry/perl/lib/Time\HiRes.pm line 94.
Subroutine Time::HiRes::utime redefined at C:/Strawberry/perl/lib/Time\HiRes.pm line 94.
Subroutine Time::HiRes::clock_gettime redefined at C:/Strawberry/perl/lib/Time\HiRes.pm line 94.
Subroutine Time::HiRes::clock_getres redefined at C:/Strawberry/perl/lib/Time\HiRes.pm line 94.
Subroutine Time::HiRes::clock_nanosleep redefined at C:/Strawberry/perl/lib/Time\HiRes.pm line 94.
Subroutine Time::HiRes::clock redefined at C:/Strawberry/perl/lib/Time\HiRes.pm line 94.
Subroutine Time::HiRes::lstat redefined at C:/Strawberry/perl/lib/Time\HiRes.pm line 94.
Subroutine Time::HiRes::stat redefined at C:/Strawberry/perl/lib/Time\HiRes.pm line 94.
t/30_loops/select/wheel_tail.t ..................... ok
Subroutine AUTOLOAD redefined at C:/Strawberry/perl/lib/Time\HiRes.pm line 58.
Subroutine import redefined at C:/Strawberry/perl/lib/Time\HiRes.pm line 76.
Subroutine tv_interval redefined at C:/Strawberry/perl/lib/Time\HiRes.pm line 98.
Subroutine Time::HiRes::CLONE redefined at C:/Strawberry/perl/lib/Time\HiRes.pm line 94.
Subroutine Time::HiRes::constant redefined at C:/Strawberry/perl/lib/Time\HiRes.pm line 94.
Subroutine Time::HiRes::usleep redefined at C:/Strawberry/perl/lib/Time\HiRes.pm line 94.
Subroutine Time::HiRes::nanosleep redefined at C:/Strawberry/perl/lib/Time\HiRes.pm line 94.
Subroutine Time::HiRes::sleep redefined at C:/Strawberry/perl/lib/Time\HiRes.pm line 94.
Subroutine Time::HiRes::ualarm redefined at C:/Strawberry/perl/lib/Time\HiRes.pm line 94.
Subroutine Time::HiRes::alarm redefined at C:/Strawberry/perl/lib/Time\HiRes.pm line 94.
Subroutine Time::HiRes::gettimeofday redefined at C:/Strawberry/perl/lib/Time\HiRes.pm line 94.
Subroutine Time::HiRes::time redefined at C:/Strawberry/perl/lib/Time\HiRes.pm line 94.
Subroutine Time::HiRes::utime redefined at C:/Strawberry/perl/lib/Time\HiRes.pm line 94.
Subroutine Time::HiRes::clock_gettime redefined at C:/Strawberry/perl/lib/Time\HiRes.pm line 94.
Subroutine Time::HiRes::clock_getres redefined at C:/Strawberry/perl/lib/Time\HiRes.pm line 94.
Subroutine Time::HiRes::clock_nanosleep redefined at C:/Strawberry/perl/lib/Time\HiRes.pm line 94.
Subroutine Time::HiRes::clock redefined at C:/Strawberry/perl/lib/Time\HiRes.pm line 94.
Subroutine Time::HiRes::lstat redefined at C:/Strawberry/perl/lib/Time\HiRes.pm line 94.
Subroutine Time::HiRes::stat redefined at C:/Strawberry/perl/lib/Time\HiRes.pm line 94.
t/30_loops/select/z_kogman_sig_order.t ............. ok
Subroutine AUTOLOAD redefined at C:/Strawberry/perl/lib/Time\HiRes.pm line 58.
Subroutine import redefined at C:/Strawberry/perl/lib/Time\HiRes.pm line 76.
Subroutine tv_interval redefined at C:/Strawberry/perl/lib/Time\HiRes.pm line 98.
Subroutine Time::HiRes::CLONE redefined at C:/Strawberry/perl/lib/Time\HiRes.pm line 94.
Subroutine Time::HiRes::constant redefined at C:/Strawberry/perl/lib/Time\HiRes.pm line 94.
Subroutine Time::HiRes::usleep redefined at C:/Strawberry/perl/lib/Time\HiRes.pm line 94.
Subroutine Time::HiRes::nanosleep redefined at C:/Strawberry/perl/lib/Time\HiRes.pm line 94.
Subroutine Time::HiRes::sleep redefined at C:/Strawberry/perl/lib/Time\HiRes.pm line 94.
Subroutine Time::HiRes::ualarm redefined at C:/Strawberry/perl/lib/Time\HiRes.pm line 94.
Subroutine Time::HiRes::alarm redefined at C:/Strawberry/perl/lib/Time\HiRes.pm line 94.
Subroutine Time::HiRes::gettimeofday redefined at C:/Strawberry/perl/lib/Time\HiRes.pm line 94.
Subroutine Time::HiRes::time redefined at C:/Strawberry/perl/lib/Time\HiRes.pm line 94.
Subroutine Time::HiRes::utime redefined at C:/Strawberry/perl/lib/Time\HiRes.pm line 94.
Subroutine Time::HiRes::clock_gettime redefined at C:/Strawberry/perl/lib/Time\HiRes.pm line 94.
Subroutine Time::HiRes::clock_getres redefined at C:/Strawberry/perl/lib/Time\HiRes.pm line 94.
Subroutine Time::HiRes::clock_nanosleep redefined at C:/Strawberry/perl/lib/Time\HiRes.pm line 94.
Subroutine Time::HiRes::clock redefined at C:/Strawberry/perl/lib/Time\HiRes.pm line 94.
Subroutine Time::HiRes::lstat redefined at C:/Strawberry/perl/lib/Time\HiRes.pm line 94.
Subroutine Time::HiRes::stat redefined at C:/Strawberry/perl/lib/Time\HiRes.pm line 94.
t/30_loops/select/z_leolo_wheel_run.t .............. skipped: Perl crashes on MSWin32
Subroutine AUTOLOAD redefined at C:/Strawberry/perl/lib/Time\HiRes.pm line 58.
Subroutine import redefined at C:/Strawberry/perl/lib/Time\HiRes.pm line 76.
Subroutine tv_interval redefined at C:/Strawberry/perl/lib/Time\HiRes.pm line 98.
Subroutine Time::HiRes::CLONE redefined at C:/Strawberry/perl/lib/Time\HiRes.pm line 94.
Subroutine Time::HiRes::constant redefined at C:/Strawberry/perl/lib/Time\HiRes.pm line 94.
Subroutine Time::HiRes::usleep redefined at C:/Strawberry/perl/lib/Time\HiRes.pm line 94.
Subroutine Time::HiRes::nanosleep redefined at C:/Strawberry/perl/lib/Time\HiRes.pm line 94.
Subroutine Time::HiRes::sleep redefined at C:/Strawberry/perl/lib/Time\HiRes.pm line 94.
Subroutine Time::HiRes::ualarm redefined at C:/Strawberry/perl/lib/Time\HiRes.pm line 94.
Subroutine Time::HiRes::alarm redefined at C:/Strawberry/perl/lib/Time\HiRes.pm line 94.
Subroutine Time::HiRes::gettimeofday redefined at C:/Strawberry/perl/lib/Time\HiRes.pm line 94.
Subroutine Time::HiRes::time redefined at C:/Strawberry/perl/lib/Time\HiRes.pm line 94.
Subroutine Time::HiRes::utime redefined at C:/Strawberry/perl/lib/Time\HiRes.pm line 94.
Subroutine Time::HiRes::clock_gettime redefined at C:/Strawberry/perl/lib/Time\HiRes.pm line 94.
Subroutine Time::HiRes::clock_getres redefined at C:/Strawberry/perl/lib/Time\HiRes.pm line 94.
Subroutine Time::HiRes::clock_nanosleep redefined at C:/Strawberry/perl/lib/Time\HiRes.pm line 94.
Subroutine Time::HiRes::clock redefined at C:/Strawberry/perl/lib/Time\HiRes.pm line 94.
Subroutine Time::HiRes::lstat redefined at C:/Strawberry/perl/lib/Time\HiRes.pm line 94.
Subroutine Time::HiRes::stat redefined at C:/Strawberry/perl/lib/Time\HiRes.pm line 94.
t/30_loops/select/z_merijn_sigchld_system.t ........ ok
Subroutine AUTOLOAD redefined at C:/Strawberry/perl/lib/Time\HiRes.pm line 58.
Subroutine import redefined at C:/Strawberry/perl/lib/Time\HiRes.pm line 76.
Subroutine tv_interval redefined at C:/Strawberry/perl/lib/Time\HiRes.pm line 98.
Subroutine Time::HiRes::CLONE redefined at C:/Strawberry/perl/lib/Time\HiRes.pm line 94.
Subroutine Time::HiRes::constant redefined at C:/Strawberry/perl/lib/Time\HiRes.pm line 94.
Subroutine Time::HiRes::usleep redefined at C:/Strawberry/perl/lib/Time\HiRes.pm line 94.
Subroutine Time::HiRes::nanosleep redefined at C:/Strawberry/perl/lib/Time\HiRes.pm line 94.
Subroutine Time::HiRes::sleep redefined at C:/Strawberry/perl/lib/Time\HiRes.pm line 94.
Subroutine Time::HiRes::ualarm redefined at C:/Strawberry/perl/lib/Time\HiRes.pm line 94.
Subroutine Time::HiRes::alarm redefined at C:/Strawberry/perl/lib/Time\HiRes.pm line 94.
Subroutine Time::HiRes::gettimeofday redefined at C:/Strawberry/perl/lib/Time\HiRes.pm line 94.
Subroutine Time::HiRes::time redefined at C:/Strawberry/perl/lib/Time\HiRes.pm line 94.
Subroutine Time::HiRes::utime redefined at C:/Strawberry/perl/lib/Time\HiRes.pm line 94.
Subroutine Time::HiRes::clock_gettime redefined at C:/Strawberry/perl/lib/Time\HiRes.pm line 94.
Subroutine Time::HiRes::clock_getres redefined at C:/Strawberry/perl/lib/Time\HiRes.pm line 94.
Subroutine Time::HiRes::clock_nanosleep redefined at C:/Strawberry/perl/lib/Time\HiRes.pm line 94.
Subroutine Time::HiRes::clock redefined at C:/Strawberry/perl/lib/Time\HiRes.pm line 94.
Subroutine Time::HiRes::lstat redefined at C:/Strawberry/perl/lib/Time\HiRes.pm line 94.
Subroutine Time::HiRes::stat redefined at C:/Strawberry/perl/lib/Time\HiRes.pm line 94.
t/30_loops/select/z_rt39872_sigchld.t .............. skipped: Perl crashes on MSWin32
Subroutine AUTOLOAD redefined at C:/Strawberry/perl/lib/Time\HiRes.pm line 58.
Subroutine import redefined at C:/Strawberry/perl/lib/Time\HiRes.pm line 76.
Subroutine tv_interval redefined at C:/Strawberry/perl/lib/Time\HiRes.pm line 98.
Subroutine Time::HiRes::CLONE redefined at C:/Strawberry/perl/lib/Time\HiRes.pm line 94.
Subroutine Time::HiRes::constant redefined at C:/Strawberry/perl/lib/Time\HiRes.pm line 94.
Subroutine Time::HiRes::usleep redefined at C:/Strawberry/perl/lib/Time\HiRes.pm line 94.
Subroutine Time::HiRes::nanosleep redefined at C:/Strawberry/perl/lib/Time\HiRes.pm line 94.
Subroutine Time::HiRes::sleep redefined at C:/Strawberry/perl/lib/Time\HiRes.pm line 94.
Subroutine Time::HiRes::ualarm redefined at C:/Strawberry/perl/lib/Time\HiRes.pm line 94.
Subroutine Time::HiRes::alarm redefined at C:/Strawberry/perl/lib/Time\HiRes.pm line 94.
Subroutine Time::HiRes::gettimeofday redefined at C:/Strawberry/perl/lib/Time\HiRes.pm line 94.
Subroutine Time::HiRes::time redefined at C:/Strawberry/perl/lib/Time\HiRes.pm line 94.
Subroutine Time::HiRes::utime redefined at C:/Strawberry/perl/lib/Time\HiRes.pm line 94.
Subroutine Time::HiRes::clock_gettime redefined at C:/Strawberry/perl/lib/Time\HiRes.pm line 94.
Subroutine Time::HiRes::clock_getres redefined at C:/Strawberry/perl/lib/Time\HiRes.pm line 94.
Subroutine Time::HiRes::clock_nanosleep redefined at C:/Strawberry/perl/lib/Time\HiRes.pm line 94.
Subroutine Time::HiRes::clock redefined at C:/Strawberry/perl/lib/Time\HiRes.pm line 94.
Subroutine Time::HiRes::lstat redefined at C:/Strawberry/perl/lib/Time\HiRes.pm line 94.
Subroutine Time::HiRes::stat redefined at C:/Strawberry/perl/lib/Time\HiRes.pm line 94.
t/30_loops/select/z_rt39872_sigchld_stop.t ......... skipped: SIGUSR1 not supported on MSWin32
Subroutine AUTOLOAD redefined at C:/Strawberry/perl/lib/Time\HiRes.pm line 58.
Subroutine import redefined at C:/Strawberry/perl/lib/Time\HiRes.pm line 76.
Subroutine tv_interval redefined at C:/Strawberry/perl/lib/Time\HiRes.pm line 98.
Subroutine Time::HiRes::CLONE redefined at C:/Strawberry/perl/lib/Time\HiRes.pm line 94.
Subroutine Time::HiRes::constant redefined at C:/Strawberry/perl/lib/Time\HiRes.pm line 94.
Subroutine Time::HiRes::usleep redefined at C:/Strawberry/perl/lib/Time\HiRes.pm line 94.
Subroutine Time::HiRes::nanosleep redefined at C:/Strawberry/perl/lib/Time\HiRes.pm line 94.
Subroutine Time::HiRes::sleep redefined at C:/Strawberry/perl/lib/Time\HiRes.pm line 94.
Subroutine Time::HiRes::ualarm redefined at C:/Strawberry/perl/lib/Time\HiRes.pm line 94.
Subroutine Time::HiRes::alarm redefined at C:/Strawberry/perl/lib/Time\HiRes.pm line 94.
Subroutine Time::HiRes::gettimeofday redefined at C:/Strawberry/perl/lib/Time\HiRes.pm line 94.
Subroutine Time::HiRes::time redefined at C:/Strawberry/perl/lib/Time\HiRes.pm line 94.
Subroutine Time::HiRes::utime redefined at C:/Strawberry/perl/lib/Time\HiRes.pm line 94.
Subroutine Time::HiRes::clock_gettime redefined at C:/Strawberry/perl/lib/Time\HiRes.pm line 94.
Subroutine Time::HiRes::clock_getres redefined at C:/Strawberry/perl/lib/Time\HiRes.pm line 94.
Subroutine Time::HiRes::clock_nanosleep redefined at C:/Strawberry/perl/lib/Time\HiRes.pm line 94.
Subroutine Time::HiRes::clock redefined at C:/Strawberry/perl/lib/Time\HiRes.pm line 94.
Subroutine Time::HiRes::lstat redefined at C:/Strawberry/perl/lib/Time\HiRes.pm line 94.
Subroutine Time::HiRes::stat redefined at C:/Strawberry/perl/lib/Time\HiRes.pm line 94.
t/30_loops/select/z_rt53302_fh_watchers.t .......... ok
Subroutine AUTOLOAD redefined at C:/Strawberry/perl/lib/Time\HiRes.pm line 58.
Subroutine import redefined at C:/Strawberry/perl/lib/Time\HiRes.pm line 76.
Subroutine tv_interval redefined at C:/Strawberry/perl/lib/Time\HiRes.pm line 98.
Subroutine Time::HiRes::CLONE redefined at C:/Strawberry/perl/lib/Time\HiRes.pm line 94.
Subroutine Time::HiRes::constant redefined at C:/Strawberry/perl/lib/Time\HiRes.pm line 94.
Subroutine Time::HiRes::usleep redefined at C:/Strawberry/perl/lib/Time\HiRes.pm line 94.
Subroutine Time::HiRes::nanosleep redefined at C:/Strawberry/perl/lib/Time\HiRes.pm line 94.
Subroutine Time::HiRes::sleep redefined at C:/Strawberry/perl/lib/Time\HiRes.pm line 94.
Subroutine Time::HiRes::ualarm redefined at C:/Strawberry/perl/lib/Time\HiRes.pm line 94.
Subroutine Time::HiRes::alarm redefined at C:/Strawberry/perl/lib/Time\HiRes.pm line 94.
Subroutine Time::HiRes::gettimeofday redefined at C:/Strawberry/perl/lib/Time\HiRes.pm line 94.
Subroutine Time::HiRes::time redefined at C:/Strawberry/perl/lib/Time\HiRes.pm line 94.
Subroutine Time::HiRes::utime redefined at C:/Strawberry/perl/lib/Time\HiRes.pm line 94.
Subroutine Time::HiRes::clock_gettime redefined at C:/Strawberry/perl/lib/Time\HiRes.pm line 94.
Subroutine Time::HiRes::clock_getres redefined at C:/Strawberry/perl/lib/Time\HiRes.pm line 94.
Subroutine Time::HiRes::clock_nanosleep redefined at C:/Strawberry/perl/lib/Time\HiRes.pm line 94.
Subroutine Time::HiRes::clock redefined at C:/Strawberry/perl/lib/Time\HiRes.pm line 94.
Subroutine Time::HiRes::lstat redefined at C:/Strawberry/perl/lib/Time\HiRes.pm line 94.
Subroutine Time::HiRes::stat redefined at C:/Strawberry/perl/lib/Time\HiRes.pm line 94.
t/30_loops/select/z_rt54319_bazerka_followtail.t ... ok
Subroutine AUTOLOAD redefined at C:/Strawberry/perl/lib/Time\HiRes.pm line 58.
Subroutine import redefined at C:/Strawberry/perl/lib/Time\HiRes.pm line 76.
Subroutine tv_interval redefined at C:/Strawberry/perl/lib/Time\HiRes.pm line 98.
Subroutine Time::HiRes::CLONE redefined at C:/Strawberry/perl/lib/Time\HiRes.pm line 94.
Subroutine Time::HiRes::constant redefined at C:/Strawberry/perl/lib/Time\HiRes.pm line 94.
Subroutine Time::HiRes::usleep redefined at C:/Strawberry/perl/lib/Time\HiRes.pm line 94.
Subroutine Time::HiRes::nanosleep redefined at C:/Strawberry/perl/lib/Time\HiRes.pm line 94.
Subroutine Time::HiRes::sleep redefined at C:/Strawberry/perl/lib/Time\HiRes.pm line 94.
Subroutine Time::HiRes::ualarm redefined at C:/Strawberry/perl/lib/Time\HiRes.pm line 94.
Subroutine Time::HiRes::alarm redefined at C:/Strawberry/perl/lib/Time\HiRes.pm line 94.
Subroutine Time::HiRes::gettimeofday redefined at C:/Strawberry/perl/lib/Time\HiRes.pm line 94.
Subroutine Time::HiRes::time redefined at C:/Strawberry/perl/lib/Time\HiRes.pm line 94.
Subroutine Time::HiRes::utime redefined at C:/Strawberry/perl/lib/Time\HiRes.pm line 94.
Subroutine Time::HiRes::clock_gettime redefined at C:/Strawberry/perl/lib/Time\HiRes.pm line 94.
Subroutine Time::HiRes::clock_getres redefined at C:/Strawberry/perl/lib/Time\HiRes.pm line 94.
Subroutine Time::HiRes::clock_nanosleep redefined at C:/Strawberry/perl/lib/Time\HiRes.pm line 94.
Subroutine Time::HiRes::clock redefined at C:/Strawberry/perl/lib/Time\HiRes.pm line 94.
Subroutine Time::HiRes::lstat redefined at C:/Strawberry/perl/lib/Time\HiRes.pm line 94.
Subroutine Time::HiRes::stat redefined at C:/Strawberry/perl/lib/Time\HiRes.pm line 94.
t/30_loops/select/z_steinert_signal_integrity.t .... ok
t/90_regression/agaran-filter-httpd.t .............. ok
Subroutine AUTOLOAD redefined at C:/Strawberry/perl/lib/Time\HiRes.pm line 58.
Subroutine import redefined at C:/Strawberry/perl/lib/Time\HiRes.pm line 76.
Subroutine tv_interval redefined at C:/Strawberry/perl/lib/Time\HiRes.pm line 98.
Subroutine Time::HiRes::CLONE redefined at C:/Strawberry/perl/lib/Time\HiRes.pm line 94.
Subroutine Time::HiRes::constant redefined at C:/Strawberry/perl/lib/Time\HiRes.pm line 94.
Subroutine Time::HiRes::usleep redefined at C:/Strawberry/perl/lib/Time\HiRes.pm line 94.
Subroutine Time::HiRes::nanosleep redefined at C:/Strawberry/perl/lib/Time\HiRes.pm line 94.
Subroutine Time::HiRes::sleep redefined at C:/Strawberry/perl/lib/Time\HiRes.pm line 94.
Subroutine Time::HiRes::ualarm redefined at C:/Strawberry/perl/lib/Time\HiRes.pm line 94.
Subroutine Time::HiRes::alarm redefined at C:/Strawberry/perl/lib/Time\HiRes.pm line 94.
Subroutine Time::HiRes::gettimeofday redefined at C:/Strawberry/perl/lib/Time\HiRes.pm line 94.
Subroutine Time::HiRes::time redefined at C:/Strawberry/perl/lib/Time\HiRes.pm line 94.
Subroutine Time::HiRes::utime redefined at C:/Strawberry/perl/lib/Time\HiRes.pm line 94.
Subroutine Time::HiRes::clock_gettime redefined at C:/Strawberry/perl/lib/Time\HiRes.pm line 94.
Subroutine Time::HiRes::clock_getres redefined at C:/Strawberry/perl/lib/Time\HiRes.pm line 94.
Subroutine Time::HiRes::clock_nanosleep redefined at C:/Strawberry/perl/lib/Time\HiRes.pm line 94.
Subroutine Time::HiRes::clock redefined at C:/Strawberry/perl/lib/Time\HiRes.pm line 94.
Subroutine Time::HiRes::lstat redefined at C:/Strawberry/perl/lib/Time\HiRes.pm line 94.
Subroutine Time::HiRes::stat redefined at C:/Strawberry/perl/lib/Time\HiRes.pm line 94.
t/90_regression/averell-callback-ret.t ............. ok
Subroutine AUTOLOAD redefined at C:/Strawberry/perl/lib/Time/HiRes.pm line 58.
Subroutine import redefined at C:/Strawberry/perl/lib/Time/HiRes.pm line 76.
Subroutine tv_interval redefined at C:/Strawberry/perl/lib/Time/HiRes.pm line 98.
Subroutine Time::HiRes::CLONE redefined at C:/Strawberry/perl/lib/Time/HiRes.pm line 94.
Subroutine Time::HiRes::constant redefined at C:/Strawberry/perl/lib/Time/HiRes.pm line 94.
Subroutine Time::HiRes::usleep redefined at C:/Strawberry/perl/lib/Time/HiRes.pm line 94.
Subroutine Time::HiRes::nanosleep redefined at C:/Strawberry/perl/lib/Time/HiRes.pm line 94.
Subroutine Time::HiRes::sleep redefined at C:/Strawberry/perl/lib/Time/HiRes.pm line 94.
Subroutine Time::HiRes::ualarm redefined at C:/Strawberry/perl/lib/Time/HiRes.pm line 94.
Subroutine Time::HiRes::alarm redefined at C:/Strawberry/perl/lib/Time/HiRes.pm line 94.
Subroutine Time::HiRes::gettimeofday redefined at C:/Strawberry/perl/lib/Time/HiRes.pm line 94.
Subroutine Time::HiRes::time redefined at C:/Strawberry/perl/lib/Time/HiRes.pm line 94.
Subroutine Time::HiRes::utime redefined at C:/Strawberry/perl/lib/Time/HiRes.pm line 94.
Subroutine Time::HiRes::clock_gettime redefined at C:/Strawberry/perl/lib/Time/HiRes.pm line 94.
Subroutine Time::HiRes::clock_getres redefined at C:/Strawberry/perl/lib/Time/HiRes.pm line 94.
Subroutine Time::HiRes::clock_nanosleep redefined at C:/Strawberry/perl/lib/Time/HiRes.pm line 94.
Subroutine Time::HiRes::clock redefined at C:/Strawberry/perl/lib/Time/HiRes.pm line 94.
Subroutine Time::HiRes::lstat redefined at C:/Strawberry/perl/lib/Time/HiRes.pm line 94.
Subroutine Time::HiRes::stat redefined at C:/Strawberry/perl/lib/Time/HiRes.pm line 94.
t/90_regression/bingos-followtail.t ................ ok
Subroutine AUTOLOAD redefined at C:/Strawberry/perl/lib/Time/HiRes.pm line 58.
Subroutine import redefined at C:/Strawberry/perl/lib/Time/HiRes.pm line 76.
Subroutine tv_interval redefined at C:/Strawberry/perl/lib/Time/HiRes.pm line 98.
Subroutine Time::HiRes::CLONE redefined at C:/Strawberry/perl/lib/Time/HiRes.pm line 94.
Subroutine Time::HiRes::constant redefined at C:/Strawberry/perl/lib/Time/HiRes.pm line 94.
Subroutine Time::HiRes::usleep redefined at C:/Strawberry/perl/lib/Time/HiRes.pm line 94.
Subroutine Time::HiRes::nanosleep redefined at C:/Strawberry/perl/lib/Time/HiRes.pm line 94.
Subroutine Time::HiRes::sleep redefined at C:/Strawberry/perl/lib/Time/HiRes.pm line 94.
Subroutine Time::HiRes::ualarm redefined at C:/Strawberry/perl/lib/Time/HiRes.pm line 94.
Subroutine Time::HiRes::alarm redefined at C:/Strawberry/perl/lib/Time/HiRes.pm line 94.
Subroutine Time::HiRes::gettimeofday redefined at C:/Strawberry/perl/lib/Time/HiRes.pm line 94.
Subroutine Time::HiRes::time redefined at C:/Strawberry/perl/lib/Time/HiRes.pm line 94.
Subroutine Time::HiRes::utime redefined at C:/Strawberry/perl/lib/Time/HiRes.pm line 94.
Subroutine Time::HiRes::clock_gettime redefined at C:/Strawberry/perl/lib/Time/HiRes.pm line 94.
Subroutine Time::HiRes::clock_getres redefined at C:/Strawberry/perl/lib/Time/HiRes.pm line 94.
Subroutine Time::HiRes::clock_nanosleep redefined at C:/Strawberry/perl/lib/Time/HiRes.pm line 94.
Subroutine Time::HiRes::clock redefined at C:/Strawberry/perl/lib/Time/HiRes.pm line 94.
Subroutine Time::HiRes::lstat redefined at C:/Strawberry/perl/lib/Time/HiRes.pm line 94.
Subroutine Time::HiRes::stat redefined at C:/Strawberry/perl/lib/Time/HiRes.pm line 94.
# next [3]
# received data from subprocess: [child [-6524] read: Can you hear me 3]
# next [2]
# received data from subprocess: [child [-6524] read: Can you hear me 2]
# next [1]
# Trying to kill [-6524]
# received data from subprocess: [child [-6524] read: Can you hear me 1]
t/90_regression/broeren-win32-nbio.t ............... ok
t/90_regression/cfedde-filter-httpd.t .............. ok
t/90_regression/ferrari-server-unix.t .............. skipped: MSWin32 does not support UNIX sockets
t/90_regression/grinnz-die-in-die.t ................ ok
t/90_regression/hinrik-wheel-run-die.t ............. ok
t/90_regression/kjeldahl-stop-start-polling.t ...... ok
t/90_regression/kjeldahl-stop-start-sig-nopipe.t ... ok
t/90_regression/kjeldahl-stop-start-sig-pipe.t ..... ok
t/90_regression/leolo-sig-die.t .................... ok
t/90_regression/meh-startstop-return.t ............. ok
Subroutine AUTOLOAD redefined at C:/Strawberry/perl/lib/Time/HiRes.pm line 58.
Subroutine import redefined at C:/Strawberry/perl/lib/Time/HiRes.pm line 76.
Subroutine tv_interval redefined at C:/Strawberry/perl/lib/Time/HiRes.pm line 98.
Subroutine Time::HiRes::CLONE redefined at C:/Strawberry/perl/lib/Time/HiRes.pm line 94.
Subroutine Time::HiRes::constant redefined at C:/Strawberry/perl/lib/Time/HiRes.pm line 94.
Subroutine Time::HiRes::usleep redefined at C:/Strawberry/perl/lib/Time/HiRes.pm line 94.
Subroutine Time::HiRes::nanosleep redefined at C:/Strawberry/perl/lib/Time/HiRes.pm line 94.
Subroutine Time::HiRes::sleep redefined at C:/Strawberry/perl/lib/Time/HiRes.pm line 94.
Subroutine Time::HiRes::ualarm redefined at C:/Strawberry/perl/lib/Time/HiRes.pm line 94.
Subroutine Time::HiRes::alarm redefined at C:/Strawberry/perl/lib/Time/HiRes.pm line 94.
Subroutine Time::HiRes::gettimeofday redefined at C:/Strawberry/perl/lib/Time/HiRes.pm line 94.
Subroutine Time::HiRes::time redefined at C:/Strawberry/perl/lib/Time/HiRes.pm line 94.
Subroutine Time::HiRes::utime redefined at C:/Strawberry/perl/lib/Time/HiRes.pm line 94.
Subroutine Time::HiRes::clock_gettime redefined at C:/Strawberry/perl/lib/Time/HiRes.pm line 94.
Subroutine Time::HiRes::clock_getres redefined at C:/Strawberry/perl/lib/Time/HiRes.pm line 94.
Subroutine Time::HiRes::clock_nanosleep redefined at C:/Strawberry/perl/lib/Time/HiRes.pm line 94.
Subroutine Time::HiRes::clock redefined at C:/Strawberry/perl/lib/Time/HiRes.pm line 94.
Subroutine Time::HiRes::lstat redefined at C:/Strawberry/perl/lib/Time/HiRes.pm line 94.
Subroutine Time::HiRes::stat redefined at C:/Strawberry/perl/lib/Time/HiRes.pm line 94.
t/90_regression/neyuki_detach.t .................... ok
t/90_regression/pipe-followtail.t .................. skipped: Windows does not support mkfifo
t/90_regression/prumike-win32-stat.t ............... ok
t/90_regression/rt14444-arg1.t ..................... ok
t/90_regression/rt1648-tied-stderr.t ............... ok
Subroutine AUTOLOAD redefined at C:/Strawberry/perl/lib/Time/HiRes.pm line 58.
Subroutine import redefined at C:/Strawberry/perl/lib/Time/HiRes.pm line 76.
Subroutine tv_interval redefined at C:/Strawberry/perl/lib/Time/HiRes.pm line 98.
Subroutine Time::HiRes::CLONE redefined at C:/Strawberry/perl/lib/Time/HiRes.pm line 94.
Subroutine Time::HiRes::constant redefined at C:/Strawberry/perl/lib/Time/HiRes.pm line 94.
Subroutine Time::HiRes::usleep redefined at C:/Strawberry/perl/lib/Time/HiRes.pm line 94.
Subroutine Time::HiRes::nanosleep redefined at C:/Strawberry/perl/lib/Time/HiRes.pm line 94.
Subroutine Time::HiRes::sleep redefined at C:/Strawberry/perl/lib/Time/HiRes.pm line 94.
Subroutine Time::HiRes::ualarm redefined at C:/Strawberry/perl/lib/Time/HiRes.pm line 94.
Subroutine Time::HiRes::alarm redefined at C:/Strawberry/perl/lib/Time/HiRes.pm line 94.
Subroutine Time::HiRes::gettimeofday redefined at C:/Strawberry/perl/lib/Time/HiRes.pm line 94.
Subroutine Time::HiRes::time redefined at C:/Strawberry/perl/lib/Time/HiRes.pm line 94.
Subroutine Time::HiRes::utime redefined at C:/Strawberry/perl/lib/Time/HiRes.pm line 94.
Subroutine Time::HiRes::clock_gettime redefined at C:/Strawberry/perl/lib/Time/HiRes.pm line 94.
Subroutine Time::HiRes::clock_getres redefined at C:/Strawberry/perl/lib/Time/HiRes.pm line 94.
Subroutine Time::HiRes::clock_nanosleep redefined at C:/Strawberry/perl/lib/Time/HiRes.pm line 94.
Subroutine Time::HiRes::clock redefined at C:/Strawberry/perl/lib/Time/HiRes.pm line 94.
Subroutine Time::HiRes::lstat redefined at C:/Strawberry/perl/lib/Time/HiRes.pm line 94.
Subroutine Time::HiRes::stat redefined at C:/Strawberry/perl/lib/Time/HiRes.pm line 94.
t/90_regression/rt19908-merlyn-stop.t .............. ok
t/90_regression/rt23181-sigchld-rc.t ............... ok
t/90_regression/rt47966-sigchld.t .................. skipped: enable by setting RELEASE_TESTING
t/90_regression/rt56417-wheel-run.t ................ ok
t/90_regression/rt65460-forking.t .................. skipped: MSWin32 does not support fork()
t/90_regression/socketfactory-timeout.t ............ ok
t/90_regression/somni-poco-server-tcp.t ............ ok
Subroutine AUTOLOAD redefined at C:/Strawberry/perl/lib/Time/HiRes.pm line 58.
Subroutine import redefined at C:/Strawberry/perl/lib/Time/HiRes.pm line 76.
Subroutine tv_interval redefined at C:/Strawberry/perl/lib/Time/HiRes.pm line 98.
Subroutine Time::HiRes::CLONE redefined at C:/Strawberry/perl/lib/Time/HiRes.pm line 94.
Subroutine Time::HiRes::constant redefined at C:/Strawberry/perl/lib/Time/HiRes.pm line 94.
Subroutine Time::HiRes::usleep redefined at C:/Strawberry/perl/lib/Time/HiRes.pm line 94.
Subroutine Time::HiRes::nanosleep redefined at C:/Strawberry/perl/lib/Time/HiRes.pm line 94.
Subroutine Time::HiRes::sleep redefined at C:/Strawberry/perl/lib/Time/HiRes.pm line 94.
Subroutine Time::HiRes::ualarm redefined at C:/Strawberry/perl/lib/Time/HiRes.pm line 94.
Subroutine Time::HiRes::alarm redefined at C:/Strawberry/perl/lib/Time/HiRes.pm line 94.
Subroutine Time::HiRes::gettimeofday redefined at C:/Strawberry/perl/lib/Time/HiRes.pm line 94.
Subroutine Time::HiRes::time redefined at C:/Strawberry/perl/lib/Time/HiRes.pm line 94.
Subroutine Time::HiRes::utime redefined at C:/Strawberry/perl/lib/Time/HiRes.pm line 94.
Subroutine Time::HiRes::clock_gettime redefined at C:/Strawberry/perl/lib/Time/HiRes.pm line 94.
Subroutine Time::HiRes::clock_getres redefined at C:/Strawberry/perl/lib/Time/HiRes.pm line 94.
Subroutine Time::HiRes::clock_nanosleep redefined at C:/Strawberry/perl/lib/Time/HiRes.pm line 94.
Subroutine Time::HiRes::clock redefined at C:/Strawberry/perl/lib/Time/HiRes.pm line 94.
Subroutine Time::HiRes::lstat redefined at C:/Strawberry/perl/lib/Time/HiRes.pm line 94.
Subroutine Time::HiRes::stat redefined at C:/Strawberry/perl/lib/Time/HiRes.pm line 94.
t/90_regression/steinert-passed-wheel.t ............ ok
Subroutine AUTOLOAD redefined at C:/Strawberry/perl/lib/Time\HiRes.pm line 58.
Subroutine import redefined at C:/Strawberry/perl/lib/Time\HiRes.pm line 76.
Subroutine tv_interval redefined at C:/Strawberry/perl/lib/Time\HiRes.pm line 98.
Subroutine Time::HiRes::CLONE redefined at C:/Strawberry/perl/lib/Time\HiRes.pm line 94.
Subroutine Time::HiRes::constant redefined at C:/Strawberry/perl/lib/Time\HiRes.pm line 94.
Subroutine Time::HiRes::usleep redefined at C:/Strawberry/perl/lib/Time\HiRes.pm line 94.
Subroutine Time::HiRes::nanosleep redefined at C:/Strawberry/perl/lib/Time\HiRes.pm line 94.
Subroutine Time::HiRes::sleep redefined at C:/Strawberry/perl/lib/Time\HiRes.pm line 94.
Subroutine Time::HiRes::ualarm redefined at C:/Strawberry/perl/lib/Time\HiRes.pm line 94.
Subroutine Time::HiRes::alarm redefined at C:/Strawberry/perl/lib/Time\HiRes.pm line 94.
Subroutine Time::HiRes::gettimeofday redefined at C:/Strawberry/perl/lib/Time\HiRes.pm line 94.
Subroutine Time::HiRes::time redefined at C:/Strawberry/perl/lib/Time\HiRes.pm line 94.
Subroutine Time::HiRes::utime redefined at C:/Strawberry/perl/lib/Time\HiRes.pm line 94.
Subroutine Time::HiRes::clock_gettime redefined at C:/Strawberry/perl/lib/Time\HiRes.pm line 94.
Subroutine Time::HiRes::clock_getres redefined at C:/Strawberry/perl/lib/Time\HiRes.pm line 94.
Subroutine Time::HiRes::clock_nanosleep redefined at C:/Strawberry/perl/lib/Time\HiRes.pm line 94.
Subroutine Time::HiRes::clock redefined at C:/Strawberry/perl/lib/Time\HiRes.pm line 94.
Subroutine Time::HiRes::lstat redefined at C:/Strawberry/perl/lib/Time\HiRes.pm line 94.
Subroutine Time::HiRes::stat redefined at C:/Strawberry/perl/lib/Time\HiRes.pm line 94.
t/90_regression/suzman_windows.t ................... ok
Subroutine AUTOLOAD redefined at C:/Strawberry/perl/lib/Time\HiRes.pm line 58.
Subroutine import redefined at C:/Strawberry/perl/lib/Time\HiRes.pm line 76.
Subroutine tv_interval redefined at C:/Strawberry/perl/lib/Time\HiRes.pm line 98.
Subroutine Time::HiRes::CLONE redefined at C:/Strawberry/perl/lib/Time\HiRes.pm line 94.
Subroutine Time::HiRes::constant redefined at C:/Strawberry/perl/lib/Time\HiRes.pm line 94.
Subroutine Time::HiRes::usleep redefined at C:/Strawberry/perl/lib/Time\HiRes.pm line 94.
Subroutine Time::HiRes::nanosleep redefined at C:/Strawberry/perl/lib/Time\HiRes.pm line 94.
Subroutine Time::HiRes::sleep redefined at C:/Strawberry/perl/lib/Time\HiRes.pm line 94.
Subroutine Time::HiRes::ualarm redefined at C:/Strawberry/perl/lib/Time\HiRes.pm line 94.
Subroutine Time::HiRes::alarm redefined at C:/Strawberry/perl/lib/Time\HiRes.pm line 94.
Subroutine Time::HiRes::gettimeofday redefined at C:/Strawberry/perl/lib/Time\HiRes.pm line 94.
Subroutine Time::HiRes::time redefined at C:/Strawberry/perl/lib/Time\HiRes.pm line 94.
Subroutine Time::HiRes::utime redefined at C:/Strawberry/perl/lib/Time\HiRes.pm line 94.
Subroutine Time::HiRes::clock_gettime redefined at C:/Strawberry/perl/lib/Time\HiRes.pm line 94.
Subroutine Time::HiRes::clock_getres redefined at C:/Strawberry/perl/lib/Time\HiRes.pm line 94.
Subroutine Time::HiRes::clock_nanosleep redefined at C:/Strawberry/perl/lib/Time\HiRes.pm line 94.
Subroutine Time::HiRes::clock redefined at C:/Strawberry/perl/lib/Time\HiRes.pm line 94.
Subroutine Time::HiRes::lstat redefined at C:/Strawberry/perl/lib/Time\HiRes.pm line 94.
Subroutine Time::HiRes::stat redefined at C:/Strawberry/perl/lib/Time\HiRes.pm line 94.
t/90_regression/ton-stop-corruption.t .............. ok
t/90_regression/tracing-sane-exit.t ................ ok
t/90_regression/whelan-dieprop.t ................... ok
t/90_regression/whjackson-followtail.t ............. skipped: MSWin32 cannot rename files that are open
All tests successful.

Test Summary Report
-------------------
t/10_units/05_filters/03_http.t                  (Wstat: 0 Tests: 137 Failed: 0)
  TODO passed:   85
Files=161, Tests=3522, 90 wallclock secs ( 0.81 usr +  0.27 sys =  1.08 CPU)
Result: PASS

------------------------------
PREREQUISITES
------------------------------

Prerequisite modules loaded:

requires:

    Module           Need  Have     
    ---------------- ----- ---------
    Carp             0     1.50     
    Errno            1.09  1.30     
    Exporter         0     5.78     
    File::Spec       0.87  3.78     
    IO               1.24  1.55     
    IO::Handle       1.27  1.55     
    IO::Pipely       0.005 0.006    
    POE::Test::Loops 1.360 1.360    
    POSIX            1.02  1.94     
    Socket           1.7   2.037    
    Storable         2.16  3.21     
    Test::Harness    2.26  3.47     
    Time::HiRes      1.59  1.9764   
    Win32            0     0.59     
    Win32::Console   0.031 0.10     
    Win32::Job       0.03  0.05     
    Win32::Process   0     0.16     
    Win32API::File   0.05  0.1203_01

build_requires:

    Module           Need  Have     
    ---------------- ----- ---------
    POE::Test::Loops 1.360 1.360    

configure_requires:

    Module           Need  Have     
    ---------------- ----- ---------
    POE::Test::Loops 1.360 1.360    


------------------------------
ENVIRONMENT AND OTHER CONTEXT
------------------------------

Environment variables:

    COMSPEC = C:\WINDOWS\system32\cmd.exe
    NONINTERACTIVE_TESTING = 1
    NUMBER_OF_PROCESSORS = 4
    PATH = C:\home\sunnyday\perl5\bin;C:\WINDOWS\system32;C:\WINDOWS;C:\WINDOWS\System32\Wbem;C:\WINDOWS\System32\WindowsPowerShell\v1.0\;C:\Strawberry\c\bin;C:\Strawberry\perl\site\bin;C:\Strawberry\perl\bin
    PERL5LIB = C:\home\sunnyday\perl5\lib\perl5
    PERL5OPT = 
    PERL5_CPANPLUS_IS_RUNNING = 3968
    PERL5_CPAN_IS_RUNNING = 3968
    PERL_LOCAL_LIB_ROOT = C:\home\sunnyday\perl5
    PERL_MB_OPT = --install_base "C:\\home\\sunnyday\\perl5"
    PERL_MM_OPT = INSTALL_BASE=C:\\home\\sunnyday\\perl5
    PERL_MM_USE_DEFAULT = 1
    PERL_USE_UNSAFE_INC = 1
    PROCESSOR_IDENTIFIER = Intel64 Family 6 Model 58 Stepping 9, GenuineIntel
    TEMP = C:\Users\USER\AppData\Local\Temp
    TERM = dumb

Perl special variables (and OS-specific diagnostics, for MSWin32):

    $^X = C:\Strawberry\perl\bin\perl.exe
    $UID/$EUID = 0 / 0
    $GID = 0
    $EGID = 0
    Win32::GetOSName = Win8.1
    Win32::GetOSVersion = , 6, 3, 9600, 2, 0, 0, 256, 1
    Win32::FsType = NTFS
    Win32::IsAdminUser = 0

Perl module toolchain versions installed:

    Module              Have    
    ------------------- --------
    CPAN                2.34    
    CPAN::Meta          2.150010
    Cwd                 3.78    
    ExtUtils::CBuilder  0.280234
    ExtUtils::Command   7.70    
    ExtUtils::Install   2.22    
    ExtUtils::MakeMaker 7.70    
    ExtUtils::Manifest  1.75    
    ExtUtils::ParseXS   3.51    
    File::Spec          3.78    
    JSON                4.10    
    JSON::PP            4.17_01 
    Module::Build       0.42_35 
    Module::Signature   0.88    
    Parse::CPAN::Meta   2.150010
    Test2               1.302198
    Test::Harness       3.47    
    Test::More          1.302198
    YAML                1.31    
    YAML::Syck          1.34    
    version             0.9930  


--

Summary of my perl5 (revision 5 version 32 subversion 0) configuration:
   
  Platform:
    osname=MSWin32
    osvers=10.0.19041.388
    archname=MSWin32-x64-multi-thread
    uname='Win32 strawberry-perl 5.32.0.1 #1 Sun Aug  2 19:46:04 2020 x64'
    config_args='undef'
    hint=recommended
    useposix=true
    d_sigaction=undef
    useithreads=define
    usemultiplicity=define
    use64bitint=define
    use64bitall=undef
    uselongdouble=undef
    usemymalloc=n
    default_inc_excludes_dot=define
    bincompat5005=undef
  Compiler:
    cc='gcc'
    ccflags =' -DWIN32 -DWIN64 -D__USE_MINGW_ANSI_STDIO -DPERL_TEXTMODE_SCRIPTS -DPERL_IMPLICIT_CONTEXT -DPERL_IMPLICIT_SYS -DUSE_PERLIO -fwrapv -fno-strict-aliasing -mms-bitfields'
    optimize='-s -O2'
    cppflags='-DWIN32'
    ccversion=''
    gccversion='8.3.0'
    gccosandvers=''
    intsize=4
    longsize=4
    ptrsize=8
    doublesize=8
    byteorder=12345678
    doublekind=3
    d_longlong=define
    longlongsize=8
    d_longdbl=define
    longdblsize=16
    longdblkind=3
    ivtype='long long'
    ivsize=8
    nvtype='double'
    nvsize=8
    Off_t='long long'
    lseeksize=8
    alignbytes=8
    prototype=define
  Linker and Libraries:
    ld='g++'
    ldflags ='-s -L"C:\Strawberry\perl\lib\CORE" -L"C:\Strawberry\c\lib"'
    libpth=C:\Strawberry\c\lib C:\Strawberry\c\x86_64-w64-mingw32\lib C:\Strawberry\c\lib\gcc\x86_64-w64-mingw32\8.3.0
    libs= -lmoldname -lkernel32 -luser32 -lgdi32 -lwinspool -lcomdlg32 -ladvapi32 -lshell32 -lole32 -loleaut32 -lnetapi32 -luuid -lws2_32 -lmpr -lwinmm -lversion -lodbc32 -lodbccp32 -lcomctl32
    perllibs= -lmoldname -lkernel32 -luser32 -lgdi32 -lwinspool -lcomdlg32 -ladvapi32 -lshell32 -lole32 -loleaut32 -lnetapi32 -luuid -lws2_32 -lmpr -lwinmm -lversion -lodbc32 -lodbccp32 -lcomctl32
    libc=
    so=dll
    useshrplib=true
    libperl=libperl532.a
    gnulibc_version=''
  Dynamic Linking:
    dlsrc=dl_win32.xs
    dlext=xs.dll
    d_dlsymun=undef
    ccdlflags=' '
    cccdlflags=' '
    lddlflags='-mdll -s -L"C:\Strawberry\perl\lib\CORE" -L"C:\Strawberry\c\lib"'


Characteristics of this binary (from libperl): 
  Compile-time options:
    HAS_TIMES
    HAVE_INTERP_INTERN
    MULTIPLICITY
    PERLIO_LAYERS
    PERL_COPY_ON_WRITE
    PERL_DONT_CREATE_GVSV
    PERL_IMPLICIT_CONTEXT
    PERL_IMPLICIT_SYS
    PERL_MALLOC_WRAP
    PERL_OP_PARENT
    PERL_PRESERVE_IVUV
    USE_64_BIT_INT
    USE_ITHREADS
    USE_LARGE_FILES
    USE_LOCALE
    USE_LOCALE_COLLATE
    USE_LOCALE_CTYPE
    USE_LOCALE_NUMERIC
    USE_LOCALE_TIME
    USE_PERLIO
    USE_PERL_ATOF
  Built under MSWin32
  Compiled at Aug  2 2020 19:51:20
  %ENV:
    PERL5LIB="C:\home\sunnyday\perl5\lib\perl5"
    PERL5_CPANPLUS_IS_RUNNING="3968"
    PERL5_CPAN_IS_RUNNING="3968"
    PERL_LOCAL_LIB_ROOT="C:\home\sunnyday\perl5"
    PERL_MB_OPT="--install_base "C:\\home\\sunnyday\\perl5""
    PERL_MM_OPT="INSTALL_BASE=C:\\home\\sunnyday\\perl5"
    PERL_MM_USE_DEFAULT="1"
    PERL_USE_UNSAFE_INC="1"
  @INC:
    C:\home\sunnyday\perl5\lib\perl5/MSWin32-x64-multi-thread
    C:\home\sunnyday\perl5\lib\perl5
    C:/Strawberry/perl/site/lib
    C:/Strawberry/perl/vendor/lib
    C:/Strawberry/perl/lib
    .