Report for Gtk2-WebKit-0.09

Back
From: metabase:user:3143a46e-bb30-11e0-8dd5-45d7e6fb0a34
Subject: PASS Gtk2-WebKit-0.09 v5.16.2 GNU/Linux
Date: 2013-03-31T14:39:23Z

This distribution has been tested as part of the CPAN Testers
project, supporting the Perl programming language.  See
http://wiki.cpantesters.org/ for more information or email
questions to cpan-testers-discuss@perl.org


--
Dear Florian Ragwitz,

This is a computer-generated report for Gtk2-WebKit-0.09
on perl 5.16.2, created by CPAN-Reporter-1.2009.

Thank you for uploading your work to CPAN.  Congratulations!
All tests were successful.

Sections of this report:

    * Tester comments
    * Program output
    * Prerequisites
    * Environment and other context

------------------------------
TESTER COMMENTS
------------------------------

Additional comments from tester:

none provided

------------------------------
PROGRAM OUTPUT
------------------------------

Output from '/usr/bin/make test':

PERL_DL_NONLAZY=1 /home/kirk/perl5/perlbrew/perls/perl-5.16.2/bin/perl "-MExtUtils::Command::MM" "-e" "test_harness(0, 'inc', 'blib/lib', 'blib/arch')" t/*.t
# Testing Gtk2::WebKit 0.09
t/00.load.t .............................. ok
t/pod.t .................................. ok
t/podcoverage.t .......................... skipped: Set TEST_POD to enable this
GLib-GIO-Message: Using the 'memory' GSettings backend.  Your settings will not be saved or shared with other applications.
/home/abuild/rpmbuild/BUILD/icedtea-web-1.3.1/plugin/icedteanp/IcedTeaNPPlugin.cc:1592: thread 0x114ae00: Error: Failed to spawn applet viewer: Failed to execute child process "/usr/lib64/jvm/jre//bin/java" (No such file or directory)
t/webview_signal_create_plugin_widget.t .. ok
All tests successful.
Files=4, Tests=25,  9 wallclock secs ( 0.02 usr  0.01 sys +  0.37 cusr  0.06 csys =  0.46 CPU)
Result: PASS

------------------------------
PREREQUISITES
------------------------------

Prerequisite modules loaded:

requires:

    Module              Need  Have    
    ------------------- ----- --------
    Gtk2                0     1.247   
    perl                5.008 5.016002

build_requires:

    Module              Need  Have    
    ------------------- ----- --------
    ExtUtils::Depends   0     0.304   
    ExtUtils::MakeMaker 6.42  6.63_02 
    ExtUtils::PkgConfig 0     1.14    
    Glib::MakeHelper    0     0.03    
    Gtk2::CodeGen       0     0.03    
    Test::More          0.89  0.98    

configure_requires:

    Module              Need  Have    
    ------------------- ----- --------
    ExtUtils::Depends   0     0.304   
    ExtUtils::MakeMaker 6.42  6.63_02 
    ExtUtils::PkgConfig 0     1.14    
    Glib::MakeHelper    0     0.03    
    Gtk2::CodeGen       0     0.03    


------------------------------
ENVIRONMENT AND OTHER CONTEXT
------------------------------

Environment variables:

    LANG = en_US.UTF-8
    PATH = /home/kirk/perl5/perlbrew/bin:/home/kirk/perl5/perlbrew/perls/perl-5.16.2/bin:/home/kirk/bin:/usr/local/bin:/usr/bin:/bin:/usr/bin/X11:/usr/X11R6/bin:/usr/games:/opt/kde3/bin:/usr/lib/mit/bin:/usr/lib/mit/sbin:/opt/gnome/bin
    PATH_WITHOUT_PERLBREW = /home/kirk/bin:/usr/local/bin:/usr/bin:/bin:/usr/bin/X11:/usr/X11R6/bin:/usr/games:/opt/kde3/bin:/usr/lib/mit/bin:/usr/lib/mit/sbin:/opt/gnome/bin
    PERL5LIB = 
    PERL5OPT = 
    PERL5_CPANPLUS_IS_RUNNING = 17008
    PERL5_CPAN_IS_RUNNING = 17008
    PERLBREW_HOME = /home/kirk/.perlbrew
    PERLBREW_MANPATH = /home/kirk/perl5/perlbrew/perls/perl-5.16.2/man
    PERLBREW_PATH = /home/kirk/perl5/perlbrew/bin:/home/kirk/perl5/perlbrew/perls/perl-5.16.2/bin
    PERLBREW_PERL = perl-5.16.2
    PERLBREW_ROOT = /home/kirk/perl5/perlbrew
    PERLBREW_VERSION = 0.59
    SHELL = /bin/bash
    TERM = xterm
    TMPDIR = /tmp

Perl special variables (and OS-specific diagnostics, for MSWin32):

    $^X = /home/kirk/perl5/perlbrew/perls/perl-5.16.2/bin/perl
    $UID/$EUID = 1000 / 1000
    $GID = 100 17 20 33 100 108
    $EGID = 100 17 20 33 100 108

Perl module toolchain versions installed:

    Module              Have    
    ------------------- --------
    CPAN                1.9800  
    CPAN::Meta          2.120921
    Cwd                 3.40    
    ExtUtils::CBuilder  0.280206
    ExtUtils::Command   1.17    
    ExtUtils::Install   1.58    
    ExtUtils::MakeMaker 6.63_02 
    ExtUtils::Manifest  1.61    
    ExtUtils::ParseXS   3.16    
    File::Spec          3.40    
    JSON                2.53    
    JSON::PP            2.27200 
    Module::Build       0.4003  
    Module::Signature   n/a     
    Parse::CPAN::Meta   1.4404  
    Test::Harness       3.23    
    Test::More          0.98    
    YAML                0.84    
    YAML::Syck          n/a     
    version             0.99    


--

Summary of my perl5 (revision 5 version 16 subversion 2) configuration:
   
  Platform:
    osname=linux, osvers=3.4.11-2.16-desktop, archname=x86_64-linux
    uname='linux rock-on 3.4.11-2.16-desktop #1 smp preempt wed sep 26 17:05:00 utc 2012 (259fc87) x86_64 x86_64 x86_64 gnulinux '
    config_args='-de -Dprefix=/home/kirk/perl5/perlbrew/perls/perl-5.16.2 -Aeval:scriptdir=/home/kirk/perl5/perlbrew/perls/perl-5.16.2/bin'
    hint=recommended, useposix=true, d_sigaction=define
    useithreads=undef, usemultiplicity=undef
    useperlio=define, d_sfio=undef, uselargefiles=define, usesocks=undef
    use64bitint=define, use64bitall=define, uselongdouble=undef
    usemymalloc=n, bincompat5005=undef
  Compiler:
    cc='cc', ccflags ='-fno-strict-aliasing -pipe -fstack-protector -I/usr/local/include -D_LARGEFILE_SOURCE -D_FILE_OFFSET_BITS=64',
    optimize='-O2',
    cppflags='-fno-strict-aliasing -pipe -fstack-protector -I/usr/local/include'
    ccversion='', gccversion='4.7.1 20120723 [gcc-4_7-branch revision 189773]', gccosandvers=''
    intsize=4, longsize=8, ptrsize=8, doublesize=8, byteorder=12345678
    d_longlong=define, longlongsize=8, d_longdbl=define, longdblsize=16
    ivtype='long', ivsize=8, nvtype='double', nvsize=8, Off_t='off_t', lseeksize=8
    alignbytes=8, prototype=define
  Linker and Libraries:
    ld='cc', ldflags =' -fstack-protector -L/usr/local/lib'
    libpth=/usr/local/lib /lib/../lib64 /usr/lib/../lib64 /lib /usr/lib /lib64 /usr/lib64 /usr/local/lib64
    libs=-lnsl -lgdbm -ldb -ldl -lm -lcrypt -lutil -lc -lgdbm_compat
    perllibs=-lnsl -ldl -lm -lcrypt -lutil -lc
    libc=/lib/libc-2.15.so, so=so, useshrplib=false, libperl=libperl.a
    gnulibc_version='2.15'
  Dynamic Linking:
    dlsrc=dl_dlopen.xs, dlext=so, d_dlsymun=undef, ccdlflags='-Wl,-E'
    cccdlflags='-fPIC', lddlflags='-shared -O2 -L/usr/local/lib -fstack-protector'


Characteristics of this binary (from libperl): 
  Compile-time options: HAS_TIMES PERLIO_LAYERS PERL_DONT_CREATE_GVSV
                        PERL_MALLOC_WRAP PERL_PRESERVE_IVUV USE_64_BIT_ALL
                        USE_64_BIT_INT USE_LARGE_FILES USE_LOCALE
                        USE_LOCALE_COLLATE USE_LOCALE_CTYPE
                        USE_LOCALE_NUMERIC USE_PERLIO USE_PERL_ATOF
  Built under linux
  Compiled at Jan  2 2013 17:29:21
  %ENV:
    PERL5LIB=""
    PERL5OPT=""
    PERL5_CPANPLUS_IS_RUNNING="17008"
    PERL5_CPAN_IS_RUNNING="17008"
    PERLBREW_HOME="/home/kirk/.perlbrew"
    PERLBREW_MANPATH="/home/kirk/perl5/perlbrew/perls/perl-5.16.2/man"
    PERLBREW_PATH="/home/kirk/perl5/perlbrew/bin:/home/kirk/perl5/perlbrew/perls/perl-5.16.2/bin"
    PERLBREW_PERL="perl-5.16.2"
    PERLBREW_ROOT="/home/kirk/perl5/perlbrew"
    PERLBREW_VERSION="0.59"
  @INC:
    /home/kirk/perl5/perlbrew/perls/perl-5.16.2/lib/site_perl/5.16.2/x86_64-linux
    /home/kirk/perl5/perlbrew/perls/perl-5.16.2/lib/site_perl/5.16.2
    /home/kirk/perl5/perlbrew/perls/perl-5.16.2/lib/5.16.2/x86_64-linux
    /home/kirk/perl5/perlbrew/perls/perl-5.16.2/lib/5.16.2
    .