Report for Dist-Zilla-Plugin-Test-Synopsis-2.000004

Back
From: metabase:user:320bfe00-2aae-11df-837a-5e0a49663a4f
Subject: PASS Dist-Zilla-Plugin-Test-Synopsis-2.000004 v5.14.4 GNU/Linux
Date: 2013-09-10T13:13:27Z

This distribution has been tested as part of the CPAN Testers
project, supporting the Perl programming language.  See
http://wiki.cpantesters.org/ for more information or email
questions to cpan-testers-discuss@perl.org


--
Dear Mike Doherty,

This is a computer-generated report for Dist-Zilla-Plugin-Test-Synopsis-2.000004
on perl 5.14.4, created by CPAN-Reporter-1.2010.

Thank you for uploading your work to CPAN.  Congratulations!
All tests were successful.

Sections of this report:

    * Tester comments
    * Program output
    * Prerequisites
    * Environment and other context

------------------------------
TESTER COMMENTS
------------------------------

Additional comments from tester:

this report is from an automated smoke testing program
and was not reviewed by a human for accuracy

------------------------------
PROGRAM OUTPUT
------------------------------

Output from './Build test':

t/00-compile.t .. ok
Class::MOP::load_class is deprecated at /home/sand/src/perl/repoperls/installed-perls/perl/v5.14.4/a2da/lib/site_perl/5.14.4/x86_64-linux-thread-multi-ld/Class/MOP.pm line 76.
	Class::MOP::load_class("MooseX::Role::Parameterized::Meta::Role::Parameterized") called at /home/sand/src/perl/repoperls/installed-perls/perl/v5.14.4/a2da/lib/site_perl/5.14.4/MooseX/Role/Parameterized/Meta/Role/Parameterizable.pm line 60
	MooseX::Role::Parameterized::Meta::Role::Parameterizable::generate_role(MooseX::Role::Parameterized::Meta::Role::Parameterizable=HASH(0x3a7ee10), "consumer", Moose::Meta::Role=HASH(0x39d0400), "parameters", HASH(0x3a27c38)) called at /home/sand/src/perl/repoperls/installed-perls/perl/v5.14.4/a2da/lib/site_perl/5.14.4/MooseX/Role/Parameterized/Meta/Role/Parameterizable.pm line 104
	MooseX::Role::Parameterized::Meta::Role::Parameterizable::apply(MooseX::Role::Parameterized::Meta::Role::Parameterizable=HASH(0x3a7ee10), Moose::Meta::Role=HASH(0x39d0400)) called at /home/sand/src/perl/repoperls/installed-perls/perl/v5.14.4/a2da/lib/site_perl/5.14.4/x86_64-linux-thread-multi-ld/Moose/Util.pm line 160
	Moose::Util::_apply_all_roles(Moose::Meta::Role=HASH(0x39d0400), undef, "MooseX::Getopt::GLD") called at /home/sand/src/perl/repoperls/installed-perls/perl/v5.14.4/a2da/lib/site_perl/5.14.4/x86_64-linux-thread-multi-ld/Moose/Util.pm line 99
	Moose::Util::apply_all_roles(Moose::Meta::Role=HASH(0x39d0400), "MooseX::Getopt::GLD") called at /home/sand/src/perl/repoperls/installed-perls/perl/v5.14.4/a2da/lib/site_perl/5.14.4/x86_64-linux-thread-multi-ld/Moose/Role.pm line 30
	Moose::Role::with(Moose::Meta::Role=HASH(0x39d0400), "MooseX::Getopt::GLD") called at /home/sand/src/perl/repoperls/installed-perls/perl/v5.14.4/a2da/lib/site_perl/5.14.4/x86_64-linux-thread-multi-ld/Moose/Exporter.pm line 409
	Moose::Role::with("MooseX::Getopt::GLD") called at /home/sand/src/perl/repoperls/installed-perls/perl/v5.14.4/a2da/lib/site_perl/5.14.4/MooseX/Getopt.pm line 14
	require MooseX/Getopt.pm called at /home/sand/src/perl/repoperls/installed-perls/perl/v5.14.4/a2da/lib/site_perl/5.14.4/MooseX/Types/Path/Class.pm line 35
	eval {...} called at /home/sand/src/perl/repoperls/installed-perls/perl/v5.14.4/a2da/lib/site_perl/5.14.4/MooseX/Types/Path/Class.pm line 35
	require MooseX/Types/Path/Class.pm called at /home/sand/src/perl/repoperls/installed-perls/perl/v5.14.4/a2da/lib/site_perl/5.14.4/Dist/Zilla/Dist/Builder.pm line 11
	Dist::Zilla::Dist::Builder::BEGIN() called at /home/sand/src/perl/repoperls/installed-perls/perl/v5.14.4/a2da/lib/site_perl/5.14.4/MooseX/Getopt.pm line 0
	eval {...} called at /home/sand/src/perl/repoperls/installed-perls/perl/v5.14.4/a2da/lib/site_perl/5.14.4/MooseX/Getopt.pm line 0
	require Dist/Zilla/Dist/Builder.pm called at /home/sand/src/perl/repoperls/installed-perls/perl/v5.14.4/a2da/lib/site_perl/5.14.4/Module/Runtime.pm line 317
	Module::Runtime::require_module("Dist::Zilla::Dist::Builder") called at /home/sand/src/perl/repoperls/installed-perls/perl/v5.14.4/a2da/lib/site_perl/5.14.4/Module/Runtime.pm line 383
	eval {...} called at /home/sand/src/perl/repoperls/installed-perls/perl/v5.14.4/a2da/lib/site_perl/5.14.4/Module/Runtime.pm line 383
	Module::Runtime::use_package_optimistically("Dist::Zilla::Dist::Builder", undef) called at /home/sand/src/perl/repoperls/installed-perls/perl/v5.14.4/a2da/lib/site_perl/5.14.4/x86_64-linux-thread-multi-ld/Moose/Util.pm line 339
	Moose::Util::_load_user_class("Dist::Zilla::Dist::Builder", undef) called at /home/sand/src/perl/repoperls/installed-perls/perl/v5.14.4/a2da/lib/site_perl/5.14.4/x86_64-linux-thread-multi-ld/Moose/Meta/Class.pm line 563
	Moose::Meta::Class::superclasses(undef, "Dist::Zilla::Dist::Builder") called at /home/sand/src/perl/repoperls/installed-perls/perl/v5.14.4/a2da/lib/site_perl/5.14.4/x86_64-linux-thread-multi-ld/Moose.pm line 63
	Moose::extends(Moose::Meta::Class=HASH(0x316c5f8), "Dist::Zilla::Dist::Builder") called at /home/sand/src/perl/repoperls/installed-perls/perl/v5.14.4/a2da/lib/site_perl/5.14.4/x86_64-linux-thread-multi-ld/Moose/Exporter.pm line 409
	Moose::extends("Dist::Zilla::Dist::Builder") called at /home/sand/src/perl/repoperls/installed-perls/perl/v5.14.4/a2da/lib/site_perl/5.14.4/Dist/Zilla/Tester.pm line 6
	require Dist/Zilla/Tester.pm called at /home/sand/src/perl/repoperls/installed-perls/perl/v5.14.4/a2da/lib/site_perl/5.14.4/Test/DZil.pm line 9
	Test::DZil::BEGIN() called at /home/sand/src/perl/repoperls/installed-perls/perl/v5.14.4/a2da/lib/site_perl/5.14.4/MooseX/Getopt.pm line 0
	eval {...} called at /home/sand/src/perl/repoperls/installed-perls/perl/v5.14.4/a2da/lib/site_perl/5.14.4/MooseX/Getopt.pm line 0
	require Test/DZil.pm called at t/deprecated.t line 6
	main::BEGIN() called at /home/sand/src/perl/repoperls/installed-perls/perl/v5.14.4/a2da/lib/site_perl/5.14.4/MooseX/Getopt.pm line 0
	eval {...} called at /home/sand/src/perl/repoperls/installed-perls/perl/v5.14.4/a2da/lib/site_perl/5.14.4/MooseX/Getopt.pm line 0
t/deprecated.t .. ok
Class::MOP::load_class is deprecated at /home/sand/src/perl/repoperls/installed-perls/perl/v5.14.4/a2da/lib/site_perl/5.14.4/x86_64-linux-thread-multi-ld/Class/MOP.pm line 76.
	Class::MOP::load_class("MooseX::Role::Parameterized::Meta::Role::Parameterized") called at /home/sand/src/perl/repoperls/installed-perls/perl/v5.14.4/a2da/lib/site_perl/5.14.4/MooseX/Role/Parameterized/Meta/Role/Parameterizable.pm line 60
	MooseX::Role::Parameterized::Meta::Role::Parameterizable::generate_role(MooseX::Role::Parameterized::Meta::Role::Parameterizable=HASH(0x36a2d90), "consumer", Moose::Meta::Role=HASH(0x35c9a10), "parameters", HASH(0x3621578)) called at /home/sand/src/perl/repoperls/installed-perls/perl/v5.14.4/a2da/lib/site_perl/5.14.4/MooseX/Role/Parameterized/Meta/Role/Parameterizable.pm line 104
	MooseX::Role::Parameterized::Meta::Role::Parameterizable::apply(MooseX::Role::Parameterized::Meta::Role::Parameterizable=HASH(0x36a2d90), Moose::Meta::Role=HASH(0x35c9a10)) called at /home/sand/src/perl/repoperls/installed-perls/perl/v5.14.4/a2da/lib/site_perl/5.14.4/x86_64-linux-thread-multi-ld/Moose/Util.pm line 160
	Moose::Util::_apply_all_roles(Moose::Meta::Role=HASH(0x35c9a10), undef, "MooseX::Getopt::GLD") called at /home/sand/src/perl/repoperls/installed-perls/perl/v5.14.4/a2da/lib/site_perl/5.14.4/x86_64-linux-thread-multi-ld/Moose/Util.pm line 99
	Moose::Util::apply_all_roles(Moose::Meta::Role=HASH(0x35c9a10), "MooseX::Getopt::GLD") called at /home/sand/src/perl/repoperls/installed-perls/perl/v5.14.4/a2da/lib/site_perl/5.14.4/x86_64-linux-thread-multi-ld/Moose/Role.pm line 30
	Moose::Role::with(Moose::Meta::Role=HASH(0x35c9a10), "MooseX::Getopt::GLD") called at /home/sand/src/perl/repoperls/installed-perls/perl/v5.14.4/a2da/lib/site_perl/5.14.4/x86_64-linux-thread-multi-ld/Moose/Exporter.pm line 409
	Moose::Role::with("MooseX::Getopt::GLD") called at /home/sand/src/perl/repoperls/installed-perls/perl/v5.14.4/a2da/lib/site_perl/5.14.4/MooseX/Getopt.pm line 14
	require MooseX/Getopt.pm called at /home/sand/src/perl/repoperls/installed-perls/perl/v5.14.4/a2da/lib/site_perl/5.14.4/MooseX/Types/Path/Class.pm line 35
	eval {...} called at /home/sand/src/perl/repoperls/installed-perls/perl/v5.14.4/a2da/lib/site_perl/5.14.4/MooseX/Types/Path/Class.pm line 35
	require MooseX/Types/Path/Class.pm called at /home/sand/src/perl/repoperls/installed-perls/perl/v5.14.4/a2da/lib/site_perl/5.14.4/Dist/Zilla/Dist/Builder.pm line 11
	Dist::Zilla::Dist::Builder::BEGIN() called at /home/sand/src/perl/repoperls/installed-perls/perl/v5.14.4/a2da/lib/site_perl/5.14.4/MooseX/Getopt.pm line 0
	eval {...} called at /home/sand/src/perl/repoperls/installed-perls/perl/v5.14.4/a2da/lib/site_perl/5.14.4/MooseX/Getopt.pm line 0
	require Dist/Zilla/Dist/Builder.pm called at /home/sand/src/perl/repoperls/installed-perls/perl/v5.14.4/a2da/lib/site_perl/5.14.4/Module/Runtime.pm line 317
	Module::Runtime::require_module("Dist::Zilla::Dist::Builder") called at /home/sand/src/perl/repoperls/installed-perls/perl/v5.14.4/a2da/lib/site_perl/5.14.4/Module/Runtime.pm line 383
	eval {...} called at /home/sand/src/perl/repoperls/installed-perls/perl/v5.14.4/a2da/lib/site_perl/5.14.4/Module/Runtime.pm line 383
	Module::Runtime::use_package_optimistically("Dist::Zilla::Dist::Builder", undef) called at /home/sand/src/perl/repoperls/installed-perls/perl/v5.14.4/a2da/lib/site_perl/5.14.4/x86_64-linux-thread-multi-ld/Moose/Util.pm line 339
	Moose::Util::_load_user_class("Dist::Zilla::Dist::Builder", undef) called at /home/sand/src/perl/repoperls/installed-perls/perl/v5.14.4/a2da/lib/site_perl/5.14.4/x86_64-linux-thread-multi-ld/Moose/Meta/Class.pm line 563
	Moose::Meta::Class::superclasses(undef, "Dist::Zilla::Dist::Builder") called at /home/sand/src/perl/repoperls/installed-perls/perl/v5.14.4/a2da/lib/site_perl/5.14.4/x86_64-linux-thread-multi-ld/Moose.pm line 63
	Moose::extends(Moose::Meta::Class=HASH(0x2bc2d48), "Dist::Zilla::Dist::Builder") called at /home/sand/src/perl/repoperls/installed-perls/perl/v5.14.4/a2da/lib/site_perl/5.14.4/x86_64-linux-thread-multi-ld/Moose/Exporter.pm line 409
	Moose::extends("Dist::Zilla::Dist::Builder") called at /home/sand/src/perl/repoperls/installed-perls/perl/v5.14.4/a2da/lib/site_perl/5.14.4/Dist/Zilla/Tester.pm line 6
	require Dist/Zilla/Tester.pm called at /home/sand/src/perl/repoperls/installed-perls/perl/v5.14.4/a2da/lib/site_perl/5.14.4/Test/DZil.pm line 9
	Test::DZil::BEGIN() called at /home/sand/src/perl/repoperls/installed-perls/perl/v5.14.4/a2da/lib/site_perl/5.14.4/MooseX/Getopt.pm line 0
	eval {...} called at /home/sand/src/perl/repoperls/installed-perls/perl/v5.14.4/a2da/lib/site_perl/5.14.4/MooseX/Getopt.pm line 0
	require Test/DZil.pm called at t/everything.t line 5
	main::BEGIN() called at /home/sand/src/perl/repoperls/installed-perls/perl/v5.14.4/a2da/lib/site_perl/5.14.4/MooseX/Getopt.pm line 0
	eval {...} called at /home/sand/src/perl/repoperls/installed-perls/perl/v5.14.4/a2da/lib/site_perl/5.14.4/MooseX/Getopt.pm line 0
t/everything.t .. ok
All tests successful.
Files=3, Tests=5,  9 wallclock secs ( 0.02 usr  0.01 sys +  2.74 cusr  0.25 csys =  3.02 CPU)
Result: PASS

------------------------------
PREREQUISITES
------------------------------

Prerequisite modules loaded:

requires:

    Module                           Need   Have    
    -------------------------------- ------ --------
    Dist::Zilla                      4      4.300037
    Dist::Zilla::Plugin::InlineFiles 0      4.300037
    Moose                            0      2.1100  
    perl                             5.008  5.014004
    strict                           0      1.04    
    Test::Synopsis                   0      0.06    
    warnings                         0      1.12    

build_requires:

    Module                           Need   Have    
    -------------------------------- ------ --------
    autodie                          0      2.20    
    Capture::Tiny                    0      0.22    
    Module::Build                    0.3601 0.4007  
    Moose::Autobox                   0      0.13    
    Test::DZil                       0      4.300037
    Test::More                       0.96   0.98    
    Test::Output                     0      1.02    

configure_requires:

    Module                           Need   Have    
    -------------------------------- ------ --------
    Module::Build                    0.3601 0.4007  


------------------------------
ENVIRONMENT AND OTHER CONTEXT
------------------------------

Environment variables:

    AUTOMATED_TESTING = 1
    LANG = en_US.UTF-8
    LANGUAGE = en_US:en
    PATH = /usr/lib/ccache:/home/sand/bin:/usr/local/bin:/usr/bin:/bin:/usr/bin/X11:/usr/games:/usr/local/perl/bin:/usr/X11/bin:/sbin:/usr/sbin
    PERL5LIB = 
    PERL5OPT = 
    PERL5_CPANPLUS_IS_RUNNING = 8072
    PERL5_CPAN_IS_RUNNING = 8072
    PERL_MM_USE_DEFAULT = 1
    SHELL = /usr/bin/zsh
    TERM = screen

Perl special variables (and OS-specific diagnostics, for MSWin32):

    $^X = /home/sand/src/perl/repoperls/installed-perls/perl/v5.14.4/a2da/bin/perl
    $UID/$EUID = 1005 / 1005
    $GID = 1005 1005
    $EGID = 1005 1005

Perl module toolchain versions installed:

    Module              Have    
    ------------------- --------
    CPAN                2.00    
    CPAN::Meta          2.132510
    Cwd                 3.40    
    ExtUtils::CBuilder  0.280212
    ExtUtils::Command   1.17    
    ExtUtils::Install   1.56    
    ExtUtils::MakeMaker 6.76    
    ExtUtils::Manifest  1.60    
    ExtUtils::ParseXS   2.2210  
    File::Spec          3.40    
    JSON                2.59    
    JSON::PP            2.27202 
    Module::Build       0.4007  
    Module::Signature   0.73    
    Parse::CPAN::Meta   1.4407  
    Test::Harness       3.28    
    Test::More          0.98    
    YAML                0.84    
    YAML::Syck          1.27    
    version             0.9904  


--

Summary of my perl5 (revision 5 version 14 subversion 4) configuration:
  Commit id: 26c5c13a4ece9084f310610bb17fb2f24c72a73e
  Platform:
    osname=linux, osvers=3.10-2-amd64, archname=x86_64-linux-thread-multi-ld
    uname='linux k83 3.10-2-amd64 #1 smp debian 3.10.7-1 (2013-08-17) x86_64 gnulinux '
    config_args='-Dprefix=/home/sand/src/perl/repoperls/installed-perls/perl/v5.14.4/a2da -Dmyhostname=k83 -Dinstallusrbinperl=n -Uversiononly -Dusedevel -des -Ui_db -Duseithreads -Duselongdouble -DDEBUGGING=-g'
    hint=recommended, useposix=true, d_sigaction=define
    useithreads=define, usemultiplicity=define
    useperlio=define, d_sfio=undef, uselargefiles=define, usesocks=undef
    use64bitint=define, use64bitall=define, uselongdouble=define
    usemymalloc=n, bincompat5005=undef
  Compiler:
    cc='cc', ccflags ='-D_REENTRANT -D_GNU_SOURCE -fno-strict-aliasing -pipe -fstack-protector -I/usr/local/include -D_LARGEFILE_SOURCE -D_FILE_OFFSET_BITS=64',
    optimize='-O2 -g',
    cppflags='-D_REENTRANT -D_GNU_SOURCE -fno-strict-aliasing -pipe -fstack-protector -I/usr/local/include'
    ccversion='', gccversion='4.8.1', gccosandvers=''
    intsize=4, longsize=8, ptrsize=8, doublesize=8, byteorder=12345678
    d_longlong=define, longlongsize=8, d_longdbl=define, longdblsize=16
    ivtype='long', ivsize=8, nvtype='long double', nvsize=16, Off_t='off_t', lseeksize=8
    alignbytes=16, prototype=define
  Linker and Libraries:
    ld='cc', ldflags =' -fstack-protector -L/usr/local/lib'
    libpth=/usr/local/lib /lib/x86_64-linux-gnu /lib/../lib /usr/lib/x86_64-linux-gnu /usr/lib/../lib /lib /usr/lib
    libs=-lnsl -lgdbm -ldb -ldl -lm -lcrypt -lutil -lpthread -lc -lgdbm_compat
    perllibs=-lnsl -ldl -lm -lcrypt -lutil -lpthread -lc
    libc=, so=so, useshrplib=false, libperl=libperl.a
    gnulibc_version='2.17'
  Dynamic Linking:
    dlsrc=dl_dlopen.xs, dlext=so, d_dlsymun=undef, ccdlflags='-Wl,-E'
    cccdlflags='-fPIC', lddlflags='-shared -O2 -g -L/usr/local/lib -fstack-protector'


Characteristics of this binary (from libperl): 
  Compile-time options: MULTIPLICITY PERL_DONT_CREATE_GVSV
                        PERL_IMPLICIT_CONTEXT PERL_MALLOC_WRAP
                        PERL_PRESERVE_IVUV PERL_USE_DEVEL USE_64_BIT_ALL
                        USE_64_BIT_INT USE_ITHREADS USE_LARGE_FILES
                        USE_LONG_DOUBLE USE_PERLIO USE_PERL_ATOF
                        USE_REENTRANT_API
  Built under linux
  Compiled at Sep  3 2013 08:35:47
  %ENV:
    PERL5LIB=""
    PERL5OPT=""
    PERL5_CPANPLUS_IS_RUNNING="8072"
    PERL5_CPAN_IS_RUNNING="8072"
    PERL_MM_USE_DEFAULT="1"
  @INC:
    /home/sand/src/perl/repoperls/installed-perls/perl/v5.14.4/a2da/lib/site_perl/5.14.4/x86_64-linux-thread-multi-ld
    /home/sand/src/perl/repoperls/installed-perls/perl/v5.14.4/a2da/lib/site_perl/5.14.4
    /home/sand/src/perl/repoperls/installed-perls/perl/v5.14.4/a2da/lib/5.14.4/x86_64-linux-thread-multi-ld
    /home/sand/src/perl/repoperls/installed-perls/perl/v5.14.4/a2da/lib/5.14.4
    .