Finance-Contract v0.011 Perl 5 v5.24.2 x86_64-linux
- Status
- Pass
- From
- Slaven Rezić (SREZIC)
- Dist
-
Finance-Contract v0.011
- Platform
- Perl 5 v5.24.2 x86_64-linux
- Date
- 2017-12-21 07:30:12
- ID
- c812083c-e620-11e7-b75a-cb5d3b92a4ed
This distribution has been tested as part of the CPAN Testers
project, supporting the Perl programming language. See
http://wiki.cpantesters.org/ for more information or email
questions to cpan-testers-discuss@perl.org
--
Dear Binary.com,
This is a computer-generated report for Finance-Contract-0.011
on perl 5.24.2, created by CPAN-Reporter-1.2018.
Thank you for uploading your work to CPAN. Congratulations!
All tests were successful.
Sections of this report:
* Tester comments
* Program output
* Prerequisites
* Environment and other context
------------------------------
TESTER COMMENTS
------------------------------
Additional comments from tester:
none provided
------------------------------
PROGRAM OUTPUT
------------------------------
Output from '/usr/bin/make test':
Skip blib/lib/auto/share/dist/Finance-Contract/contract_categories.yml (unchanged)
Skip blib/lib/auto/share/dist/Finance-Contract/contract_types.yml (unchanged)
PERL_DL_NONLAZY=1 "/bbbike/perl-5.24.2/bin/perl5.24.2" "-MExtUtils::Command::MM" "-MTest::Harness" "-e" "undef *Test::Harness::Switches; test_harness(0, 'blib/lib', 'blib/arch')" t/*.t
t/00-check-deps.t ......... ok
t/00-compile.t ............ ok
#
# Versions for all modules listed in MYMETA.json (including optional ones):
#
# === Configure Requires ===
#
# Module Want Have
# ----------------------- ---- ----
# ExtUtils::MakeMaker 6.48 7.30
# File::ShareDir::Install 0.06 0.11
#
# === Build Requires ===
#
# Module Want Have
# ------------------- ---- ----
# ExtUtils::MakeMaker any 7.30
#
# === Test Requires ===
#
# Module Want Have
# ------------------- ----- --------
# ExtUtils::MakeMaker any 7.30
# File::Spec any 3.63_01
# IO::Handle any 1.36
# IPC::Open3 any 1.20
# Test::CheckDeps 0.010 0.010
# Test::More 0.94 1.302120
#
# === Test Recommends ===
#
# Module Want Have
# ---------- -------- --------
# CPAN::Meta 2.120900 2.150010
#
# === Runtime Requires ===
#
# Module Want Have
# ---------------------------------------- ---- ------
# Date::Utility any 1.08
# Format::Util::Numbers any 0.13
# Math::Util::CalculatedValue::Validatable any 0.07
# Moose any 2.2008
# Time::Duration::Concise any 2.61
# Time::HiRes any 1.9746
# YAML any 1.23
#
t/00-report-prereqs.t ..... ok
t/for_shortcode_string.t .. ok
All tests successful.
Files=4, Tests=35, 3 wallclock secs ( 0.02 usr 0.02 sys + 1.22 cusr 0.33 csys = 1.59 CPU)
Result: PASS
------------------------------
PREREQUISITES
------------------------------
Prerequisite modules loaded:
requires:
Module Need Have
---------------------------------------- -------- --------
Date::Utility 0 1.08
Format::Util::Numbers 0 0.13
Math::Util::CalculatedValue::Validatable 0 0.07
Moose 0 2.2008
perl 5.010000 5.024002
Time::Duration::Concise 0 2.61
Time::HiRes 0 1.9746
YAML 0 1.23
build_requires:
Module Need Have
---------------------------------------- -------- --------
ExtUtils::MakeMaker 0 7.30
File::Spec 0 3.63_01
IO::Handle 0 1.36
IPC::Open3 0 1.20
Test::CheckDeps 0.010 0.010
Test::More 0.94 1.302120
configure_requires:
Module Need Have
---------------------------------------- -------- --------
ExtUtils::MakeMaker 6.48 7.30
File::ShareDir::Install 0.06 0.11
------------------------------
ENVIRONMENT AND OTHER CONTEXT
------------------------------
Environment variables:
LANG = C
LC_ALL = de_DE.UTF-8
PATH = /usr/local/bin:/usr/bin:/bin:/usr/local/sbin:/usr/sbin:/sbin:/home/cpansand/bin/linux-gnu:/home/cpansand/bin/sh:/home/cpansand/bin:/usr/games:/home/cpansand/devel:/home/eserte/src/srezic-misc/scripts
PERL5LIB = /home/cpansand/.cpan/build/2017122106/Math-Util-CalculatedValue-0.07-0/blib/arch:/home/cpansand/.cpan/build/2017122106/Math-Util-CalculatedValue-0.07-0/blib/lib:/home/cpansand/.cpan/build/2017122106/MooseX-Role-Validatable-0.10-0/blib/arch:/home/cpansand/.cpan/build/2017122106/MooseX-Role-Validatable-0.10-0/blib/lib:/home/cpansand/.cpan/build/2017122106/Format-Util-0.13-0/blib/arch:/home/cpansand/.cpan/build/2017122106/Format-Util-0.13-0/blib/lib:/home/cpansand/.cpan/build/2017122106/Date-Utility-1.08-0/blib/arch:/home/cpansand/.cpan/build/2017122106/Date-Utility-1.08-0/blib/lib:/home/cpansand/.cpan/build/2017122106/Time-Duration-Concise-Localize-2.61-0/blib/arch:/home/cpansand/.cpan/build/2017122106/Time-Duration-Concise-Localize-2.61-0/blib/lib:/home/cpansand/.cpan/build/2017122106/Tie-Hash-LRU-0.05-0/blib/arch:/home/cpansand/.cpan/build/2017122106/Tie-Hash-LRU-0.05-0/blib/lib:/home/cpansand/.cpan/build/2017122106/WWW-Shorten-URLchen-v0.0.4-0/blib/arch:/home/cpansand/.cpan/build/2017122106/WWW-Shorten-URLchen-v0.0.4-0/blib/lib
PERL5OPT =
PERL5_CPANPLUS_IS_RUNNING = 12215
PERL5_CPAN_IS_RUNNING = 12215
PERL5_CPAN_IS_RUNNING_IN_RECURSION = 12148,12215
PERLDOC = -MPod::Perldoc::ToTextOverstrike
PERL_BATCH = yes
PERL_CANARY_STABILITY_NOPROMPT = 1
PERL_CPAN_REPORTER_CONFIG = /var/tmp/cpansmoker-1023/2017122106/cpanreporter_000_config.ini
PERL_EXTUTILS_AUTOINSTALL = --defaultdeps
PERL_PARALLEL_SMOKER = yes
PERL_USE_UNSAFE_INC = 1
SHELL = /bin/zsh
TERM = screen
TMPDIR = /var/tmp/cpansmoker-1023/2017122106
Perl special variables (and OS-specific diagnostics, for MSWin32):
$^X = /bbbike/perl-5.24.2/bin/perl5.24.2
$UID/$EUID = 1023 / 1023
$GID = 1023 1023
$EGID = 1023 1023
Perl module toolchain versions installed:
Module Have
------------------- --------
CPAN 2.16
CPAN::Meta 2.150010
Cwd 3.63_01
ExtUtils::CBuilder 0.280230
ExtUtils::Command 7.30
ExtUtils::Install 2.06
ExtUtils::MakeMaker 7.30
ExtUtils::Manifest 1.70
ExtUtils::ParseXS 3.31
File::Spec 3.63_01
JSON 2.96
JSON::PP 2.96
Module::Build 0.4224
Module::Signature 0.81
Parse::CPAN::Meta 2.150010
Test::Harness 3.39
Test::More 1.302120
YAML 1.23
YAML::Syck 1.30
version 0.9916
--
Summary of my perl5 (revision 5 version 24 subversion 2) configuration:
Platform:
osname=linux, osvers=3.16.0-4-amd64, archname=x86_64-linux
uname='linux eserte 3.16.0-4-amd64 #1 smp debian 3.16.43-2+deb8u2 (2017-06-26) x86_64 gnulinux '
config_args='-ds -e -Dprefix=/opt/perl-5.24.2 -Dcf_email=srezic@cpan.org'
hint=recommended, useposix=true, d_sigaction=define
useithreads=undef, usemultiplicity=undef
use64bitint=define, use64bitall=define, uselongdouble=undef
usemymalloc=n, bincompat5005=undef
Compiler:
cc='cc', ccflags ='-fwrapv -fno-strict-aliasing -pipe -fstack-protector-strong -I/usr/local/include -D_LARGEFILE_SOURCE -D_FILE_OFFSET_BITS=64 -D_FORTIFY_SOURCE=2',
optimize='-O2',
cppflags='-fwrapv -fno-strict-aliasing -pipe -fstack-protector-strong -I/usr/local/include'
ccversion='', gccversion='4.9.2', gccosandvers=''
intsize=4, longsize=8, ptrsize=8, doublesize=8, byteorder=12345678, doublekind=3
d_longlong=define, longlongsize=8, d_longdbl=define, longdblsize=16, longdblkind=3
ivtype='long', ivsize=8, nvtype='double', nvsize=8, Off_t='off_t', lseeksize=8
alignbytes=8, prototype=define
Linker and Libraries:
ld='cc', ldflags =' -fstack-protector-strong -L/usr/local/lib'
libpth=/usr/local/lib /usr/lib/gcc/x86_64-linux-gnu/4.9/include-fixed /usr/include/x86_64-linux-gnu /usr/lib /lib/x86_64-linux-gnu /lib/../lib /usr/lib/x86_64-linux-gnu /usr/lib/../lib /lib
libs=-lpthread -lnsl -lgdbm -ldb -ldl -lm -lcrypt -lutil -lc -lgdbm_compat
perllibs=-lpthread -lnsl -ldl -lm -lcrypt -lutil -lc
libc=libc-2.19.so, so=so, useshrplib=false, libperl=libperl.a
gnulibc_version='2.19'
Dynamic Linking:
dlsrc=dl_dlopen.xs, dlext=so, d_dlsymun=undef, ccdlflags='-Wl,-E'
cccdlflags='-fPIC', lddlflags='-shared -O2 -L/usr/local/lib -fstack-protector-strong'
Characteristics of this binary (from libperl):
Compile-time options: HAS_TIMES PERLIO_LAYERS PERL_COPY_ON_WRITE
PERL_DONT_CREATE_GVSV
PERL_HASH_FUNC_ONE_AT_A_TIME_HARD PERL_MALLOC_WRAP
PERL_PRESERVE_IVUV USE_64_BIT_ALL USE_64_BIT_INT
USE_LARGE_FILES USE_LOCALE USE_LOCALE_COLLATE
USE_LOCALE_CTYPE USE_LOCALE_NUMERIC USE_LOCALE_TIME
USE_PERLIO USE_PERL_ATOF
Built under linux
Compiled at Jul 16 2017 05:26:59
%ENV:
PERL5LIB="/home/cpansand/.cpan/build/2017122106/Math-Util-CalculatedValue-0.07-0/blib/arch:/home/cpansand/.cpan/build/2017122106/Math-Util-CalculatedValue-0.07-0/blib/lib:/home/cpansand/.cpan/build/2017122106/MooseX-Role-Validatable-0.10-0/blib/arch:/home/cpansand/.cpan/build/2017122106/MooseX-Role-Validatable-0.10-0/blib/lib:/home/cpansand/.cpan/build/2017122106/Format-Util-0.13-0/blib/arch:/home/cpansand/.cpan/build/2017122106/Format-Util-0.13-0/blib/lib:/home/cpansand/.cpan/build/2017122106/Date-Utility-1.08-0/blib/arch:/home/cpansand/.cpan/build/2017122106/Date-Utility-1.08-0/blib/lib:/home/cpansand/.cpan/build/2017122106/Time-Duration-Concise-Localize-2.61-0/blib/arch:/home/cpansand/.cpan/build/2017122106/Time-Duration-Concise-Localize-2.61-0/blib/lib:/home/cpansand/.cpan/build/2017122106/Tie-Hash-LRU-0.05-0/blib/arch:/home/cpansand/.cpan/build/2017122106/Tie-Hash-LRU-0.05-0/blib/lib:/home/cpansand/.cpan/build/2017122106/WWW-Shorten-URLchen-v0.0.4-0/blib/arch:/home/cpansand/.cpan/build/2017122106/WWW-Shorten-URLchen-v0.0.4-0/blib/lib"
PERL5OPT=""
PERL5_CPANPLUS_IS_RUNNING="12215"
PERL5_CPAN_IS_RUNNING="12215"
PERL5_CPAN_IS_RUNNING_IN_RECURSION="12148,12215"
PERLDOC="-MPod::Perldoc::ToTextOverstrike"
PERL_BATCH="yes"
PERL_CANARY_STABILITY_NOPROMPT="1"
PERL_CPAN_REPORTER_CONFIG="/var/tmp/cpansmoker-1023/2017122106/cpanreporter_000_config.ini"
PERL_EXTUTILS_AUTOINSTALL="--defaultdeps"
PERL_PARALLEL_SMOKER="yes"
PERL_USE_UNSAFE_INC="1"
@INC:
/home/cpansand/.cpan/build/2017122106/Math-Util-CalculatedValue-0.07-0/blib/arch
/home/cpansand/.cpan/build/2017122106/Math-Util-CalculatedValue-0.07-0/blib/lib
/home/cpansand/.cpan/build/2017122106/MooseX-Role-Validatable-0.10-0/blib/arch
/home/cpansand/.cpan/build/2017122106/MooseX-Role-Validatable-0.10-0/blib/lib
/home/cpansand/.cpan/build/2017122106/Format-Util-0.13-0/blib/arch
/home/cpansand/.cpan/build/2017122106/Format-Util-0.13-0/blib/lib
/home/cpansand/.cpan/build/2017122106/Date-Utility-1.08-0/blib/arch
/home/cpansand/.cpan/build/2017122106/Date-Utility-1.08-0/blib/lib
/home/cpansand/.cpan/build/2017122106/Time-Duration-Concise-Localize-2.61-0/blib/arch
/home/cpansand/.cpan/build/2017122106/Time-Duration-Concise-Localize-2.61-0/blib/lib
/home/cpansand/.cpan/build/2017122106/Tie-Hash-LRU-0.05-0/blib/arch
/home/cpansand/.cpan/build/2017122106/Tie-Hash-LRU-0.05-0/blib/lib
/home/cpansand/.cpan/build/2017122106/WWW-Shorten-URLchen-v0.0.4-0/blib/arch
/home/cpansand/.cpan/build/2017122106/WWW-Shorten-URLchen-v0.0.4-0/blib/lib
/opt/perl-5.24.2/lib/site_perl/5.24.2/x86_64-linux
/opt/perl-5.24.2/lib/site_perl/5.24.2
/opt/perl-5.24.2/lib/5.24.2/x86_64-linux
/opt/perl-5.24.2/lib/5.24.2
.