SQL-Translator v1.60 Perl 5 v5.31.5 cygwin-thread-multi

Status
Pass
From
Carlos Guevara
Dist
SQL-Translator v1.60
Platform
Perl 5 v5.31.5 cygwin-thread-multi
Date
2019-10-19 07:15:57
ID
c8188049-6c03-1014-b3a8-93b13c38e6d9
This distribution has been tested as part of the CPAN Testers
project, supporting the Perl programming language.  See
http://wiki.cpantesters.org/ for more information or email
questions to cpan-testers-discuss@perl.org


--
Dear Dagfinn Ilmari Mannsaker,

This is a computer-generated report for SQL-Translator-1.60
on perl 5.31.5, created by CPAN-Reporter-1.2018.

Thank you for uploading your work to CPAN.  Congratulations!
All tests were successful.

Sections of this report:

    * Tester comments
    * Program output
    * Prerequisites
    * Environment and other context

------------------------------
TESTER COMMENTS
------------------------------

Additional comments from tester:

none provided

------------------------------
PROGRAM OUTPUT
------------------------------

Output from '/usr/bin/make test':

Skip blib/lib/auto/share/dist/SQL-Translator/DiaUml/schema.tt2 (unchanged)
Skip blib/lib/auto/share/dist/SQL-Translator/DiaUml/diagram.tt2 (unchanged)
Skip blib/lib/auto/share/dist/SQL-Translator/DiaUml/uml-class-end.tt2 (unchanged)
Skip blib/lib/auto/share/dist/SQL-Translator/DiaUml/uml-class.tt2 (unchanged)
Skip blib/lib/auto/share/dist/SQL-Translator/DiaUml/layer.tt2 (unchanged)
Skip blib/lib/auto/share/dist/SQL-Translator/DiaUml/uml-class-all.tt2 (unchanged)
Skip blib/lib/auto/share/dist/SQL-Translator/PrecompiledParsers/Parse/RecDescent/DDL/SQLT/README (unchanged)
Skip blib/lib/auto/share/dist/SQL-Translator/DiaUml/uml-class-start.tt2 (unchanged)
Skip blib/lib/auto/share/dist/SQL-Translator/DiaUml/uml-attribute.tt2 (unchanged)
PERL_DL_NONLAZY=1 "/home/cpan/bin/perl-blead/bin/perl5.31.5.exe" "-MExtUtils::Command::MM" "-MTest::Harness" "-e" "undef *Test::Harness::Switches; test_harness(0, 'blib/lib', 'blib/arch')" t/*.t
t/02mysql-parser.t ...................... ok
t/03mysql-to-oracle.t ................... ok
t/04file,fh,string.t .................... ok
t/05bgep-re.t ........................... ok
t/06xsv.t ............................... skipped: Missing dependency: Text::RecordParser
t/07p_args.t ............................ ok
t/08postgres-to-mysql.t ................. ok
t/09sqlt-diagram.t ...................... skipped: Missing dependencies: GD, Graph::Directed, GD
t/10excel.t ............................. skipped: Missing dependency: Spreadsheet::ParseExcel
t/11normalize.t ......................... ok
t/12header_comment.t .................... ok
t/13schema.t ............................ ok
t/14postgres-parser.t ................... ok
t/15oracle-parser.t ..................... ok
t/16xml-parser.t ........................ skipped: Missing dependency: XML::LibXML
t/17sqlfxml-producer.t .................. ok
t/18ttschema-producer.t ................. skipped: Missing dependency: XML::LibXML
t/19sybase-parser.t ..................... ok
t/20format_X_name.t ..................... ok
t/23json.t .............................. ok
t/24yaml.t .............................. ok
t/25storable.t .......................... ok
t/26sybase.t ............................ ok
t/27sqlite-parser.t ..................... ok
t/29html.t .............................. ok
t/30sqlt-new-diff-mysql.t ............... ok
t/30sqlt-new-diff-pgsql.t ............... ok
t/30sqlt-new-diff-sqlite.t .............. ok
t/30sqlt-new-diff.t ..................... ok
t/31dumper.t ............................ ok
t/32schema-lookups.t .................... ok
t/33tt-table-producer.t ................. ok
t/34tt-base.t ........................... skipped: Missing dependency: XML::LibXML
t/35-access-parser.t .................... ok
t/36-filters.t .......................... ok
t/38-filter-names.t ..................... ok
t/38-mysql-producer.t ................... ok
t/39-filter-globals.t ................... ok
t/40oracle-parser-dbi.t ................. ok
t/43xml-to-db2.t ........................ skipped: Missing dependency: XML::LibXML
t/44-xml-to-db2-array.t ................. skipped: Missing dependency: XML::LibXML
t/45db2-producer.t ...................... ok
t/46xml-to-pg.t ......................... skipped: Missing dependency: XML::LibXML
t/47postgres-producer.t ................. ok
t/48xml-to-sqlite.t ..................... skipped: Missing dependency: XML::LibXML
t/49xml-to-pg-samefield.t ............... skipped: Missing dependency: XML::LibXML
t/50-sqlserver-parser.t ................. ok
t/51-xml-to-oracle.t .................... skipped: Missing dependency: XML::LibXML
t/51-xml-to-oracle_quoted.t ............. skipped: Missing dependency: XML::LibXML
t/52-oracle-options.t ................... ok
t/53-oracle-delay-constraints.t ......... ok
t/53-oracle-delay-constraints_quoted.t .. ok
t/54-oracle-alter-field.t ............... ok
t/55-oracle-add-field.t ................. ok
t/55-oracle-producer.t .................. ok
t/56-sqlite-producer.t .................. ok
t/57-class-dbi.t ........................ ok
t/60roundtrip.t ......................... ok
t/61translator_agnostic.t ............... skipped: Missing dependency: XML::LibXML
t/62roundtrip_datacheck.t ............... skipped: Missing dependency: XML::LibXML
t/63-spacial-pgsql.t .................... ok
t/64xml-to-mysql.t ...................... skipped: Missing dependency: XML::LibXML
t/66-postgres-dbi-parser.t .............. skipped: Set $ENV{DBICTEST_PG_DSN}, _USER and _PASS to run this test
t/70sqlt-diff_script.t .................. ok
t/70sqlt-diff_script_old.t .............. ok
t/71-generator-sql_server.t ............. ok
t/72-sqlite-add-drop-fields.t ........... ok
t/73-sqlite-respects-quote.t ............ ok
t/74-filename-arrayref.t ................ ok
t/mysql-sqlite-translate.t .............. ok
t/postgresql-rename-table-and-field.t ... skipped: Missing dependency: DBD::Pg
t/sqlite-rename-field.t ................. ok
All tests successful.

Test Summary Report
-------------------
t/60roundtrip.t                       (Wstat: 0 Tests: 84 Failed: 0)
  TODO passed:   76, 78, 82, 84
Files=72, Tests=1654, 72 wallclock secs ( 0.28 usr  0.08 sys + 42.80 cusr 24.89 csys = 68.05 CPU)
Result: PASS

------------------------------
PREREQUISITES
------------------------------

Prerequisite modules loaded:

requires:

    Module                  Need     Have    
    ----------------------- -------- --------
    Carp::Clan              0        6.08    
    DBI                     1.54     1.642   
    Digest::SHA             0        6.02    
    File::ShareDir          1.0      1.116   
    Moo                     1.000003 2.003004
    Package::Variant        1.001001 1.003002
    Parse::RecDescent       1.967009 1.967015
    perl                    5.008001 5.031005
    Scalar::Util            0        1.52    
    Sub::Quote              0        2.006006
    Try::Tiny               0.04     0.30    

build_requires:

    Module                  Need     Have    
    ----------------------- -------- --------
    ExtUtils::MakeMaker     0        7.38    
    JSON::MaybeXS           1.003003 1.004000
    Test::Differences       0        0.67    
    Test::Exception         0.31     0.43    
    Test::More              0.88     1.302168
    Text::ParseWords        0        3.30    
    XML::Writer             0.500    0.625   
    YAML                    0.66     1.29    

configure_requires:

    Module                  Need     Have    
    ----------------------- -------- --------
    ExtUtils::MakeMaker     6.54     7.38    
    File::ShareDir::Install 0        0.13    


------------------------------
ENVIRONMENT AND OTHER CONTEXT
------------------------------

Environment variables:

    COMSPEC = C:\Windows\system32\cmd.exe
    LANG = en_US.UTF-8
    LC_ALL = C
    NONINTERACTIVE_TESTING = 1
    NUMBER_OF_PROCESSORS = 1
    PATH = /home/cpan/bin/perl-blead/bin:/home/cpan/bin:/usr/local/bin:/usr/bin:/cygdrive/c/Windows/system32:/cygdrive/c/Windows:/cygdrive/c/Windows/System32/Wbem:/cygdrive/c/Windows/System32/WindowsPowerShell/v1.0:/cygdrive/c/Users/cpan/AppData/Local/Microsoft/WindowsApps
    PERL5LIB = 
    PERL5OPT = 
    PERL5_CPANPLUS_IS_RUNNING = 21054
    PERL5_CPAN_IS_RUNNING = 21054
    PERL_MM_USE_DEFAULT = 1
    PERL_USE_UNSAFE_INC = 1
    PERL_VERSION = blead
    PROCESSOR_IDENTIFIER = Intel64 Family 6 Model 69 Stepping 1, GenuineIntel
    SHELL = /bin/bash
    TEMP = /tmp
    TERM = xterm
    TMPDIR = /home/cpan/tmp

Perl special variables (and OS-specific diagnostics, for MSWin32):

    $^X = /home/cpan/bin/perl-blead/bin/perl5.31.5
    $UID/$EUID = 197609 / 197609
    $GID = 197121 197121 555 545 14 4 11 15 113 4095 66048 262154 401408
    $EGID = 197121 197121 555 545 14 4 11 15 113 4095 66048 262154 401408

Perl module toolchain versions installed:

    Module              Have    
    ------------------- --------
    CPAN                2.27    
    CPAN::Meta          2.150010
    Cwd                 3.78    
    ExtUtils::CBuilder  0.280233
    ExtUtils::Command   7.38    
    ExtUtils::Install   2.14    
    ExtUtils::MakeMaker 7.38    
    ExtUtils::Manifest  1.72    
    ExtUtils::ParseXS   3.40    
    File::Spec          3.78    
    JSON                4.02    
    JSON::PP            4.04    
    Module::Build       0.4229  
    Module::Signature   n/a     
    Parse::CPAN::Meta   2.150010
    Test::Harness       3.42    
    Test::More          1.302168
    YAML                1.29    
    YAML::Syck          1.31    
    version             0.9924  


--

Summary of my perl5 (revision 5 version 31 subversion 5) configuration:
  Commit id: 859b78b1a8287681e524286f4e989b01816433ba
  Platform:
    osname=cygwin
    osvers=3.0.7(0.33853)
    archname=cygwin-thread-multi
    uname='cygwin_nt-10.0 cjg-cygwin 3.0.7(0.33853) 2019-04-30 18:08 x86_64 cygwin '
    config_args='-des -Dprefix=~/bin/perl-blead -Dscriptdir=~/bin/perl-blead/bin -Dusedevel -Duse64bitall'
    hint=recommended
    useposix=true
    d_sigaction=define
    useithreads=define
    usemultiplicity=define
    use64bitint=define
    use64bitall=define
    uselongdouble=undef
    usemymalloc=n
    default_inc_excludes_dot=define
    bincompat5005=undef
  Compiler:
    cc='gcc'
    ccflags ='-DPERL_USE_SAFE_PUTENV -U__STRICT_ANSI__ -D_GNU_SOURCE -fwrapv -fno-strict-aliasing -pipe -fstack-protector-strong -D_FORTIFY_SOURCE=2'
    optimize='-O3'
    cppflags='-DPERL_USE_SAFE_PUTENV -U__STRICT_ANSI__ -D_GNU_SOURCE -fwrapv -fno-strict-aliasing -pipe -fstack-protector-strong'
    ccversion=''
    gccversion='7.4.0'
    gccosandvers=''
    intsize=4
    longsize=8
    ptrsize=8
    doublesize=8
    byteorder=12345678
    doublekind=3
    d_longlong=define
    longlongsize=8
    d_longdbl=define
    longdblsize=16
    longdblkind=3
    ivtype='long'
    ivsize=8
    nvtype='double'
    nvsize=8
    Off_t='off_t'
    lseeksize=8
    alignbytes=8
    prototype=define
  Linker and Libraries:
    ld='g++'
    ldflags =' -Wl,--enable-auto-import -Wl,--export-all-symbols -Wl,--enable-auto-image-base -fstack-protector-strong -L/usr/local/lib'
    libpth=/usr/lib /usr/lib/gcc/x86_64-pc-cygwin/7.4.0/../../../../lib/../include/w32api /usr/local/lib /lib
    libs=-lpthread -ldl
    perllibs=-lpthread -ldl
    libc=/usr/lib/libc.a
    so=dll
    useshrplib=true
    libperl=cygperl5_31_5.dll
    gnulibc_version=''
  Dynamic Linking:
    dlsrc=dl_dlopen.xs
    dlext=dll
    d_dlsymun=undef
    ccdlflags=' '
    cccdlflags=' '
    lddlflags=' --shared  -Wl,--enable-auto-import -Wl,--export-all-symbols -Wl,--enable-auto-image-base -L/usr/local/lib -fstack-protector-strong'


Characteristics of this binary (from libperl): 
  Compile-time options:
    HAS_TIMES
    MULTIPLICITY
    PERLIO_LAYERS
    PERL_COPY_ON_WRITE
    PERL_DONT_CREATE_GVSV
    PERL_IMPLICIT_CONTEXT
    PERL_MALLOC_WRAP
    PERL_OP_PARENT
    PERL_PRESERVE_IVUV
    PERL_USE_DEVEL
    PERL_USE_SAFE_PUTENV
    USE_64_BIT_ALL
    USE_64_BIT_INT
    USE_ITHREADS
    USE_LARGE_FILES
    USE_LOCALE
    USE_LOCALE_COLLATE
    USE_LOCALE_CTYPE
    USE_LOCALE_NUMERIC
    USE_LOCALE_TIME
    USE_PERLIO
    USE_PERL_ATOF
    USE_REENTRANT_API
    USE_THREAD_SAFE_LOCALE
  Built under cygwin
  Compiled at Oct 18 2019 19:13:45
  %ENV:
    PERL5LIB=""
    PERL5OPT=""
    PERL5_CPANPLUS_IS_RUNNING="21054"
    PERL5_CPAN_IS_RUNNING="21054"
    PERL_MM_USE_DEFAULT="1"
    PERL_USE_UNSAFE_INC="1"
    PERL_VERSION="blead"
  @INC:
    /home/cpan/bin/perl-blead/lib/site_perl/5.31.5/cygwin-thread-multi
    /home/cpan/bin/perl-blead/lib/site_perl/5.31.5
    /home/cpan/bin/perl-blead/lib/5.31.5/cygwin-thread-multi
    /home/cpan/bin/perl-blead/lib/5.31.5
    .