Math-Matrix v0.94 Perl 5 v5.24.4 x86_64-linux-thread-multi-ld
- Status
- Pass
- From
- Andreas J. König (ANDK)
- Dist
-
Math-Matrix v0.94
- Platform
- Perl 5 v5.24.4 x86_64-linux-thread-multi-ld
- Date
- 2022-03-06 18:18:11
- ID
- c8196950-9d79-11ec-a425-3a47ef9f05bf
This distribution has been tested as part of the CPAN Testers
project, supporting the Perl programming language. See
http://wiki.cpantesters.org/ for more information or email
questions to cpan-testers-discuss@perl.org
--
Dear Peter John Acklam,
This is a computer-generated report for Math-Matrix-0.94
on perl 5.24.4, created by CPAN-Reporter-1.2018.
Thank you for uploading your work to CPAN. Congratulations!
All tests were successful.
Sections of this report:
* Tester comments
* Program output
* Prerequisites
* Environment and other context
------------------------------
TESTER COMMENTS
------------------------------
Additional comments from tester:
this report is from an automated smoke testing program
and was not reviewed by a human for accuracy
------------------------------
PROGRAM OUTPUT
------------------------------
Output from '/usr/bin/make test':
PERL_DL_NONLAZY=1 "/home/sand/src/perl/repoperls/installed-perls/host/k93msid/v5.24.4/ac75/bin/perl" "-MExtUtils::Command::MM" "-MTest::Harness" "-e" "undef *Test::Harness::Switches; test_harness(0, 'blib/lib', 'blib/arch')" t/*.t
t/00-signature.t ................... skipped: Set the environment variable TEST_SIGNATURE to enable this test.
t/01-load.t ........................ ok
t/abs-sign.t ....................... ok
t/absolute.t ....................... ok
t/add.t ............................ ok
t/adjugate.t ....................... ok
t/all.t ............................ ok
t/any.t ............................ ok
t/as_array.t ....................... ok
t/as_string.t ...................... ok
t/bandwidth.t ...................... ok
t/basic.t .......................... ok
t/blkdiag.t ........................ ok
t/catcol-math-complex.t ............ ok
t/catcol-math-real.t ............... ok
t/catcol.t ......................... ok
t/catrow-math-complex.t ............ ok
t/catrow-math-real.t ............... ok
t/catrow.t ......................... ok
t/ceil.t ........................... ok
t/chol.t ........................... ok
t/clone-math-complex.t ............. ok
t/clone-math-real.t ................ ok
t/clone.t .......................... ok
t/cofactor.t ....................... ok
t/cofactormatrix.t ................. ok
t/concat-math-complex.t ............ ok
t/concat-math-real.t ............... ok
t/concat.t ......................... ok
t/constant-zeros-ones-inf-nan.t .... ok
t/cross_product.t .................. ok
t/cumall.t ......................... ok
t/cumany.t ......................... ok
t/cummean.t ........................ ok
t/cumprod.t ........................ ok
t/cumsum.t ......................... ok
t/delcol.t ......................... ok
t/delrow.t ......................... ok
t/det-determinant-detr.t ........... ok
t/diagonal.t ....................... ok
t/diff.t ........................... ok
t/dot_product.t .................... ok
t/exchg.t .......................... ok
t/extension.t ...................... ok
t/felim_xxx.t ...................... ok
t/find-is_finite-is_inf-is_nan.t ... ok
t/flip.t ........................... ok
t/fliplr.t ......................... ok
t/flipud.t ......................... ok
t/floor.t .......................... ok
t/getcol.t ......................... ok
t/getrow.t ......................... ok
t/hypot.t .......................... ok
t/id-eye-new_identity.t ............ ok
t/int.t ............................ ok
t/is_xxx.t ......................... ok
t/kron.t ........................... ok
t/madd.t ........................... ok
t/map.t ............................ ok
t/max.t ............................ ok
t/mean.t ........................... ok
t/median.t ......................... ok
t/meq-mne.t ........................ ok
t/min.t ............................ ok
t/minor.t .......................... ok
t/minormatrix.t .................... ok
t/minv-inv.t ....................... ok
t/mldiv.t .......................... ok
t/mmul.t ........................... ok
t/mmuladd.t ........................ ok
t/mpinv-pinv.t ..................... ok
t/mpow-pow.t ....................... ok
t/mrdiv.t .......................... ok
t/msub.t ........................... ok
t/mul.t ............................ ok
t/neg.t ............................ ok
t/new.t ............................ ok
t/new_from_cols.t .................. ok
t/new_from_rows.t .................. ok
t/new_from_sub.t ................... ok
t/normalize.t ...................... ok
t/outer_product.t .................. ok
t/prod.t ........................... ok
t/rand.t ........................... ok
t/randi.t .......................... ok
t/randn.t .......................... ok
t/repelm.t ......................... ok
t/repmat.t ......................... ok
t/reshape-math-complex.t ........... ok
t/reshape-math-real.t .............. ok
t/reshape.t ........................ ok
t/rot180.t ......................... ok
t/rot270.t ......................... ok
t/rot90.t .......................... ok
t/sadd.t ........................... ok
t/sapply-math-complex.t ............ ok
t/sapply-math-real.t ............... ok
t/sapply.t ......................... ok
t/scalar.t ......................... ok
t/sdiv-sldiv-srdiv.t ............... ok
t/seq-sne-sle-slt-sge-sgt-scmp.t ... ok
t/sinv.t ........................... ok
t/size-nrow-ncol-npag-ndim-nelm.t .. ok
t/slice-math-complex.t ............. ok
t/slice-math-real.t ................ ok
t/slice.t .......................... ok
t/smul.t ........................... ok
t/splicecol.t ...................... ok
t/splicerow.t ...................... ok
t/spow.t ........................... ok
t/ssub.t ........................... ok
t/sub.t ............................ ok
t/sum.t ............................ ok
t/swaprc.t ......................... ok
t/to_col.t ......................... ok
t/to_permmat.t ..................... ok
t/to_permvec.t ..................... ok
t/to_row.t ......................... ok
t/transpose-math-complex.t ......... ok
t/transpose-math-real.t ............ ok
t/transpose.t ...................... ok
t/tril.t ........................... ok
t/triu.t ........................... ok
t/vecnorm.t ........................ ok
t/version.t ........................ ok
All tests successful.
Files=125, Tests=3517, 19 wallclock secs ( 0.37 usr 0.40 sys + 8.51 cusr 2.46 csys = 11.74 CPU)
Result: PASS
------------------------------
PREREQUISITES
------------------------------
Prerequisite modules loaded:
requires:
Module Need Have
------------------- ---- --------
Carp 0 1.50
Math::Trig 1.06 1.23
Scalar::Util 1 1.61
build_requires:
Module Need Have
------------------- ---- --------
Test::More 0.82 1.302188
configure_requires:
Module Need Have
------------------- ---- --------
ExtUtils::MakeMaker 6.58 7.38
------------------------------
ENVIRONMENT AND OTHER CONTEXT
------------------------------
Environment variables:
AUTOMATED_TESTING = 1
LANG = en_US.UTF-8
PATH = /home/sand/bin:/usr/local/bin:/usr/bin:/bin:/usr/games:/usr/local/perl/bin:/usr/X11/bin:/sbin:/usr/sbin
PERL5LIB =
PERL5OPT =
PERL5_CPANPLUS_IS_RUNNING = 1823531
PERL5_CPAN_IS_RUNNING = 1823531
PERL_CANARY_STABILITY_NOPROMPT = 1
PERL_MM_USE_DEFAULT = 1
PERL_USE_UNSAFE_INC = 1
SHELL = /usr/bin/zsh
TERM = screen
Perl special variables (and OS-specific diagnostics, for MSWin32):
$^X = /home/sand/src/perl/repoperls/installed-perls/host/k93msid/v5.24.4/ac75/bin/perl
$UID/$EUID = 1005 / 1005
$GID = 1005 1005
$EGID = 1005 1005
Perl module toolchain versions installed:
Module Have
------------------- --------
CPAN 2.29
CPAN::Meta 2.150010
Cwd 3.75
ExtUtils::CBuilder 0.280231
ExtUtils::Command 7.38
ExtUtils::Install 2.06
ExtUtils::MakeMaker 7.38
ExtUtils::Manifest 1.70
ExtUtils::ParseXS 3.35
File::Spec 3.75
JSON 4.05
JSON::PP 4.04
Module::Build 0.4229
Module::Signature 0.83
Parse::CPAN::Meta 2.150010
Test::Harness 3.42
Test::More 1.302188
YAML 1.29
YAML::Syck 1.31
version 0.9925
--
Summary of my perl5 (revision 5 version 24 subversion 4) configuration:
Derived from: 901dd848e31de6d0cacfb77c029b4e92c41a13ce
Platform:
osname=linux, osvers=5.3.0-2-amd64, archname=x86_64-linux-thread-multi-ld
uname='linux k93msid 5.3.0-2-amd64 #1 smp debian 5.3.9-3 (2019-11-19) x86_64 gnulinux '
config_args='-Dprefix=/home/sand/src/perl/repoperls/installed-perls/host/k93msid/v5.24.4/ac75 -Dmyhostname=k93msid -Dinstallusrbinperl=n -Uversiononly -Dusedevel -des -Ui_db -Dlibswanted=cl pthread socket inet nsl gdbm dbm malloc dl ld sun m crypt sec util c cposix posix ucb BSD gdbm_compat -Duseithreads -Duselongdouble -DEBUGGING=both'
hint=recommended, useposix=true, d_sigaction=define
useithreads=define, usemultiplicity=define
use64bitint=define, use64bitall=define, uselongdouble=define
usemymalloc=n, bincompat5005=undef
Compiler:
cc='cc', ccflags ='-D_REENTRANT -D_GNU_SOURCE -fwrapv -DDEBUGGING -fno-strict-aliasing -pipe -fstack-protector-strong -I/usr/local/include -D_LARGEFILE_SOURCE -D_FILE_OFFSET_BITS=64',
optimize='-O2 -g',
cppflags='-D_REENTRANT -D_GNU_SOURCE -fwrapv -DDEBUGGING -fno-strict-aliasing -pipe -fstack-protector-strong -I/usr/local/include'
ccversion='', gccversion='9.2.1 20191109', gccosandvers=''
intsize=4, longsize=8, ptrsize=8, doublesize=8, byteorder=12345678, doublekind=3
d_longlong=define, longlongsize=8, d_longdbl=define, longdblsize=16, longdblkind=3
ivtype='long', ivsize=8, nvtype='long double', nvsize=16, Off_t='off_t', lseeksize=8
alignbytes=16, prototype=define
Linker and Libraries:
ld='cc', ldflags =' -fstack-protector-strong -L/usr/local/lib'
libpth=/usr/local/lib /usr/lib/gcc/x86_64-linux-gnu/9/include-fixed /usr/include/x86_64-linux-gnu /usr/lib /lib/x86_64-linux-gnu /lib/../lib /usr/lib/x86_64-linux-gnu /usr/lib/../lib /lib
libs=-lpthread -lnsl -ldl -lm -lcrypt -lutil -lc
perllibs=-lpthread -lnsl -ldl -lm -lcrypt -lutil -lc
libc=libc-2.29.so, so=so, useshrplib=false, libperl=libperl.a
gnulibc_version='2.29'
Dynamic Linking:
dlsrc=dl_dlopen.xs, dlext=so, d_dlsymun=undef, ccdlflags='-Wl,-E'
cccdlflags='-fPIC', lddlflags='-shared -O2 -g -L/usr/local/lib -fstack-protector-strong'
Characteristics of this binary (from libperl):
Compile-time options: DEBUGGING HAS_TIMES MULTIPLICITY PERLIO_LAYERS
PERL_COPY_ON_WRITE PERL_DONT_CREATE_GVSV
PERL_HASH_FUNC_ONE_AT_A_TIME_HARD
PERL_IMPLICIT_CONTEXT PERL_MALLOC_WRAP
PERL_PRESERVE_IVUV PERL_TRACK_MEMPOOL PERL_USE_DEVEL
USE_64_BIT_ALL USE_64_BIT_INT USE_ITHREADS
USE_LARGE_FILES USE_LOCALE USE_LOCALE_COLLATE
USE_LOCALE_CTYPE USE_LOCALE_NUMERIC USE_LOCALE_TIME
USE_LONG_DOUBLE USE_PERLIO USE_PERL_ATOF
USE_REENTRANT_API
Locally applied patches:
uncommitted-changes
Built under linux
Compiled at Nov 25 2019 11:39:10
%ENV:
PERL5LIB=""
PERL5OPT=""
PERL5_CPANPLUS_IS_RUNNING="1823531"
PERL5_CPAN_IS_RUNNING="1823531"
PERL_CANARY_STABILITY_NOPROMPT="1"
PERL_MM_USE_DEFAULT="1"
PERL_USE_UNSAFE_INC="1"
@INC:
/home/sand/src/perl/repoperls/installed-perls/host/k93msid/v5.24.4/ac75/lib/site_perl/5.24.4/x86_64-linux-thread-multi-ld
/home/sand/src/perl/repoperls/installed-perls/host/k93msid/v5.24.4/ac75/lib/site_perl/5.24.4
/home/sand/src/perl/repoperls/installed-perls/host/k93msid/v5.24.4/ac75/lib/5.24.4/x86_64-linux-thread-multi-ld
/home/sand/src/perl/repoperls/installed-perls/host/k93msid/v5.24.4/ac75/lib/5.24.4
.