XML-Feed v0.65 Perl 5 v5.36.1 darwin-2level

Status
Pass
From
David Cantrell (DCANTRELL)
Dist
XML-Feed v0.65
Platform
Perl 5 v5.36.1 darwin-2level
Date
2024-11-21 03:29:14
ID
c81c0f06-a7b8-11ef-a0d2-3c9a9d565607
This distribution has been tested as part of the CPAN Testers
project, supporting the Perl programming language.  See
http://wiki.cpantesters.org/ for more information or email
questions to cpan-testers-discuss@perl.org


--
Dear Dave Cross,

This is a computer-generated report for XML-Feed-0.65
on perl 5.36.1, created by CPAN-Reporter-1.2019.

Thank you for uploading your work to CPAN.  Congratulations!
All tests were successful.

Sections of this report:

    * Tester comments
    * Program output
    * Prerequisites
    * Environment and other context

------------------------------
TESTER COMMENTS
------------------------------

Additional comments from tester:

this report is from an automated smoke testing program
and was not reviewed by a human for accuracy

------------------------------
PROGRAM OUTPUT
------------------------------

Output from './Build test':

t/00-compile.t .................. ok
t/01-parse.t .................... ok
t/02-create.t ................... ok
t/04-splice-atom.t .............. ok
t/04-splice-rss.t ............... ok
t/05-atom10-link.t .............. ok
t/06-atom10.t ................... ok
t/07-atom10-create.t ............ ok
t/08-convert-summary-bug.t ...... ok
t/09-missing-content-bug.t ...... ok
t/10-mix-and-match.t ............ ok
t/11-xml-base-atom.t ............ ok
t/11-xml-base-rss.t ............. ok
t/12-multi-categories-atom.t .... ok
t/12-multi-categories-rss.t ..... ok
t/12-multi-subjects-rss.t ....... ok
t/13-category-hash-bug.t ........ skipped: XML::RSS::LibXML is required.
t/14-enclosures.t ............... ok
t/14-multi-enclosures.t ......... ok
t/15-odd-date.t ................. ok
t/16-convert-mult-categories.t .. ok
t/17-double.t ................... ok
t/18-double2.t .................. ok
t/19-double3.t .................. ok
t/20-no-enclosures.t ............ ok
t/21-rss2-permalinks.t .......... ok
t/22-bug73160.t ................. ok
t/23-eval.t ..................... ok
t/24-identify-feed.t ............ ok
t/25-date-format-bug.t .......... ok
t/26-content-encoded.t .......... ok
t/27-dummy-content-encoded.t .... ok
t/28-rss-guid.t ................. ok
t/29-date-parsing.t ............. ok
t/30-date-format-timezone.t ..... ok
t/has-version.t ................. skipped: Test::HasVersion required for testing for version numbers
t/pod-coverage.t ................ ok
t/pod.t ......................... ok
t/relative-links.t .............. ok
All tests successful.
Files=39, Tests=807, 40 wallclock secs ( 0.25 usr  0.16 sys + 33.85 cusr  4.42 csys = 38.68 CPU)
Result: PASS

------------------------------
PREREQUISITES
------------------------------

Prerequisite modules loaded:

requires:

    Module                     Need    Have    
    -------------------------- ------- --------
    Class::ErrorHandler        0       0.04    
    DateTime                   0       1.65    
    DateTime::Format::Flexible 0       0.36    
    DateTime::Format::ISO8601  0       0.16    
    DateTime::Format::Mail     0       0.403   
    DateTime::Format::Natural  0       1.18    
    DateTime::Format::W3CDTF   0       0.08    
    Feed::Find                 0       0.13    
    HTML::Entities             0       3.83    
    HTML::TokeParser           0       3.83    
    List::Util                 0       1.62    
    LWP::UserAgent             0       6.77    
    Module::Pluggable          0       6.2     
    perl                       v5.10.0 5.036001
    Scalar::Util               0       1.62    
    Test::More                 0       1.302204
    URI::Fetch                 0       0.15    
    XML::Atom                  0.38    0.43    
    XML::LibXML                1.66    2.0210  
    XML::RSS                   1.47    1.64    

build_requires:

    Module                     Need    Have    
    -------------------------- ------- --------
    URI                        0       5.17    
    XML::XPath                 0       1.48    

configure_requires:

    Module                     Need    Have    
    -------------------------- ------- --------
    Module::Build              0.42    0.4234  


------------------------------
ENVIRONMENT AND OTHER CONTEXT
------------------------------

Environment variables:

    AUTOMATED_TESTING = 1
    NONINTERACTIVE_TESTING = 1
    PATH = /Users/cpantesting/perl5/perlbrew/bin:/Users/cpantesting/perl5/perlbrew/perls/perl-5.32.0/bin:/usr/local/bin:/System/Cryptexes/App/usr/bin:/usr/bin:/bin:/usr/sbin:/sbin:/var/run/com.apple.security.cryptexd/codex.system/bootstrap/usr/local/bin:/var/run/com.apple.security.cryptexd/codex.system/bootstrap/usr/bin:/var/run/com.apple.security.cryptexd/codex.system/bootstrap/usr/appleinternal/bin:/Library/Apple/usr/bin:/usr/local/zfs/bin:/Users/cpantesting/.cargo/bin
    PERL = 5.36.1
    PERL5LIB = 
    PERL5OPT = 
    PERL5_CPANPLUS_IS_RUNNING = 29666
    PERL5_CPAN_IS_RUNNING = 29666
    PERLBREW_HOME = /Users/cpantesting/.perlbrew
    PERLBREW_MANPATH = /Users/cpantesting/perl5/perlbrew/perls/perl-5.32.0/man
    PERLBREW_PATH = /Users/cpantesting/perl5/perlbrew/bin:/Users/cpantesting/perl5/perlbrew/perls/perl-5.32.0/bin
    PERLBREW_PERL = perl-5.32.0
    PERLBREW_ROOT = /Users/cpantesting/perl5/perlbrew
    PERLBREW_SHELLRC_VERSION = 0.94
    PERLBREW_VERSION = 0.94
    PERLVER = 5.36.1
    PERL_INLINE_DIRECTORY = /Users/cpantesting/.Inline-5.36.1
    PERL_MM_USE_DEFAULT = 1
    PERL_USE_UNSAFE_INC = 0
    SHELL = /bin/bash
    TERM = screen

Perl special variables (and OS-specific diagnostics, for MSWin32):

    $^X = /Users/cpantesting/cpantesting/perl-5.36.1/bin/perl
    $UID/$EUID = 503 / 503
    $GID = 20 20 12 61 703 702 701 100
    $EGID = 20 20 12 61 703 702 701 100

Perl module toolchain versions installed:

    Module              Have    
    ------------------- --------
    CPAN                2.33    
    CPAN::Meta          2.150010
    Cwd                 3.84    
    ExtUtils::CBuilder  0.280236
    ExtUtils::Command   7.70    
    ExtUtils::Install   2.20    
    ExtUtils::MakeMaker 7.70    
    ExtUtils::Manifest  1.73    
    ExtUtils::ParseXS   3.45    
    File::Spec          3.84    
    JSON                4.10    
    JSON::PP            4.07    
    Module::Build       0.4234  
    Module::Signature   n/a     
    Parse::CPAN::Meta   2.150010
    Test2               1.302204
    Test::Harness       3.44    
    Test::More          1.302204
    YAML                1.31    
    YAML::Syck          1.34    
    version             0.9929  


--

Summary of my perl5 (revision 5 version 36 subversion 1) configuration:
   
  Platform:
    osname=darwin
    osvers=21.6.0
    archname=darwin-2level
    uname='darwin harrow.local 21.6.0 darwin kernel version 21.6.0: mon aug 22 20:17:10 pdt 2022; root:xnu-8020.140.49~2release_x86_64 x86_64 '
    config_args='-de -Dprefix=/Users/cpantesting/cpantesting/perl-5.36.1'
    hint=recommended
    useposix=true
    d_sigaction=define
    useithreads=undef
    usemultiplicity=undef
    use64bitint=define
    use64bitall=define
    uselongdouble=undef
    usemymalloc=n
    default_inc_excludes_dot=define
  Compiler:
    cc='cc'
    ccflags ='-fno-common -DPERL_DARWIN -mmacosx-version-min=12.6 -fno-strict-aliasing -pipe -fstack-protector-strong -I/usr/local/include -DPERL_USE_SAFE_PUTENV'
    optimize='-O3'
    cppflags='-fno-common -DPERL_DARWIN -mmacosx-version-min=12.6 -fno-strict-aliasing -pipe -fstack-protector-strong -I/usr/local/include'
    ccversion=''
    gccversion='Apple LLVM 14.0.0 (clang-1400.0.29.202)'
    gccosandvers=''
    intsize=4
    longsize=8
    ptrsize=8
    doublesize=8
    byteorder=12345678
    doublekind=3
    d_longlong=define
    longlongsize=8
    d_longdbl=define
    longdblsize=16
    longdblkind=3
    ivtype='long'
    ivsize=8
    nvtype='double'
    nvsize=8
    Off_t='off_t'
    lseeksize=8
    alignbytes=8
    prototype=define
  Linker and Libraries:
    ld='cc'
    ldflags =' -mmacosx-version-min=12.6 -fstack-protector-strong -L/usr/local/lib'
    libpth=/usr/local/lib /Applications/Xcode.app/Contents/Developer/Toolchains/XcodeDefault.xctoolchain/usr/lib/clang/14.0.0/lib /Applications/Xcode.app/Contents/Developer/Platforms/MacOSX.platform/Developer/SDKs/MacOSX.sdk/usr/lib /Applications/Xcode.app/Contents/Developer/Toolchains/XcodeDefault.xctoolchain/usr/lib /usr/lib
    libs=-lgdbm
    perllibs=
    libc=
    so=dylib
    useshrplib=false
    libperl=libperl.a
    gnulibc_version=''
  Dynamic Linking:
    dlsrc=dl_dlopen.xs
    dlext=bundle
    d_dlsymun=undef
    ccdlflags=' '
    cccdlflags=' '
    lddlflags=' -mmacosx-version-min=12.6 -bundle -undefined dynamic_lookup -L/usr/local/lib -fstack-protector-strong'


Characteristics of this binary (from libperl): 
  Compile-time options:
    HAS_TIMES
    PERLIO_LAYERS
    PERL_COPY_ON_WRITE
    PERL_DONT_CREATE_GVSV
    PERL_MALLOC_WRAP
    PERL_OP_PARENT
    PERL_PRESERVE_IVUV
    PERL_USE_SAFE_PUTENV
    USE_64_BIT_ALL
    USE_64_BIT_INT
    USE_LARGE_FILES
    USE_LOCALE
    USE_LOCALE_COLLATE
    USE_LOCALE_CTYPE
    USE_LOCALE_NUMERIC
    USE_LOCALE_TIME
    USE_PERLIO
    USE_PERL_ATOF
  Built under darwin
  Compiled at Apr 23 2023 16:37:45
  %ENV:
    PERL="5.36.1"
    PERL5LIB=""
    PERL5OPT=""
    PERL5_CPANPLUS_IS_RUNNING="29666"
    PERL5_CPAN_IS_RUNNING="29666"
    PERLBREW_HOME="/Users/cpantesting/.perlbrew"
    PERLBREW_MANPATH="/Users/cpantesting/perl5/perlbrew/perls/perl-5.32.0/man"
    PERLBREW_PATH="/Users/cpantesting/perl5/perlbrew/bin:/Users/cpantesting/perl5/perlbrew/perls/perl-5.32.0/bin"
    PERLBREW_PERL="perl-5.32.0"
    PERLBREW_ROOT="/Users/cpantesting/perl5/perlbrew"
    PERLBREW_SHELLRC_VERSION="0.94"
    PERLBREW_VERSION="0.94"
    PERLVER="5.36.1"
    PERL_INLINE_DIRECTORY="/Users/cpantesting/.Inline-5.36.1"
    PERL_MM_USE_DEFAULT="1"
    PERL_USE_UNSAFE_INC="0"
  @INC:
    /Users/cpantesting/cpantesting/perl-5.36.1/lib/site_perl/5.36.1/darwin-2level
    /Users/cpantesting/cpantesting/perl-5.36.1/lib/site_perl/5.36.1
    /Users/cpantesting/cpantesting/perl-5.36.1/lib/5.36.1/darwin-2level
    /Users/cpantesting/cpantesting/perl-5.36.1/lib/5.36.1