MooX-ProtectedAttributes v0.03 Perl 5 v5.12.3 x86_64-linux

Status
Pass
From
Slaven Rezić
Dist
MooX-ProtectedAttributes v0.03
Platform
Perl 5 v5.12.3 x86_64-linux
Date
2025-08-20 18:52:12
ID
c832844c-7df6-11f0-90c1-13ea6d8775ea
This distribution has been tested as part of the CPAN Testers
project, supporting the Perl programming language.  See
http://wiki.cpantesters.org/ for more information or email
questions to cpan-testers-discuss@perl.org


--
Dear celogeek,

This is a computer-generated report for MooX-ProtectedAttributes-0.03
on perl 5.12.3, created by CPAN-Reporter-1.2020.

Thank you for uploading your work to CPAN.  Congratulations!
All tests were successful.

Sections of this report:

    * Tester comments
    * Program output
    * Prerequisites
    * Environment and other context

------------------------------
TESTER COMMENTS
------------------------------

Additional comments from tester:

none provided

------------------------------
PROGRAM OUTPUT
------------------------------

Output from './Build test':

t/00-compile.t ................ ok
# Testing with Perl 5.012003, /opt/perl-5.12.3/bin/perl
#     Carp version is 1.50
#     File::Spec version is 3.75
#     IO::Handle version is 1.55
#     IPC::Open3 version is 1.05
#     Module::Build version is 0.4234
#     Moo version is 2.005005
#     Moo::Role version is 2.005005
#     Moose version is 2.4000
#     Scalar::Util version is 1.70
#     Test::More version is 1.302211
#     Test::Trap version is 0.3.5
#     strict version is 1.04
#     warnings version is 1.09
t/000-report-versions.t ....... ok
t/author-critic.t ............. skipped: these tests are for testing by the author
t/moox-protectedattributes.t .. ok
t/release-kwalitee.t .......... skipped: these tests are for release candidate testing
t/release-pod-coverage.t ...... skipped: these tests are for release candidate testing
t/release-unused-vars.t ....... skipped: these tests are for release candidate testing
All tests successful.
Files=7, Tests=22,  0 wallclock secs ( 0.03 usr  0.01 sys +  0.52 cusr  0.19 csys =  0.75 CPU)
Result: PASS

------------------------------
PREREQUISITES
------------------------------

Prerequisite modules loaded:

requires:

    Module        Need   Have    
    ------------- ------ --------
    Carp          0      1.50    
    perl          5.006  5.012003
    strict        0      1.04    
    warnings      0      1.09    

build_requires:

    Module        Need   Have    
    ------------- ------ --------
    File::Spec    0      3.75    
    IO::Handle    0      1.55    
    IPC::Open3    0      1.05    
    Module::Build 0.3601 0.4234  
    Moo           0      2.005005
    Moo::Role     0      2.005005
    Moose         0      2.4000  
    Moose::Role   0      2.4000  
    perl          5.004  5.012003
    Scalar::Util  0      1.70    
    Test::More    0.94   1.302211
    Test::Trap    0      0.3.5   

configure_requires:

    Module        Need   Have    
    ------------- ------ --------
    Module::Build 0.3601 0.4234  


------------------------------
ENVIRONMENT AND OTHER CONTEXT
------------------------------

Environment variables:

    LANG = en_US.UTF-8
    PATH = /usr/local/bin:/usr/bin:/bin:/usr/local/sbin:/usr/sbin:/sbin:/home/cpansand/bin/linux-gnu:/home/cpansand/bin/sh:/home/cpansand/bin:/usr/games:/home/cpansand/devel:/home/eserte/src/srezic-misc/scripts
    PERL5LIB = /home/cpansand/.cpan/build/2025082018/MooX-Enumeration-0.010-2/blib/arch:/home/cpansand/.cpan/build/2025082018/MooX-Enumeration-0.010-2/blib/lib:/home/cpansand/.cpan/build/2025082018/MooX-Attribute-ENV-0.04-2/blib/arch:/home/cpansand/.cpan/build/2025082018/MooX-Attribute-ENV-0.04-2/blib/lib:/home/cpansand/.cpan/build/2025082018/Math-BigInt-Random-OO-0.05-2/blib/arch:/home/cpansand/.cpan/build/2025082018/Math-BigInt-Random-OO-0.05-2/blib/lib:/home/cpansand/.cpan/build/2025082018/HTTP-Response-Maker-0.02-2/blib/arch:/home/cpansand/.cpan/build/2025082018/HTTP-Response-Maker-0.02-2/blib/lib
    PERL5OPT = 
    PERL5_CPANPLUS_IS_RUNNING = 2230918
    PERL5_CPAN_IS_RUNNING = 2230918
    PERL5_CPAN_IS_RUNNING_IN_RECURSION = 2226847,2230918
    PERLDOC = -MPod::Perldoc::ToTextOverstrike
    PERL_BATCH = yes
    PERL_CANARY_STABILITY_NOPROMPT = 1
    PERL_CPAN_REPORTER_CONFIG = /var/tmp/cpansmoker-1023/2025082018/cpanreporter_000_config.ini
    PERL_EXTUTILS_AUTOINSTALL = --defaultdeps
    PERL_USE_UNSAFE_INC = 1
    SHELL = /usr/bin/zsh
    TERM = screen
    TMPDIR = /var/tmp/cpansmoker-1023/2025082018

Perl special variables (and OS-specific diagnostics, for MSWin32):

    $^X = /opt/perl-5.12.3/bin/perl
    $UID/$EUID = 1023 / 1023
    $GID = 1023 1023
    $EGID = 1023 1023

Perl module toolchain versions installed:

    Module              Have    
    ------------------- --------
    CPAN                2.38    
    CPAN::Meta          2.150010
    Cwd                 3.75    
    ExtUtils::CBuilder  0.280236
    ExtUtils::Command   7.70    
    ExtUtils::Install   2.06    
    ExtUtils::MakeMaker 7.70    
    ExtUtils::Manifest  1.70    
    ExtUtils::ParseXS   3.58    
    File::Spec          3.75    
    JSON                4.10    
    JSON::PP            4.16    
    Module::Build       0.4234  
    Module::Signature   n/a     
    Parse::CPAN::Meta   2.150010
    Test2               1.302211
    Test::Harness       3.50    
    Test::More          1.302211
    YAML                1.31    
    YAML::Syck          1.34    
    version             0.9933  


--

Summary of my perl5 (revision 5 version 12 subversion 3) configuration:
   
  Platform:
    osname=linux, osvers=5.14.0-503.22.1.el9_5.x86_64, archname=x86_64-linux
    uname='linux cloud1.bbbike.org 5.14.0-503.22.1.el9_5.x86_64 #1 smp preempt_dynamic wed jan 22 13:59:07 utc 2025 x86_64 x86_64 x86_64 gnulinux '
    config_args='-ds -e -Dprefix=/opt/perl-5.12.3 -Uinstallusrbinperl -Dcf_email=srezic@cpan.org'
    hint=recommended, useposix=true, d_sigaction=define
    useithreads=undef, usemultiplicity=undef
    useperlio=define, d_sfio=undef, uselargefiles=define, usesocks=undef
    use64bitint=define, use64bitall=define, uselongdouble=undef
    usemymalloc=n, bincompat5005=undef
  Compiler:
    cc='cc', ccflags ='-fwrapv -fno-strict-aliasing -pipe -fstack-protector -I/usr/local/include -D_LARGEFILE_SOURCE -D_FILE_OFFSET_BITS=64',
    optimize='-O2',
    cppflags='-fwrapv -fno-strict-aliasing -pipe -fstack-protector -I/usr/local/include'
    ccversion='', gccversion='11.5.0 20240719 (Red Hat 11.5.0-2)', gccosandvers=''
    intsize=4, longsize=8, ptrsize=8, doublesize=8, byteorder=12345678
    d_longlong=define, longlongsize=8, d_longdbl=define, longdblsize=16
    ivtype='long', ivsize=8, nvtype='double', nvsize=8, Off_t='off_t', lseeksize=8
    alignbytes=8, prototype=define
  Linker and Libraries:
    ld='cc', ldflags =' -fstack-protector -L/usr/local/lib'
    libpth=/usr/local/lib /lib/../lib64 /usr/lib/../lib64 /lib /usr/lib /lib64 /usr/lib64 /usr/local/lib64
    libs=-ldb -ldl -lm -lcrypt -lutil -lc
    perllibs=-ldl -lm -lcrypt -lutil -lc
    libc=/lib/../lib64/libc.so.6, so=so, useshrplib=false, libperl=libperl.a
    gnulibc_version='2.34'
  Dynamic Linking:
    dlsrc=dl_dlopen.xs, dlext=so, d_dlsymun=undef, ccdlflags='-Wl,-E'
    cccdlflags='-fPIC', lddlflags='-shared -O2 -L/usr/local/lib -fstack-protector'


Characteristics of this binary (from libperl): 
  Compile-time options: PERL_DONT_CREATE_GVSV PERL_MALLOC_WRAP USE_64_BIT_ALL
                        USE_64_BIT_INT USE_LARGE_FILES USE_PERLIO
                        USE_PERL_ATOF
  Locally applied patches:
	Devel::PatchPerl 2.08
  Built under linux
  Compiled at Feb  1 2025 21:35:12
  %ENV:
    PERL5LIB="/home/cpansand/.cpan/build/2025082018/MooX-Enumeration-0.010-2/blib/arch:/home/cpansand/.cpan/build/2025082018/MooX-Enumeration-0.010-2/blib/lib:/home/cpansand/.cpan/build/2025082018/MooX-Attribute-ENV-0.04-2/blib/arch:/home/cpansand/.cpan/build/2025082018/MooX-Attribute-ENV-0.04-2/blib/lib:/home/cpansand/.cpan/build/2025082018/Math-BigInt-Random-OO-0.05-2/blib/arch:/home/cpansand/.cpan/build/2025082018/Math-BigInt-Random-OO-0.05-2/blib/lib:/home/cpansand/.cpan/build/2025082018/HTTP-Response-Maker-0.02-2/blib/arch:/home/cpansand/.cpan/build/2025082018/HTTP-Response-Maker-0.02-2/blib/lib"
    PERL5OPT=""
    PERL5_CPANPLUS_IS_RUNNING="2230918"
    PERL5_CPAN_IS_RUNNING="2230918"
    PERL5_CPAN_IS_RUNNING_IN_RECURSION="2226847,2230918"
    PERLDOC="-MPod::Perldoc::ToTextOverstrike"
    PERL_BATCH="yes"
    PERL_CANARY_STABILITY_NOPROMPT="1"
    PERL_CPAN_REPORTER_CONFIG="/var/tmp/cpansmoker-1023/2025082018/cpanreporter_000_config.ini"
    PERL_EXTUTILS_AUTOINSTALL="--defaultdeps"
    PERL_USE_UNSAFE_INC="1"
  @INC:
    /home/cpansand/.cpan/build/2025082018/MooX-Enumeration-0.010-2/blib/arch
    /home/cpansand/.cpan/build/2025082018/MooX-Enumeration-0.010-2/blib/lib
    /home/cpansand/.cpan/build/2025082018/MooX-Attribute-ENV-0.04-2/blib/arch
    /home/cpansand/.cpan/build/2025082018/MooX-Attribute-ENV-0.04-2/blib/lib
    /home/cpansand/.cpan/build/2025082018/Math-BigInt-Random-OO-0.05-2/blib/arch
    /home/cpansand/.cpan/build/2025082018/Math-BigInt-Random-OO-0.05-2/blib/lib
    /home/cpansand/.cpan/build/2025082018/HTTP-Response-Maker-0.02-2/blib/arch
    /home/cpansand/.cpan/build/2025082018/HTTP-Response-Maker-0.02-2/blib/lib
    /opt/perl-5.12.3/lib/site_perl/5.12.3/x86_64-linux
    /opt/perl-5.12.3/lib/site_perl/5.12.3
    /opt/perl-5.12.3/lib/5.12.3/x86_64-linux
    /opt/perl-5.12.3/lib/5.12.3
    .