HTML-Strip v2.12 Perl 5 v5.38.0 x86_64-linux-thread-multi
- Status
- Pass
- From
- Nick Alcock
- Dist
-
HTML-Strip v2.12
- Platform
- Perl 5 v5.38.0 x86_64-linux-thread-multi
- Date
- 2023-07-22 14:33:53
- ID
- c841a0fa-289c-11ee-b451-47c914c07a09
This distribution has been tested as part of the CPAN Testers
project, supporting the Perl programming language. See
http://wiki.cpantesters.org/ for more information or email
questions to cpan-testers-discuss@perl.org
--
Dear Alex Bowley,
This is a computer-generated report for HTML-Strip-2.12
on perl 5.38.0, created by CPAN-Reporter-1.2019.
Thank you for uploading your work to CPAN. Congratulations!
All tests were successful.
Sections of this report:
* Tester comments
* Program output
* Prerequisites
* Environment and other context
------------------------------
TESTER COMMENTS
------------------------------
Additional comments from tester:
none provided
------------------------------
PROGRAM OUTPUT
------------------------------
Output from '/usr/bin/make test':
"/pkg/perl/5.38.0-8/usr/bin/perl" -MExtUtils::Command::MM -e 'cp_nonempty' -- Strip.bs blib/arch/auto/HTML/Strip/Strip.bs 644
PERL_DL_NONLAZY=1 "/pkg/perl/5.38.0-8/usr/bin/perl" "-MExtUtils::Command::MM" "-MTest::Harness" "-e" "undef *Test::Harness::Switches; test_harness(0, 'blib/lib', 'blib/arch')" t/*.t
t/001_smoke.t ....................... ok
t/100_basic.t ....................... ok
t/200_comment.t ..................... ok
t/210_auto_reset.t .................. ok
t/220_edge_case.t ................... ok
t/230_filter.t ...................... ok
t/240_striptags.t ................... ok
t/250_whitespace_single_char.t ...... ok
t/260_offbyone.t .................... ok
t/270_mathematical_comparisons.t .... ok
t/280_invalid_multiline_segfault.t .. ok
t/300_utf8.t ........................ ok
t/310_latin1.t ...................... ok
t/400_kwalitee.t .................... skipped: these tests are for release candidate testing
t/410_pod.t ......................... ok
t/420_pod_coverage.t ................ ok
All tests successful.
Test Summary Report
-------------------
t/300_utf8.t (Wstat: 0 Tests: 5 Failed: 0)
TODO passed: 5
Files=16, Tests=40, 1 wallclock secs ( 0.03 usr 0.03 sys + 0.96 cusr 0.07 csys = 1.09 CPU)
Result: PASS
------------------------------
PREREQUISITES
------------------------------
Prerequisite modules loaded:
requires:
Module Need Have
------------------- ----- --------
Carp 0 1.54
DynaLoader 0 1.54
perl 5.008 5.038000
strict 0 1.12
Test::Exception 0 0.43
Test::More 0 1.302195
warnings 0 1.65
build_requires:
Module Need Have
------------------- ----- --------
ExtUtils::MakeMaker 0 7.70
configure_requires:
Module Need Have
------------------- ----- --------
ExtUtils::MakeMaker 0 7.70
------------------------------
ENVIRONMENT AND OTHER CONTEXT
------------------------------
Environment variables:
LANG = en_GB.UTF-8
LC_COLLATE = C
PATH = /usr/sbin:/usr/bin:/usr/games
PERL5LIB =
PERL5OPT =
PERL5_CPANPLUS_IS_RUNNING = 331454
PERL5_CPAN_IS_RUNNING = 331454
PERL_MM_FALLBACK_SILENCE_WARNING = 1
PERL_USE_UNSAFE_INC = 1
SHELL = /bin/bash
TERM = vte
Perl special variables (and OS-specific diagnostics, for MSWin32):
$^X = /pkg/perl/5.38.0-8/usr/bin/perl
$UID/$EUID = 0 / 0
$GID = 0 0 1 2 3 4 6 10 11 16 25 72 73 80 81 89
$EGID = 0 0 1 2 3 4 6 10 11 16 25 72 73 80 81 89
Perl module toolchain versions installed:
Module Have
------------------- --------
CPAN 2.36
CPAN::Meta 2.150010
Cwd 3.89
ExtUtils::CBuilder 0.280238
ExtUtils::Command 7.70
ExtUtils::Install 2.22
ExtUtils::MakeMaker 7.70
ExtUtils::Manifest 1.75
ExtUtils::ParseXS 3.51
File::Spec 3.88
JSON 4.10
JSON::PP 4.16
Module::Build 0.4234
Module::Signature 0.88
Parse::CPAN::Meta 2.150010
Test2 1.302195
Test::Harness 3.44
Test::More 1.302195
YAML 1.30
YAML::Syck n/a
version 0.9929
--
Summary of my perl5 (revision 5 version 38 subversion 0) configuration:
Platform:
osname=linux
osvers=5.16.19-00037-ge8dfda4e77fb-dirty
archname=x86_64-linux-thread-multi
uname='linux loom 5.16.19-00037-ge8dfda4e77fb-dirty #1 smp sun apr 10 17:06:19 bst 2022 x86_64 gnulinux '
config_args='-d -e -Duseithreads -D privlib=/usr/lib/perl5/5.38 -D sitelib=/usr/lib/perl5/site_perl/5.38 -D optimize=-gdwarf-4 -feliminate-unused-debug-types -fvar-tracking-assignments -O2 -pipe '
hint=recommended
useposix=true
d_sigaction=define
useithreads=define
usemultiplicity=define
use64bitint=define
use64bitall=define
uselongdouble=undef
usemymalloc=n
default_inc_excludes_dot=define
Compiler:
cc='gcc'
ccflags ='-D_REENTRANT -D_GNU_SOURCE -D_REENTRANT -D_GNU_SOURCE -g -fno-strict-aliasing -D_LARGEFILE_SOURCE -D_FILE_OFFSET_BITS=64 -pipe -fstack-protector-strong -fwrapv -feliminate-unused-debug-types -fvar-tracking-assignments -fstack-clash-protection -fno-lto -D_LARGEFILE_SOURCE -D_FILE_OFFSET_BITS=64 -D_FORTIFY_SOURCE=2'
optimize='-gdwarf-4 -feliminate-unused-debug-types -fvar-tracking-assignments -O2 -pipe '
cppflags='-D_REENTRANT -D_GNU_SOURCE -D_REENTRANT -D_GNU_SOURCE -g -fno-strict-aliasing -D_LARGEFILE_SOURCE -D_FILE_OFFSET_BITS=64 -pipe -fstack-protector-strong -fwrapv -feliminate-unused-debug-types -fvar-tracking-assignments -fstack-clash-protection -fno-lto'
ccversion=''
gccversion='13.1.1 20230713'
gccosandvers=''
intsize=4
longsize=8
ptrsize=8
doublesize=8
byteorder=12345678
doublekind=3
d_longlong=define
longlongsize=8
d_longdbl=define
longdblsize=16
longdblkind=3
ivtype='long'
ivsize=8
nvtype='double'
nvsize=8
Off_t='off_t'
lseeksize=8
alignbytes=8
prototype=define
Linker and Libraries:
ld='gcc'
ldflags ='-Wl,--enable-new-dtags -fstack-protector-strong -L/usr/local/lib'
libpth=/usr/lib /lib /usr/local/lib
libs=-lpthread -lgdbm -ldb -ldl -lm -lcrypt -lutil -lc -lgdbm_compat
perllibs=-lpthread -ldl -lm -lcrypt -lutil -lc
libc=libc-2.33.so
so=so
useshrplib=true
libperl=libperl.so
gnulibc_version='2.33'
Dynamic Linking:
dlsrc=dl_dlopen.xs
dlext=so
d_dlsymun=undef
ccdlflags='-Wl,-E -Wl,-rpath,/usr/lib/perl5/5.38/x86_64-linux-thread-multi/CORE'
cccdlflags='-fPIC'
lddlflags='-shared -gdwarf-4 -feliminate-unused-debug-types -fvar-tracking-assignments -O2 -pipe -L/usr/local/lib -fstack-protector-strong'
Characteristics of this binary (from libperl):
Compile-time options:
HAS_LONG_DOUBLE
HAS_STRTOLD
HAS_TIMES
MULTIPLICITY
PERLIO_LAYERS
PERL_COPY_ON_WRITE
PERL_DONT_CREATE_GVSV
PERL_HASH_FUNC_SIPHASH13
PERL_HASH_USE_SBOX32
PERL_MALLOC_WRAP
PERL_OP_PARENT
PERL_PRESERVE_IVUV
PERL_USE_SAFE_PUTENV
USE_64_BIT_ALL
USE_64_BIT_INT
USE_ITHREADS
USE_LARGE_FILES
USE_LOCALE
USE_LOCALE_COLLATE
USE_LOCALE_CTYPE
USE_LOCALE_NUMERIC
USE_LOCALE_TIME
USE_PERLIO
USE_PERL_ATOF
USE_REENTRANT_API
USE_THREAD_SAFE_LOCALE
Built under linux
Compiled at Jul 21 2023 20:44:26
%ENV:
PERL5LIB=""
PERL5OPT=""
PERL5_CPANPLUS_IS_RUNNING="331454"
PERL5_CPAN_IS_RUNNING="331454"
PERL_MM_FALLBACK_SILENCE_WARNING="1"
PERL_USE_UNSAFE_INC="1"
@INC:
/usr/lib/perl5/site_perl/5.38/x86_64-linux-thread-multi
/usr/lib/perl5/site_perl/5.38
/usr/lib/perl5/5.38/x86_64-linux-thread-multi
/usr/lib/perl5/5.38
.