Report for Statistics-Autocorrelation-0.06

Back
From: metabase:user:9c36dc84-a30f-11e0-a9fc-0a18abbd4f2f
Subject: PASS Statistics-Autocorrelation-0.06 v5.20.2 OpenBSD
Date: 2016-11-20T13:32:28Z

This distribution has been tested as part of the CPAN Testers
project, supporting the Perl programming language.  See
http://wiki.cpantesters.org/ for more information or email
questions to cpan-testers-discuss@perl.org


--
Dear Roderick Garton,

This is a computer-generated report for Statistics-Autocorrelation-0.06
on perl 5.20.2, created by CPAN-Reporter-1.2018.

Thank you for uploading your work to CPAN.  Congratulations!
All tests were successful.

Sections of this report:

    * Tester comments
    * Program output
    * Prerequisites
    * Environment and other context

------------------------------
TESTER COMMENTS
------------------------------

Additional comments from tester:

this report is from an automated smoke testing program
and was not reviewed by a human for accuracy

------------------------------
PROGRAM OUTPUT
------------------------------

Output from './Build test':

# Testing Statistics::Autocorrelation 0.06, Perl 5.020002, /usr/bin/perl
t/00-load.t ............ ok
t/01-basics.t .......... ok
# 1	1
# -0.31	-0.308071529270775
# -0.74	-0.749049167515742
# 0.77	0.784323247735839
# 0.21	0.208877598015533
# -0.9	-0.918813706027067
# 0.38	0.386652735218839
# 0.63	0.654553768392636
# -0.77	-0.796550351808819
# -0.12	-0.130519929380512
# 0.82	0.864643019213711
# -0.4	-0.421384089433339
# -0.55	-0.580716880126989
# 0.73	0.777761156749794
# 0.07	0.0765164288438996
# -0.76	-0.816215751829798
# 0.4	0.434487992925124
# 0.48	0.525882048388483
# -0.7	-0.761302866282146
# -0.03	-0.0365504182704293
# 0.7	0.77698431849003
# -0.41	-0.455513506257951
# -0.43	-0.481511229989287
# 0.67	0.754803922408943
# 0	-0.000721715652079184
# -0.66	-0.75014417224701
# 0.42	0.475416467981228
# 0.39	0.447326603329478
# -0.65	-0.757539412418846
# 0.03	0.0305363772989425
# 0.63	0.736511151186032
# -0.42	-0.496633082497667
# -0.36	-0.422841918740382
# 0.64	0.763572169334023
# -0.05	-0.062918304852615
# -0.6	-0.724078469079772
# 0.43	0.526299298189015
# 0.32	0.392420931667183
# -0.64	-0.780464126878208
# 0.08	0.103980865082087
# 0.58	0.714922437289871
# -0.45	-0.562981688031779
# -0.28	-0.355908669226571
# 0.62	0.787876882809841
# -0.1	-0.135103727297876
# -0.55	-0.703897993304772
# 0.45	0.5920749381622
# 0.25	0.328070443088622
# -0.61	-0.800343193782884
# 0.14	0.186342015336873
t/02-nist_ref.t ........ ok
t/03-neg_lag.t ......... ok
t/04-correlogram.t ..... ok
t/05-PASW_RiessData.t .. ok
t/pod-coverage.t ....... ok
t/pod.t ................ ok
All tests successful.
Files=8, Tests=84,  2 wallclock secs ( 0.02 usr  0.09 sys +  0.57 cusr  0.59 csys =  1.27 CPU)
Result: PASS

------------------------------
PREREQUISITES
------------------------------

Prerequisite modules loaded:

requires:

    Module           Need   Have    
    ---------------- ------ --------
    List::AllUtils   0.07   0.12    
    Math::Cephes     0.5303 0.5305  
    Statistics::Data 0.08   0.09    
    Statistics::Lite 3.2    3.62    
    Statistics::Zed  0.10   0.10    

build_requires:

    Module           Need   Have    
    ---------------- ------ --------
    List::AllUtils   0.07   0.12    
    Math::Cephes     0.5303 0.5305  
    Statistics::Data 0.08   0.09    
    Statistics::Lite 3.2    3.62    
    Statistics::Zed  0.072  0.10    
    Test::More       0.92   1.302062

configure_requires:

    Module           Need   Have    
    ---------------- ------ --------
    Module::Build    0.4007 0.4220  


------------------------------
ENVIRONMENT AND OTHER CONTEXT
------------------------------

Environment variables:

    AUTOMATED_TESTING = 1
    PATH = /home/foo/bin:/home/foo/perl5/bin:/usr/bin:/bin:/usr/sbin:/sbin:/usr/X11R6/bin:/usr/local/bin:/usr/local/sbin
    PERL5LIB = /home/foo/perl5/lib/perl5
    PERL5OPT = 
    PERL5_CPANPLUS_IS_RUNNING = 4045
    PERL5_CPAN_IS_RUNNING = 4045
    PERL5_CPAN_IS_RUNNING_IN_RECURSION = 12590,4045
    PERL_CR_SMOKER_CURRENT = Statistics-Autocorrelation-0.06
    PERL_EXTUTILS_AUTOINSTALL = --defaultdeps
    PERL_LOCAL_LIB_ROOT = /home/foo/perl5
    PERL_MB_OPT = --install_base "/home/foo/perl5"
    PERL_MM_OPT = INSTALL_BASE=/home/foo/perl5
    PERL_MM_USE_DEFAULT = 1
    SHELL = /usr/local/bin/bash
    TERM = vt220

Perl special variables (and OS-specific diagnostics, for MSWin32):

    $^X = /usr/bin/perl
    $UID/$EUID = 1001 / 1001
    $GID = 1001 1001
    $EGID = 1001 1001

Perl module toolchain versions installed:

    Module              Have    
    ------------------- --------
    CPAN                2.14    
    CPAN::Meta          2.150010
    Cwd                 3.62    
    ExtUtils::CBuilder  0.280224
    ExtUtils::Command   7.24    
    ExtUtils::Install   1.67    
    ExtUtils::MakeMaker 7.24    
    ExtUtils::Manifest  1.70    
    ExtUtils::ParseXS   3.30    
    File::Spec          3.62    
    JSON                2.90    
    JSON::PP            2.27400 
    Module::Build       0.4220  
    Module::Signature   n/a     
    Parse::CPAN::Meta   2.150010
    Test::Harness       3.36    
    Test::More          1.302062
    YAML                1.19    
    YAML::Syck          1.29    
    version             0.9912  


--

Summary of my perl5 (revision 5 version 20 subversion 2) configuration:
   
  Platform:
    osname=openbsd, osvers=5.9, archname=amd64-openbsd
    uname='openbsd'
    config_args='-dsE -Dopenbsd_distribution=defined -Dccflags=-DNO_LOCALE_NUMERIC -DNO_LOCALE_COLLATE -Dmksymlinks'
    hint=recommended, useposix=true, d_sigaction=define
    useithreads=undef, usemultiplicity=undef
    use64bitint=define, use64bitall=define, uselongdouble=undef
    usemymalloc=n, bincompat5005=undef
  Compiler:
    cc='cc', ccflags ='-DNO_LOCALE_NUMERIC -DNO_LOCALE_COLLATE -fno-strict-aliasing -fno-delete-null-pointer-checks -pipe -fstack-protector -I/usr/local/include',
    optimize='-O2',
    cppflags='-DNO_LOCALE_NUMERIC -DNO_LOCALE_COLLATE -fno-strict-aliasing -fno-delete-null-pointer-checks -pipe -fstack-protector -I/usr/local/include'
    ccversion='', gccversion='4.2.1 20070719 ', gccosandvers='openbsd5.9'
    intsize=4, longsize=8, ptrsize=8, doublesize=8, byteorder=12345678
    d_longlong=define, longlongsize=8, d_longdbl=define, longdblsize=16
    ivtype='long', ivsize=8, nvtype='double', nvsize=8, Off_t='off_t', lseeksize=8
    alignbytes=8, prototype=define
  Linker and Libraries:
    ld='cc', ldflags ='-Wl,-E  -fstack-protector -L/usr/local/lib'
    libpth=/usr/lib /usr/local/lib
    libs=-lm -lutil -lc
    perllibs=-lm -lutil -lc
    libc=/usr/lib/libc.a, so=so, useshrplib=true, libperl=libperl.so.17.1
    gnulibc_version=''
  Dynamic Linking:
    dlsrc=dl_dlopen.xs, dlext=so, d_dlsymun=undef, ccdlflags='-Wl,-R/usr/libdata/perl5/amd64-openbsd/5.20.2/CORE'
    cccdlflags='-DPIC -fPIC ', lddlflags='-shared -fPIC  -fstack-protector -L/usr/local/lib'


Characteristics of this binary (from libperl): 
  Compile-time options: HAS_TIMES PERLIO_LAYERS PERL_DONT_CREATE_GVSV
                        PERL_HASH_FUNC_ONE_AT_A_TIME_HARD PERL_MALLOC_WRAP
                        PERL_NEW_COPY_ON_WRITE PERL_PRESERVE_IVUV
                        USE_64_BIT_ALL USE_64_BIT_INT USE_LARGE_FILES
                        USE_LOCALE USE_LOCALE_CTYPE USE_PERLIO USE_PERL_ATOF
  Built under openbsd
  Compiled at Feb 26 2016 01:02:08
  %ENV:
    PERL5LIB="/home/foo/perl5/lib/perl5"
    PERL5OPT=""
    PERL5_CPANPLUS_IS_RUNNING="4045"
    PERL5_CPAN_IS_RUNNING="4045"
    PERL5_CPAN_IS_RUNNING_IN_RECURSION="12590,4045"
    PERL_CR_SMOKER_CURRENT="Statistics-Autocorrelation-0.06"
    PERL_EXTUTILS_AUTOINSTALL="--defaultdeps"
    PERL_LOCAL_LIB_ROOT="/home/foo/perl5"
    PERL_MB_OPT="--install_base "/home/foo/perl5""
    PERL_MM_OPT="INSTALL_BASE=/home/foo/perl5"
    PERL_MM_USE_DEFAULT="1"
  @INC:
    /home/foo/perl5/lib/perl5/5.20.2/amd64-openbsd
    /home/foo/perl5/lib/perl5/5.20.2
    /home/foo/perl5/lib/perl5/amd64-openbsd
    /home/foo/perl5/lib/perl5
    /usr/local/libdata/perl5/site_perl/amd64-openbsd
    /usr/libdata/perl5/site_perl/amd64-openbsd
    /usr/local/libdata/perl5/site_perl
    /usr/libdata/perl5/site_perl
    /usr/libdata/perl5/amd64-openbsd/5.20.2
    /usr/local/libdata/perl5/amd64-openbsd/5.20.2
    /usr/libdata/perl5
    /usr/local/libdata/perl5
    .