HTTP-Message v6.45 Perl 5 v5.39.10 x86_64-linux-thread-multi

Status
Pass
From
Dagfinn Ilmari Mannsåker
Dist
HTTP-Message v6.45
Platform
Perl 5 v5.39.10 x86_64-linux-thread-multi
Date
2024-04-27 17:30:03
ID
c845d64c-04bb-11ef-a360-f1e0254d66e8
This distribution has been tested as part of the CPAN Testers
project, supporting the Perl programming language.  See
http://wiki.cpantesters.org/ for more information or email
questions to cpan-testers-discuss@perl.org


--
Dear OALDERS,

This is a computer-generated report for HTTP-Message-6.45
on perl 5.39.10, created by App::cpanminus::reporter 0.21 (1.7047).

Thank you for uploading your work to CPAN.  Congratulations!
All tests were successful.

Sections of this report:

    * Tester comments
    * Program output
    * Prerequisites
    * Environment and other context

------------------------------
TESTER COMMENTS
------------------------------

Additional comments from tester:

none provided

------------------------------
PROGRAM OUTPUT
------------------------------

Output from '':

Building and testing HTTP-Message-6.45
cp lib/HTTP/Config.pm blib/lib/HTTP/Config.pm
cp lib/HTTP/Response.pm blib/lib/HTTP/Response.pm
cp lib/HTTP/Headers.pm blib/lib/HTTP/Headers.pm
cp lib/HTTP/Status.pm blib/lib/HTTP/Status.pm
cp lib/HTTP/Headers/Util.pm blib/lib/HTTP/Headers/Util.pm
cp lib/HTTP/Message.pm blib/lib/HTTP/Message.pm
cp lib/HTTP/Request/Common.pm blib/lib/HTTP/Request/Common.pm
cp lib/HTTP/Headers/ETag.pm blib/lib/HTTP/Headers/ETag.pm
cp lib/HTTP/Request.pm blib/lib/HTTP/Request.pm
cp lib/HTTP/Headers/Auth.pm blib/lib/HTTP/Headers/Auth.pm
PERL_DL_NONLAZY=1 "/home/ilmari/perl5/perlbrew/perls/39.10td/bin/perl5.39.10" "-MExtUtils::Command::MM" "-MTest::Harness" "-e" "undef *Test::Harness::Switches; test_harness(0, 'blib/lib', 'blib/arch')" t/*.t
# 
# Versions for all modules listed in MYMETA.json (including optional ones):
# 
# === Configure Requires ===
# 
#     Module               Want     Have
#     ------------------- ----- --------
#     ExtUtils::MakeMaker   any     7.70
#     perl                5.006 5.039010
# 
# === Configure Suggests ===
# 
#     Module      Want Have
#     -------- ------- ----
#     JSON::PP 2.27300 4.16
# 
# === Build Requires ===
# 
#     Module              Want Have
#     ------------------- ---- ----
#     ExtUtils::MakeMaker  any 7.70
# 
# === Test Requires ===
# 
#     Module                  Want     Have
#     ------------------- -------- --------
#     ExtUtils::MakeMaker      any     7.70
#     File::Spec               any     3.90
#     File::Temp               any   0.2311
#     PerlIO::encoding         any     0.31
#     Test::More              0.88 1.302199
#     Test::Needs              any 0.002010
#     Time::Local              any     1.35
#     Try::Tiny                any     0.31
#     URI::URL                 any     5.28
#     lib                      any     0.65
#     overload                 any     1.37
#     perl                5.008001 5.039010
# 
# === Test Recommends ===
# 
#     Module                     Want     Have
#     ---------------------- -------- --------
#     CPAN::Meta             2.120900 2.150010
#     IO::Compress::Brotli   0.004001  missing
#     IO::Uncompress::Brotli 0.004001  missing
# 
# === Runtime Requires ===
# 
#     Module                         Want     Have
#     -------------------------- -------- --------
#     Carp                            any     1.54
#     Clone                          0.46     0.46
#     Compress::Raw::Bzip2            any    2.212
#     Compress::Raw::Zlib           2.062    2.212
#     Encode                         3.01     3.21
#     Encode::Locale                    1     1.05
#     Exporter                       5.57     5.78
#     File::Spec                      any     3.90
#     HTTP::Date                        6     6.06
#     IO::Compress::Bzip2           2.021    2.212
#     IO::Compress::Deflate           any    2.212
#     IO::Compress::Gzip              any    2.212
#     IO::HTML                        any    1.004
#     IO::Uncompress::Inflate         any    2.212
#     IO::Uncompress::RawInflate      any    2.212
#     LWP::MediaTypes                   6     6.04
#     MIME::Base64                    2.1  3.16_01
#     MIME::QuotedPrint               any  3.16_01
#     URI                            1.10     5.28
#     parent                          any    0.241
#     perl                       5.008001 5.039010
#     strict                          any     1.13
#     warnings                        any     1.69
# 
# === Runtime Recommends ===
# 
#     Module                     Want    Have
#     ---------------------- -------- -------
#     IO::Compress::Brotli   0.004001 missing
#     IO::Uncompress::Brotli 0.004001 missing
# 
t/00-report-prereqs.t .......... ok
t/common-req.t ................. ok
t/headers-auth.t ............... ok
t/headers-etag.t ............... ok
t/headers-util.t ............... ok
t/headers.t .................... ok
t/http-config.t ................ ok
t/message-brotli.t ............. skipped: Need IO::Compress::Brotli, IO::Uncompress::Brotli
t/message-charset.t ............ ok
t/message-decode-brotlibomb.t .. skipped: Need IO::Compress::Brotli, IO::Uncompress::Brotli
t/message-decode-bzipbomb.t .... ok
t/message-decode-xml.t ......... ok
t/message-decode-zipbomb.t ..... ok
t/message-old.t ................ ok
t/message-parts.t .............. ok
t/message.t .................... ok
t/request.t .................... ok
t/request_type_with_data.t ..... ok
t/response.t ................... ok
t/status-old.t ................. ok
t/status.t ..................... ok
All tests successful.
Files=21, Tests=837,  1 wallclock secs ( 0.05 usr  0.01 sys +  1.50 cusr  0.18 csys =  1.74 CPU)
Result: PASS

------------------------------
PREREQUISITES
------------------------------

Prerequisite modules loaded:

    No requirements found

------------------------------
ENVIRONMENT AND OTHER CONTEXT
------------------------------

Environment variables:

    LANG = en_GB.UTF-8
    LANGUAGE = en_GB:en
    PATH = /home/ilmari/.perlbrew/libs/39.10td@std/bin:/home/ilmari/perl5/perlbrew/bin:/home/ilmari/perl5/perlbrew/perls/39.10td/bin:/home/ilmari/.pyenv/shims:/home/ilmari/.pyenv/bin:/home/ilmari/.local/bin:/home/ilmari/go/bin:/home/ilmari/.cargo/bin:/usr/lib/ccache:/home/ilmari/bin:/usr/local/bin:/usr/bin:/bin:/usr/local/games:/usr/games
    PERL5LIB = /home/ilmari/.perlbrew/libs/39.10td@std/lib/perl5
    PERLBREW_HOME = /home/ilmari/.perlbrew
    PERLBREW_LIB = std
    PERLBREW_MANPATH = /home/ilmari/.perlbrew/libs/39.10td@std/man:/home/ilmari/perl5/perlbrew/perls/39.10td/man
    PERLBREW_PATH = /home/ilmari/.perlbrew/libs/39.10td@std/bin:/home/ilmari/perl5/perlbrew/bin:/home/ilmari/perl5/perlbrew/perls/39.10td/bin
    PERLBREW_PERL = 39.10td
    PERLBREW_ROOT = /home/ilmari/perl5/perlbrew
    PERLBREW_SHELLRC_VERSION = 0.82
    PERLBREW_VERSION = 0.96
    PERL_LOCAL_LIB_ROOT = /home/ilmari/.perlbrew/libs/39.10td@std
    PERL_MB_OPT = --install_base /home/ilmari/.perlbrew/libs/39.10td@std
    PERL_MM_OPT = INSTALL_BASE=/home/ilmari/.perlbrew/libs/39.10td@std
    SHELL = /bin/bash
    TERM = xterm-256color

Perl special variables (and OS-specific diagnostics, for MSWin32):

    EGID = 1000 4 24 25 27 29 30 44 46 50 108 114 128 129 996 999 1000
    EUID = 1000
    EXECUTABLE_NAME = /home/ilmari/perl5/perlbrew/perls/39.10td/bin/perl5.39.10
    GID = 1000 4 24 25 27 29 30 44 46 50 108 114 128 129 996 999 1000
    UID = 1000

Perl module toolchain versions installed:

    Module              Have    
    ------------------- --------
    CPAN                2.36    
    CPAN::Meta          2.150010
    Cwd                 3.90    
    ExtUtils::CBuilder  0.280240
    ExtUtils::Command   7.70    
    ExtUtils::Install   2.22    
    ExtUtils::MakeMaker 7.70    
    ExtUtils::Manifest  1.75    
    ExtUtils::ParseXS   3.51    
    File::Spec          3.90    
    JSON                n/a     
    JSON::PP            4.16    
    Module::Build       0.4234  
    Module::Signature   n/a     
    Parse::CPAN::Meta   2.150010
    Test::Harness       3.48    
    Test::More          1.302199
    YAML                1.31    
    YAML::Syck          n/a     
    version             0.9930  


--

Summary of my perl5 (revision 5 version 39 subversion 10) configuration:
   
  Platform:
    osname=linux
    osvers=6.1.0-13-amd64
    archname=x86_64-linux-thread-multi
    uname='linux ilmari-thinkpad 6.1.0-13-amd64 #1 smp preempt_dynamic debian 6.1.55-1 (2023-09-29) x86_64 gnulinux '
    config_args='-de -Dprefix=/home/ilmari/perl5/perlbrew/perls/39.10td -Dman1dir=none -Dman3dir=none -Dusethreads -DDEBUGGING -Dusedevel -Aeval:scriptdir=/home/ilmari/perl5/perlbrew/perls/39.10td/bin'
    hint=recommended
    useposix=true
    d_sigaction=define
    useithreads=define
    usemultiplicity=define
    use64bitint=define
    use64bitall=define
    uselongdouble=undef
    usemymalloc=n
    default_inc_excludes_dot=define
  Compiler:
    cc='cc'
    ccflags ='-D_REENTRANT -D_GNU_SOURCE -fwrapv -DDEBUGGING -fno-strict-aliasing -pipe -fstack-protector-strong -I/usr/local/include -D_LARGEFILE_SOURCE -D_FILE_OFFSET_BITS=64 -D_FORTIFY_SOURCE=2'
    optimize='-O2 -g'
    cppflags='-D_REENTRANT -D_GNU_SOURCE -fwrapv -DDEBUGGING -fno-strict-aliasing -pipe -fstack-protector-strong -I/usr/local/include'
    ccversion=''
    gccversion='12.2.0'
    gccosandvers=''
    intsize=4
    longsize=8
    ptrsize=8
    doublesize=8
    byteorder=12345678
    doublekind=3
    d_longlong=define
    longlongsize=8
    d_longdbl=define
    longdblsize=16
    longdblkind=3
    ivtype='long'
    ivsize=8
    nvtype='double'
    nvsize=8
    Off_t='off_t'
    lseeksize=8
    alignbytes=8
    prototype=define
  Linker and Libraries:
    ld='cc'
    ldflags =' -fstack-protector-strong -L/usr/local/lib'
    libpth=/usr/local/lib /usr/lib/x86_64-linux-gnu /usr/lib /usr/lib64
    libs=-lpthread -lgdbm -ldl -lm -lcrypt -lutil -lc -lgdbm_compat
    perllibs=-lpthread -ldl -lm -lcrypt -lutil -lc
    libc=/lib/x86_64-linux-gnu/libc.so.6
    so=so
    useshrplib=false
    libperl=libperl.a
    gnulibc_version='2.36'
  Dynamic Linking:
    dlsrc=dl_dlopen.xs
    dlext=so
    d_dlsymun=undef
    ccdlflags='-Wl,-E'
    cccdlflags='-fPIC'
    lddlflags='-shared -O2 -g -L/usr/local/lib -fstack-protector-strong'


Characteristics of this binary (from libperl): 
  Compile-time options:
    DEBUGGING
    HAS_LONG_DOUBLE
    HAS_STRTOLD
    HAS_TIMES
    MULTIPLICITY
    PERLIO_LAYERS
    PERL_COPY_ON_WRITE
    PERL_DONT_CREATE_GVSV
    PERL_HASH_FUNC_SIPHASH13
    PERL_HASH_USE_SBOX32
    PERL_MALLOC_WRAP
    PERL_OP_PARENT
    PERL_PRESERVE_IVUV
    PERL_TRACK_MEMPOOL
    PERL_USE_DEVEL
    PERL_USE_SAFE_PUTENV
    USE_64_BIT_ALL
    USE_64_BIT_INT
    USE_ITHREADS
    USE_LARGE_FILES
    USE_LOCALE
    USE_LOCALE_COLLATE
    USE_LOCALE_CTYPE
    USE_LOCALE_NUMERIC
    USE_LOCALE_TIME
    USE_PERLIO
    USE_PERL_ATOF
    USE_REENTRANT_API
    USE_THREAD_SAFE_LOCALE
  Built under linux
  Compiled at Apr 27 2024 17:27:05
  %ENV:
    PERL5LIB="/home/ilmari/.perlbrew/libs/39.10td@std/lib/perl5"
    PERLBREW_HOME="/home/ilmari/.perlbrew"
    PERLBREW_LIB="std"
    PERLBREW_MANPATH="/home/ilmari/.perlbrew/libs/39.10td@std/man:/home/ilmari/perl5/perlbrew/perls/39.10td/man"
    PERLBREW_PATH="/home/ilmari/.perlbrew/libs/39.10td@std/bin:/home/ilmari/perl5/perlbrew/bin:/home/ilmari/perl5/perlbrew/perls/39.10td/bin"
    PERLBREW_PERL="39.10td"
    PERLBREW_ROOT="/home/ilmari/perl5/perlbrew"
    PERLBREW_SHELLRC_VERSION="0.82"
    PERLBREW_VERSION="0.96"
    PERL_LOCAL_LIB_ROOT="/home/ilmari/.perlbrew/libs/39.10td@std"
    PERL_MB_OPT="--install_base /home/ilmari/.perlbrew/libs/39.10td@std"
    PERL_MM_OPT="INSTALL_BASE=/home/ilmari/.perlbrew/libs/39.10td@std"
  @INC:
    /home/ilmari/.perlbrew/libs/39.10td@std/lib/perl5/x86_64-linux-thread-multi
    /home/ilmari/.perlbrew/libs/39.10td@std/lib/perl5
    /home/ilmari/perl5/perlbrew/perls/39.10td/lib/site_perl/5.39.10/x86_64-linux-thread-multi
    /home/ilmari/perl5/perlbrew/perls/39.10td/lib/site_perl/5.39.10
    /home/ilmari/perl5/perlbrew/perls/39.10td/lib/5.39.10/x86_64-linux-thread-multi
    /home/ilmari/perl5/perlbrew/perls/39.10td/lib/5.39.10