Back
From: metabase:user:e9d4a868-a1b6-1014-8cbd-09dd8d67b9ce
Subject: PASS Text-Diff-1.43 v5.22.0 GNU/Linux
Date: 2016-01-22T10:34:57Z
This distribution has been tested as part of the CPAN Testers
project, supporting the Perl programming language. See
http://wiki.cpantesters.org/ for more information or email
questions to cpan-testers-discuss@perl.org
--
Dear Neil Bowers,
This is a computer-generated report for Text-Diff-1.43
on perl 5.22.0, created by CPAN-Reporter-1.2014.
Thank you for uploading your work to CPAN. Congratulations!
All tests were successful.
Sections of this report:
* Tester comments
* Program output
* Prerequisites
* Environment and other context
------------------------------
TESTER COMMENTS
------------------------------
Additional comments from tester:
none provided
------------------------------
PROGRAM OUTPUT
------------------------------
Output from '/usr/bin/make test':
PERL_DL_NONLAZY=1 "/home/omengue/.plenv/versions/5.22.0/bin/perl5.22.0" "-MExtUtils::Command::MM" "-MTest::Harness" "-e" "undef *Test::Harness::Switches; test_harness(0, 'blib/lib', 'blib/arch')" t/*.t
t/97_meta.t ..... skipped: Author tests not required for installation
t/98_pod.t ...... skipped: Author tests not required for installation
t/99_pmv.t ...... skipped: Author tests not required for installation
t/ext_format.t .. ok
t/general.t ..... ok
t/inputs.t ...... ok
t/keygen.t ...... ok
t/outputs.t ..... ok
t/table.t ....... ok
All tests successful.
Files=9, Tests=33, 0 wallclock secs ( 0.03 usr 0.02 sys + 0.17 cusr 0.03 csys = 0.25 CPU)
Result: PASS
------------------------------
PREREQUISITES
------------------------------
Prerequisite modules loaded:
requires:
Module Need Have
------------------- ----- --------
Algorithm::Diff 1.19 1.1903
Exporter 0 5.72
perl 5.006 5.022000
build_requires:
Module Need Have
------------------- ----- --------
ExtUtils::MakeMaker 0 7.04_01
configure_requires:
Module Need Have
------------------- ----- --------
ExtUtils::MakeMaker 0 7.04_01
------------------------------
ENVIRONMENT AND OTHER CONTEXT
------------------------------
Environment variables:
LANG = fr_FR.UTF-8
LANGUAGE = fr:en
LC_MESSAGES = fr_FR.UTF-8
NONINTERACTIVE_TESTING = 1
PATH = /home/omengue/.plenv/versions/5.22.0/bin:/home/omengue/.plenv/libexec:/home/omengue/.plenv/plugins/perl-build/bin:/home/omengue/bin:/home/omengue/local/eclipse:/home/omengue/local/maven/bin:/home/omengue/.plenv/shims:/home/omengue/.plenv/bin:/usr/local/go/bin:/home/omengue/Code-local/go/bin:/home/omengue/local/git-hub/lib:/home/omengue/local/node/bin:/home/omengue/bin:/usr/local/sbin:/usr/local/bin:/usr/sbin:/usr/bin:/sbin:/bin:/usr/games:/usr/local/games
PERL5LIB =
PERL5OPT =
PERL5_CPANPLUS_IS_RUNNING = 4070
PERL5_CPAN_IS_RUNNING = 4070
PERL_CPANM_OPT =
PERL_MM_USE_DEFAULT = 1
SHELL = /bin/bash
TERM = xterm
Perl special variables (and OS-specific diagnostics, for MSWin32):
$^X = /home/omengue/.plenv/versions/5.22.0/bin/perl5.22.0
$UID/$EUID = 1024 / 1024
$GID = 1024 4 20 24 46 104 112 118 122 125 126 132 499 500 1024
$EGID = 1024 4 20 24 46 104 112 118 122 125 126 132 499 500 1024
Perl module toolchain versions installed:
Module Have
------------------- --------
CPAN 2.11
CPAN::Meta 2.150001
Cwd 3.56
ExtUtils::CBuilder 0.280221
ExtUtils::Command 1.20
ExtUtils::Install 2.04
ExtUtils::MakeMaker 7.04_01
ExtUtils::Manifest 1.70
ExtUtils::ParseXS 3.28
File::Spec 3.56
JSON 2.90
JSON::PP 2.27300
Module::Build 0.4214
Module::Signature n/a
Parse::CPAN::Meta 1.4414
Test::Harness 3.35
Test::More 1.001014
YAML n/a
YAML::Syck n/a
version 0.9909
--
Summary of my perl5 (revision 5 version 22 subversion 0) configuration:
Platform:
osname=linux, osvers=3.13.0-54-generic, archname=x86_64-linux
uname='linux omengue-ubuntu 3.13.0-54-generic #91-ubuntu smp tue may 26 19:15:08 utc 2015 x86_64 x86_64 x86_64 gnulinux '
config_args='-Dprefix=/home/omengue/.plenv/versions/5.22.0 -de -Dusedevel -A'eval:scriptdir=/home/omengue/.plenv/versions/5.22.0/bin''
hint=recommended, useposix=true, d_sigaction=define
useithreads=undef, usemultiplicity=undef
use64bitint=define, use64bitall=define, uselongdouble=undef
usemymalloc=n, bincompat5005=undef
Compiler:
cc='cc', ccflags ='-fwrapv -fno-strict-aliasing -pipe -fstack-protector -I/usr/local/include -D_LARGEFILE_SOURCE -D_FILE_OFFSET_BITS=64',
optimize='-O2',
cppflags='-fwrapv -fno-strict-aliasing -pipe -fstack-protector -I/usr/local/include'
ccversion='', gccversion='4.8.4', gccosandvers=''
intsize=4, longsize=8, ptrsize=8, doublesize=8, byteorder=12345678, doublekind=3
d_longlong=define, longlongsize=8, d_longdbl=define, longdblsize=16, longdblkind=3
ivtype='long', ivsize=8, nvtype='double', nvsize=8, Off_t='off_t', lseeksize=8
alignbytes=8, prototype=define
Linker and Libraries:
ld='cc', ldflags =' -fstack-protector -L/usr/local/lib'
libpth=/usr/local/lib /usr/lib/gcc/x86_64-linux-gnu/4.8/include-fixed /usr/include/x86_64-linux-gnu /usr/lib /lib/x86_64-linux-gnu /lib/../lib /usr/lib/x86_64-linux-gnu /usr/lib/../lib /lib
libs=-lpthread -lnsl -ldl -lm -lcrypt -lutil -lc
perllibs=-lpthread -lnsl -ldl -lm -lcrypt -lutil -lc
libc=libc-2.19.so, so=so, useshrplib=false, libperl=libperl.a
gnulibc_version='2.19'
Dynamic Linking:
dlsrc=dl_dlopen.xs, dlext=so, d_dlsymun=undef, ccdlflags='-Wl,-E'
cccdlflags='-fPIC', lddlflags='-shared -O2 -L/usr/local/lib -fstack-protector'
Characteristics of this binary (from libperl):
Compile-time options: HAS_TIMES PERLIO_LAYERS PERL_DONT_CREATE_GVSV
PERL_HASH_FUNC_ONE_AT_A_TIME_HARD PERL_MALLOC_WRAP
PERL_NEW_COPY_ON_WRITE PERL_PRESERVE_IVUV
PERL_USE_DEVEL USE_64_BIT_ALL USE_64_BIT_INT
USE_LARGE_FILES USE_LOCALE USE_LOCALE_COLLATE
USE_LOCALE_CTYPE USE_LOCALE_NUMERIC USE_LOCALE_TIME
USE_PERLIO USE_PERL_ATOF
Locally applied patches:
Devel::PatchPerl 1.30
Built under linux
Compiled at Jun 3 2015 18:07:38
%ENV:
PERL5LIB=""
PERL5OPT=""
PERL5_CPANPLUS_IS_RUNNING="4070"
PERL5_CPAN_IS_RUNNING="4070"
PERL_CPANM_OPT=""
PERL_MM_USE_DEFAULT="1"
@INC:
/home/omengue/.plenv/versions/5.22.0/lib/perl5/site_perl/5.22.0/x86_64-linux
/home/omengue/.plenv/versions/5.22.0/lib/perl5/site_perl/5.22.0
/home/omengue/.plenv/versions/5.22.0/lib/perl5/5.22.0/x86_64-linux
/home/omengue/.plenv/versions/5.22.0/lib/perl5/5.22.0
.