Report for Smart-Comments-1.0.4

Back
From: metabase:user:dbed8a9a-ee1c-11e1-96d1-5b2443ad88ad
Subject: PASS Smart-Comments-1.0.4 v5.14.2 GNU/Linux
Date: 2012-09-20T14:09:24Z

This distribution has been tested as part of the CPAN Testers
project, supporting the Perl programming language.  See
http://wiki.cpantesters.org/ for more information or email
questions to cpan-testers-discuss@perl.org


--
Dear Alexandr Ciornii,

This is a computer-generated report for Smart-Comments-1.0.4
on perl 5.14.2, created by CPAN-Reporter-1.2006.

Thank you for uploading your work to CPAN.  Congratulations!
All tests were successful.

Sections of this report:

    * Tester comments
    * Program output
    * Prerequisites
    * Environment and other context

------------------------------
TESTER COMMENTS
------------------------------

Additional comments from tester:

none provided

------------------------------
PROGRAM OUTPUT
------------------------------

Output from '/usr/bin/make test':

PERL_DL_NONLAZY=1 /usr/bin/perl "-MExtUtils::Command::MM" "-e" "test_harness(0, 'blib/lib', 'blib/arch')" t/*.t
# Testing Smart::Comments 1.0.4
t/00.load.t ................. ok
t/assert.t .................. ok
t/brackets.t ................ ok
t/c_like_for_loop.t ......... ok
t/check.t ................... ok
t/confirm.t ................. ok
t/ensure.t .................. ok
t/ENV_0.t ................... ok
t/ENV_1.t ................... ok
t/ENV_str.t ................. ok
t/insist.t .................. ok
t/labelled_perlish_loop.t ... ok
t/message.t ................. ok
t/perlish_for.t ............. ok
t/perlish_for_percentage.t .. ok
t/pod-coverage.t ............ ok
t/pod.t ..................... ok
t/require.t ................. ok
t/selective.t ............... ok
t/simple_perlish_for.t ...... ok
t/var.t ..................... ok
t/verify.t .................. ok
t/while.t ................... ok
t/while_num.t ............... ok
All tests successful.
Files=24, Tests=121,  1 wallclock secs ( 0.13 usr  0.04 sys +  1.08 cusr  0.15 csys =  1.40 CPU)
Result: PASS

------------------------------
PREREQUISITES
------------------------------

Prerequisite modules loaded:

requires:

    Module              Need Have    
    ------------------- ---- --------
    Data::Dumper        0    2.130_02
    Filter::Simple      0.8  0.86    
    List::Util          0    1.25    
    Test::More          0    0.98    
    Text::Balanced      2    2.02    
    version             0    0.99    

build_requires:

    Module              Need Have    
    ------------------- ---- --------
    ExtUtils::MakeMaker 0    6.62    


------------------------------
ENVIRONMENT AND OTHER CONTEXT
------------------------------

Environment variables:

    LANG = en_US.UTF-8
    LANGUAGE = 
    PATH = /progs:/home/shadow/perl5/bin:/progs:/home/shadow/perl5/bin:/progs:/usr/lib/qt-3.3/bin:/usr/local/bin:/usr/bin:/bin:/usr/local/sbin:/usr/sbin:.:/home/shadow/.local/bin:/home/shadow/bin:.:.
    PERL5LIB = /home/shadow/perl5/lib/perl5/i386-linux-thread-multi:/home/shadow/perl5/lib/perl5
    PERL5OPT = 
    PERL5_CPANPLUS_IS_RUNNING = 5429
    PERL5_CPAN_IS_RUNNING = 5429
    PERL_LOCAL_LIB_ROOT = /home/shadow/perl5
    PERL_MB_OPT = --install_base /home/shadow/perl5
    PERL_MM_OPT = INSTALL_BASE=/home/shadow/perl5
    SHELL = /bin/bash
    TERM = xterm

Perl special variables (and OS-specific diagnostics, for MSWin32):

    $^X = /usr/bin/perl
    $UID/$EUID = 0 / 0
    $GID = 0 0
    $EGID = 0 0

Perl module toolchain versions installed:

    Module              Have    
    ------------------- --------
    CPAN                1.9800  
    CPAN::Meta          2.120921
    Cwd                 3.36    
    ExtUtils::CBuilder  0.280205
    ExtUtils::Command   1.17    
    ExtUtils::Install   1.56    
    ExtUtils::MakeMaker 6.62    
    ExtUtils::Manifest  1.60    
    ExtUtils::ParseXS   2.2210  
    File::Spec          3.33    
    JSON                2.53    
    JSON::PP            2.27200 
    Module::Build       0.4002  
    Module::Signature   n/a     
    Parse::CPAN::Meta   1.4404  
    Test::Harness       3.23    
    Test::More          0.98    
    YAML                0.84    
    YAML::Syck          1.17    
    version             0.99    


--

Summary of my perl5 (revision 5 version 14 subversion 2) configuration:
   
  Platform:
    osname=linux, osvers=2.6.32-220.4.1.el6.x86_64, archname=i386-linux-thread-multi
    uname='linux x86-04.phx2.fedoraproject.org 2.6.32-220.4.1.el6.x86_64 #1 smp thu jan 19 14:50:54 est 2012 i686 i686 i386 gnulinux '
    config_args='-des -Doptimize=-O2 -g -pipe -Wall -Wp,-D_FORTIFY_SOURCE=2 -fexceptions -fstack-protector --param=ssp-buffer-size=4  -m32 -march=i686 -mtune=atom -fasynchronous-unwind-tables -Dccdlflags=-Wl,--enable-new-dtags -Dlddlflags=-shared -O2 -g -pipe -Wall -Wp,-D_FORTIFY_SOURCE=2 -fexceptions -fstack-protector --param=ssp-buffer-size=4  -m32 -march=i686 -mtune=atom -fasynchronous-unwind-tables -Wl,-z,relro  -DDEBUGGING=-g -Dversion=5.14.2 -Dmyhostname=localhost -Dperladmin=root@localhost -Dcc=gcc -Dcf_by=Red Hat, Inc. -Dprefix=/usr -Dvendorprefix=/usr -Dsiteprefix=/usr/local -Dsitelib=/usr/local/share/perl5 -Dsitearch=/usr/local/lib/perl5 -Dprivlib=/usr/share/perl5 -Dvendorlib=/usr/share/perl5/vendor_perl -Darchlib=/usr/lib/perl5 -Dvendorarch=/usr/lib/perl5/vendor_perl -Darchname=i386-linux-thread-multi -Duseshrplib -Dusethreads -Duseithreads -Dusedtrace=/usr/bin/dtrace -Duselargefiles -Dd_semctl_semun -Di_db -Ui_ndbm -Di_gdbm -Di_shadow -Di_syslog -Dman3ext=3pm -Duseperlio -Dinstallusrbinperl=n -Ubincompat5005 -Uversiononly -Dpager=/usr/bin/less -isr -Dd_gethostent_r_proto -Ud_endhostent_r_proto -Ud_sethostent_r_proto -Ud_endprotoent_r_proto -Ud_setprotoent_r_proto -Ud_endservent_r_proto -Ud_setservent_r_proto -Dscriptdir=/usr/bin'
    hint=recommended, useposix=true, d_sigaction=define
    useithreads=define, usemultiplicity=define
    useperlio=define, d_sfio=undef, uselargefiles=define, usesocks=undef
    use64bitint=undef, use64bitall=undef, uselongdouble=undef
    usemymalloc=n, bincompat5005=undef
  Compiler:
    cc='gcc', ccflags ='-D_REENTRANT -D_GNU_SOURCE -fno-strict-aliasing -pipe -fstack-protector -I/usr/local/include -D_LARGEFILE_SOURCE -D_FILE_OFFSET_BITS=64',
    optimize='-O2 -g -pipe -Wall -Wp,-D_FORTIFY_SOURCE=2 -fexceptions -fstack-protector --param=ssp-buffer-size=4 -m32 -march=i686 -mtune=atom -fasynchronous-unwind-tables',
    cppflags='-D_REENTRANT -D_GNU_SOURCE -fno-strict-aliasing -pipe -fstack-protector -I/usr/local/include'
    ccversion='', gccversion='4.7.0 20120507 (Red Hat 4.7.0-5)', gccosandvers=''
    intsize=4, longsize=4, ptrsize=4, doublesize=8, byteorder=1234
    d_longlong=define, longlongsize=8, d_longdbl=define, longdblsize=12
    ivtype='long', ivsize=4, nvtype='double', nvsize=8, Off_t='off_t', lseeksize=8
    alignbytes=4, prototype=define
  Linker and Libraries:
    ld='gcc', ldflags =' -fstack-protector -L/usr/local/lib'
    libpth=/usr/local/lib /lib /usr/lib
    libs=-lresolv -lnsl -lgdbm -ldb -ldl -lm -lcrypt -lutil -lpthread -lc -lgdbm_compat
    perllibs=-lresolv -lnsl -ldl -lm -lcrypt -lutil -lpthread -lc
    libc=/lib/libc-2.15.so, so=so, useshrplib=true, libperl=libperl.so
    gnulibc_version='2.15'
  Dynamic Linking:
    dlsrc=dl_dlopen.xs, dlext=so, d_dlsymun=undef, ccdlflags='-Wl,--enable-new-dtags -Wl,-rpath,/usr/lib/perl5/CORE'
    cccdlflags='-fPIC', lddlflags='-shared -O2 -g -pipe -Wall -Wp,-D_FORTIFY_SOURCE=2 -fexceptions -fstack-protector --param=ssp-buffer-size=4 -m32 -march=i686 -mtune=atom -fasynchronous-unwind-tables -Wl,-z,relro  -L/usr/local/lib'


Characteristics of this binary (from libperl): 
  Compile-time options: MULTIPLICITY PERL_DONT_CREATE_GVSV
                        PERL_IMPLICIT_CONTEXT PERL_MALLOC_WRAP
                        PERL_PRESERVE_IVUV USE_ITHREADS USE_LARGE_FILES
                        USE_PERLIO USE_PERL_ATOF USE_REENTRANT_API
  Built under linux
  Compiled at May 30 2012 14:56:40
  %ENV:
    PERL5LIB="/home/shadow/perl5/lib/perl5/i386-linux-thread-multi:/home/shadow/perl5/lib/perl5"
    PERL5OPT=""
    PERL5_CPANPLUS_IS_RUNNING="5429"
    PERL5_CPAN_IS_RUNNING="5429"
    PERL_LOCAL_LIB_ROOT="/home/shadow/perl5"
    PERL_MB_OPT="--install_base /home/shadow/perl5"
    PERL_MM_OPT="INSTALL_BASE=/home/shadow/perl5"
  @INC:
    /home/shadow/perl5/lib/perl5/i386-linux-thread-multi
    /home/shadow/perl5/lib/perl5/i386-linux-thread-multi
    /home/shadow/perl5/lib/perl5
    /usr/local/lib/perl5
    /usr/local/share/perl5
    /usr/lib/perl5/vendor_perl
    /usr/share/perl5/vendor_perl
    /usr/lib/perl5
    /usr/share/perl5
    .