Report for libwww-perl-6.05

Back
From: metabase:user:553c21ce-8d47-11df-9de5-e28c4c42590d
Subject: PASS libwww-perl-6.05 v5.18.0 GNU/Linux
Date: 2013-05-22T03:07:48Z

This distribution has been tested as part of the CPAN Testers
project, supporting the Perl programming language.  See
http://wiki.cpantesters.org/ for more information or email
questions to cpan-testers-discuss@perl.org


--
Dear GAAS,

This is a computer-generated report for libwww-perl-6.05
on perl 5.18.0, created by App::cpanminus::reporter 0.09 (1.6911).

Thank you for uploading your work to CPAN.  Congratulations!
All tests were successful.

Sections of this report:

    * Tester comments
    * Program output
    * Prerequisites
    * Environment and other context

------------------------------
TESTER COMMENTS
------------------------------

Additional comments from tester:

none provided

------------------------------
PROGRAM OUTPUT
------------------------------

Output from '':

Building and testing libwww-perl-6.05
cp bin/lwp-mirror blib/script/lwp-mirror
cp bin/lwp-request blib/script/lwp-request
cp bin/lwp-download blib/script/lwp-download
/home/ioan/perl5/perlbrew/perls/perl-5.18.0/bin/perl -MExtUtils::MY -e 'MY->fixin(shift)' -- blib/script/lwp-mirror
/home/ioan/perl5/perlbrew/perls/perl-5.18.0/bin/perl -MExtUtils::MY -e 'MY->fixin(shift)' -- blib/script/lwp-request
/home/ioan/perl5/perlbrew/perls/perl-5.18.0/bin/perl -MExtUtils::MY -e 'MY->fixin(shift)' -- blib/script/lwp-download
cp bin/lwp-dump blib/script/lwp-dump
/home/ioan/perl5/perlbrew/perls/perl-5.18.0/bin/perl -MExtUtils::MY -e 'MY->fixin(shift)' -- blib/script/lwp-dump
cp lwptut.pod blib/lib/lwptut.pod
cp lib/LWP/Protocol/loopback.pm blib/lib/LWP/Protocol/loopback.pm
cp lib/LWP/Protocol/nogo.pm blib/lib/LWP/Protocol/nogo.pm
cp lib/LWP/Protocol/cpan.pm blib/lib/LWP/Protocol/cpan.pm
cp lib/LWP/Protocol/http.pm blib/lib/LWP/Protocol/http.pm
cp lib/LWP/Protocol/file.pm blib/lib/LWP/Protocol/file.pm
cp lwpcook.pod blib/lib/lwpcook.pod
cp lib/LWP.pm blib/lib/LWP.pm
cp lib/LWP/Authen/Basic.pm blib/lib/LWP/Authen/Basic.pm
cp lib/LWP/Protocol/data.pm blib/lib/LWP/Protocol/data.pm
cp lib/LWP/RobotUA.pm blib/lib/LWP/RobotUA.pm
cp lib/LWP/ConnCache.pm blib/lib/LWP/ConnCache.pm
cp lib/LWP/Protocol/ftp.pm blib/lib/LWP/Protocol/ftp.pm
cp lib/LWP/Authen/Digest.pm blib/lib/LWP/Authen/Digest.pm
cp lib/LWP/MemberMixin.pm blib/lib/LWP/MemberMixin.pm
cp lib/LWP/Protocol.pm blib/lib/LWP/Protocol.pm
cp lib/LWP/Debug.pm blib/lib/LWP/Debug.pm
cp lib/LWP/Protocol/gopher.pm blib/lib/LWP/Protocol/gopher.pm
cp lib/LWP/DebugFile.pm blib/lib/LWP/DebugFile.pm
cp lib/LWP/Protocol/mailto.pm blib/lib/LWP/Protocol/mailto.pm
cp lib/LWP/Authen/Ntlm.pm blib/lib/LWP/Authen/Ntlm.pm
cp lib/LWP/Simple.pm blib/lib/LWP/Simple.pm
cp lib/LWP/Protocol/nntp.pm blib/lib/LWP/Protocol/nntp.pm
cp lib/LWP/UserAgent.pm blib/lib/LWP/UserAgent.pm
cp lib/LWP/Protocol/GHTTP.pm blib/lib/LWP/Protocol/GHTTP.pm
/home/ioan/perl5/perlbrew/perls/perl-5.18.0/bin/perl t/TEST 0
base/protocols.t ...... ok
local/autoload-get.t .. ok
base/ua.t ............. ok
local/autoload.t ...... ok
local/get.t ........... ok
local/protosub.t ...... ok
local/http.t .......... ok
robot/ua.t ............ ok
robot/ua-get.t ........ ok
All tests successful.
Files=9, Tests=125,  7 wallclock secs ( 0.09 usr  0.03 sys +  1.24 cusr  0.17 csys =  1.53 CPU)
Result: PASS

------------------------------
PREREQUISITES
------------------------------

Prerequisite modules loaded:

runtime:

    Module                Need     Have    
    --------------------- -------- --------
    Digest::MD5           0        2.52    
    Encode                2.12     2.49    
    Encode::Locale        0        1.03    
    File::Listing         6        6.04    
    HTML::Entities        0        3.69    
    HTML::HeadParser      0        3.71    
    HTTP::Cookies         6        6.01    
    HTTP::Daemon          6        6.01    
    HTTP::Date            6        6.02    
    HTTP::Negotiate       6        6.01    
    HTTP::Request         6        6.00    
    HTTP::Request::Common 6        6.04    
    HTTP::Response        6        6.04    
    HTTP::Status          6        6.03    
    IO::Select            0        1.21    
    IO::Socket            0        1.36    
    LWP::MediaTypes       6        6.02    
    MIME::Base64          2.1      3.13    
    Net::FTP              2.58     2.77    
    Net::HTTP             6.04     6.06    
    perl                  5.008001 5.018000
    URI                   1.10     1.60    
    URI::Escape           0        3.31    
    WWW::RobotRules       6        6.02    

build:

    Module                Need     Have    
    --------------------- -------- --------
    ExtUtils::MakeMaker   0        6.66    

configure:

    Module                Need     Have    
    --------------------- -------- --------
    ExtUtils::MakeMaker   0        6.66    


------------------------------
ENVIRONMENT AND OTHER CONTEXT
------------------------------

Environment variables:

    LANG = en_GB.utf8
    LC_MEASUREMENT = en_GB.utf8
    LC_MONETARY = en_GB.utf8
    LC_NUMERIC = en_GB.utf8
    LC_PAPER = en_GB.utf8
    LC_TIME = en_GB.utf8
    PATH = /home/ioan/perl5/perlbrew/bin:/home/ioan/perl5/perlbrew/perls/perl-5.18.0/bin:/home/ioan/bin:/usr/local/bin:/usr/bin:/bin:/usr/local/sbin:/sbin:/usr/sbin:/usr/X11R6/bin:/usr/games:/home/ioan/Android/android-sdk-linux/platform-tools
    PERLBREW_BASHRC_VERSION = 0.58
    PERLBREW_HOME = /home/ioan/.perlbrew
    PERLBREW_MANPATH = /home/ioan/perl5/perlbrew/perls/perl-5.18.0/man
    PERLBREW_PATH = /home/ioan/perl5/perlbrew/bin:/home/ioan/perl5/perlbrew/perls/perl-5.18.0/bin
    PERLBREW_PERL = perl-5.18.0
    PERLBREW_ROOT = /home/ioan/perl5/perlbrew
    PERLBREW_VERSION = 0.59
    PERL_CPANM_DEV = 1
    PERL_CPANM_OPT = --verify --mirror http://cpan.arcticnetwork.ca --prompt --no-man-pages
    SHELL = /bin/bash
    TERM = xterm-256color

Perl special variables (and OS-specific diagnostics, for MSWin32):

    EGID = 1001 4 27 112 117 125 997 998 999 1001
    EUID = 1001
    EXECUTABLE_NAME = /home/ioan/perl5/perlbrew/perls/perl-5.18.0/bin/perl
    GID = 1001 4 27 112 117 125 997 998 999 1001
    UID = 1001

Perl module toolchain versions installed:

    Module              Have    
    ------------------- --------
    CPAN                2.00    
    CPAN::Meta          2.120921
    Cwd                 3.40    
    ExtUtils::CBuilder  0.280210
    ExtUtils::Command   1.17    
    ExtUtils::Install   1.59    
    ExtUtils::MakeMaker 6.66    
    ExtUtils::Manifest  1.63    
    ExtUtils::ParseXS   3.18    
    File::Spec          3.40    
    JSON                2.57    
    JSON::PP            2.27202 
    Module::Build       0.4003  
    Module::Signature   n/a     
    Parse::CPAN::Meta   1.4404  
    Test::Harness       3.26    
    Test::More          0.98    
    YAML                n/a     
    YAML::Syck          n/a     
    version             0.9902  


--

Summary of my perl5 (revision 5 version 18 subversion 0) configuration:
   
  Platform:
    osname=linux, osvers=3.8-2-amd64, archname=x86_64-linux-thread-multi
    uname='linux zeratul 3.8-2-amd64 #1 smp debian 3.8.13-1 x86_64 gnulinux '
    config_args='-de -Dprefix=/home/ioan/perl5/perlbrew/perls/perl-5.18.0 -Dusethreads -Aeval:scriptdir=/home/ioan/perl5/perlbrew/perls/perl-5.18.0/bin'
    hint=recommended, useposix=true, d_sigaction=define
    useithreads=define, usemultiplicity=define
    useperlio=define, d_sfio=undef, uselargefiles=define, usesocks=undef
    use64bitint=define, use64bitall=define, uselongdouble=undef
    usemymalloc=n, bincompat5005=undef
  Compiler:
    cc='cc', ccflags ='-D_REENTRANT -D_GNU_SOURCE -fno-strict-aliasing -pipe -fstack-protector -I/usr/local/include -D_LARGEFILE_SOURCE -D_FILE_OFFSET_BITS=64',
    optimize='-O2',
    cppflags='-D_REENTRANT -D_GNU_SOURCE -fno-strict-aliasing -pipe -fstack-protector -I/usr/local/include'
    ccversion='', gccversion='4.2.1 Compatible Debian Clang 3.3 (trunk)', gccosandvers=''
    intsize=4, longsize=8, ptrsize=8, doublesize=8, byteorder=12345678
    d_longlong=define, longlongsize=8, d_longdbl=define, longdblsize=16
    ivtype='long', ivsize=8, nvtype='double', nvsize=8, Off_t='off_t', lseeksize=8
    alignbytes=8, prototype=define
  Linker and Libraries:
    ld='cc', ldflags =' -fstack-protector -L/usr/local/lib'
    libpth=/usr/local/lib /lib/x86_64-linux-gnu /lib/../lib /usr/lib/x86_64-linux-gnu /usr/lib/../lib /lib /usr/lib
    libs=-lnsl -ldb -ldl -lm -lcrypt -lutil -lpthread -lc
    perllibs=-lnsl -ldl -lm -lcrypt -lutil -lpthread -lc
    libc=, so=so, useshrplib=false, libperl=libperl.a
    gnulibc_version='2.17'
  Dynamic Linking:
    dlsrc=dl_dlopen.xs, dlext=so, d_dlsymun=undef, ccdlflags='-Wl,-E'
    cccdlflags='-fPIC', lddlflags='-shared -O2 -L/usr/local/lib -fstack-protector'


Characteristics of this binary (from libperl): 
  Compile-time options: HAS_TIMES MULTIPLICITY PERLIO_LAYERS
                        PERL_DONT_CREATE_GVSV
                        PERL_HASH_FUNC_ONE_AT_A_TIME_HARD
                        PERL_IMPLICIT_CONTEXT PERL_MALLOC_WRAP
                        PERL_PRESERVE_IVUV PERL_SAWAMPERSAND USE_64_BIT_ALL
                        USE_64_BIT_INT USE_ITHREADS USE_LARGE_FILES
                        USE_LOCALE USE_LOCALE_COLLATE USE_LOCALE_CTYPE
                        USE_LOCALE_NUMERIC USE_PERLIO USE_PERL_ATOF
                        USE_REENTRANT_API
  Built under linux
  Compiled at May 21 2013 18:57:08
  %ENV:
    PERLBREW_BASHRC_VERSION="0.58"
    PERLBREW_HOME="/home/ioan/.perlbrew"
    PERLBREW_MANPATH="/home/ioan/perl5/perlbrew/perls/perl-5.18.0/man"
    PERLBREW_PATH="/home/ioan/perl5/perlbrew/bin:/home/ioan/perl5/perlbrew/perls/perl-5.18.0/bin"
    PERLBREW_PERL="perl-5.18.0"
    PERLBREW_ROOT="/home/ioan/perl5/perlbrew"
    PERLBREW_VERSION="0.59"
    PERL_CPANM_DEV="1"
    PERL_CPANM_OPT="--verify --mirror http://cpan.arcticnetwork.ca --prompt --no-man-pages"
  @INC:
    /home/ioan/perl5/perlbrew/perls/perl-5.18.0/lib/site_perl/5.18.0/x86_64-linux-thread-multi
    /home/ioan/perl5/perlbrew/perls/perl-5.18.0/lib/site_perl/5.18.0
    /home/ioan/perl5/perlbrew/perls/perl-5.18.0/lib/5.18.0/x86_64-linux-thread-multi
    /home/ioan/perl5/perlbrew/perls/perl-5.18.0/lib/5.18.0
    .