Dancer2-Session-Cookie v0.009 Perl 5 v5.30.3 x86_64-cygwin-threads-multi
- Status
- Pass
- From
- twata
- Dist
-
Dancer2-Session-Cookie v0.009
- Platform
- Perl 5 v5.30.3 x86_64-cygwin-threads-multi
- Date
- 2021-02-13 15:16:03
- ID
- c885d23a-6c7c-1014-8e02-9ae25aa7b97f
This distribution has been tested as part of the CPAN Testers
project, supporting the Perl programming language. See
http://wiki.cpantesters.org/ for more information or email
questions to cpan-testers-discuss@perl.org
--
Dear Yanick Champoux,
This is a computer-generated report for Dancer2-Session-Cookie-0.009
on perl 5.30.3, created by CPAN-Reporter-1.2018.
Thank you for uploading your work to CPAN. Congratulations!
All tests were successful.
Sections of this report:
* Tester comments
* Program output
* Prerequisites
* Environment and other context
------------------------------
TESTER COMMENTS
------------------------------
Additional comments from tester:
none provided
------------------------------
PROGRAM OUTPUT
------------------------------
Output from '/usr/bin/make test':
PERL_DL_NONLAZY=1 "/usr/bin/perl.exe" "-MExtUtils::Command::MM" "-MTest::Harness" "-e" "undef *Test::Harness::Switches; test_harness(0, 'blib/lib', 'blib/arch')" t/*.t
t/00-compile.t ............ ok
#
# Versions for all modules listed in MYMETA.json (including optional ones):
#
# === Configure Requires ===
#
# Module Want Have
# ------------------- ---- -------
# ExtUtils::MakeMaker any 7.47_07
#
# === Build Requires ===
#
# Module Want Have
# ------------------- ---- -------
# ExtUtils::MakeMaker any 7.47_07
#
# === Test Requires ===
#
# Module Want Have
# --------------------- ------ ----------
# Dancer2 0.165 0.300005
# ExtUtils::MakeMaker any 7.47_07
# File::Spec any 3.78
# HTTP::Cookies any 6.08
# HTTP::Request::Common any 6.25
# IO::Handle any 1.40
# IPC::Open3 any 1.20
# Plack 1.0029 1.0048
# Plack::Test any undef
# Test::MockObject any 1.20200122
# Test::More 0.96 1.302175
# YAML any 1.30
# lib any 0.65
#
# === Test Recommends ===
#
# Module Want Have
# ---------- -------- --------
# CPAN::Meta 2.120900 2.150010
#
# === Runtime Requires ===
#
# Module Want Have
# ----------------------------------- ----- --------
# Dancer2 0.165 0.300005
# Dancer2::Core::Role::SessionFactory any 0.300005
# Dancer2::Core::Types any 0.300005
# Moo any 2.004000
# Session::Storage::Secure 0.011 0.011
# strict any 1.11
# warnings any 1.44
#
t/00-report-prereqs.t ..... ok
WARNING: The key derivation method "opensslv1" is deprecated. Using -pbkdf=>'pbkdf2' would be better.
Pass -nodeprecate=>1 to inhibit this message.
at /home/USER/perl5/lib/perl5/Session/Storage/Secure.pm line 213.
WARNING: The key derivation method "opensslv1" is deprecated. Using -pbkdf=>'pbkdf2' would be better.
Pass -nodeprecate=>1 to inhibit this message.
at /home/USER/perl5/lib/perl5/Session/Storage/Secure.pm line 213.
WARNING: The key derivation method "opensslv1" is deprecated. Using -pbkdf=>'pbkdf2' would be better.
Pass -nodeprecate=>1 to inhibit this message.
at /home/USER/perl5/lib/perl5/Session/Storage/Secure.pm line 213.
WARNING: The key derivation method "opensslv1" is deprecated. Using -pbkdf=>'pbkdf2' would be better.
Pass -nodeprecate=>1 to inhibit this message.
at /home/USER/perl5/lib/perl5/Session/Storage/Secure.pm line 213.
WARNING: The key derivation method "opensslv1" is deprecated. Using -pbkdf=>'pbkdf2' would be better.
Pass -nodeprecate=>1 to inhibit this message.
at /home/USER/perl5/lib/perl5/Session/Storage/Secure.pm line 213.
# change_session_id supported by Dancer2
WARNING: The key derivation method "opensslv1" is deprecated. Using -pbkdf=>'pbkdf2' would be better.
Pass -nodeprecate=>1 to inhibit this message.
at /home/USER/perl5/lib/perl5/Session/Storage/Secure.pm line 213.
WARNING: The key derivation method "opensslv1" is deprecated. Using -pbkdf=>'pbkdf2' would be better.
Pass -nodeprecate=>1 to inhibit this message.
at /home/USER/perl5/lib/perl5/Session/Storage/Secure.pm line 213.
WARNING: The key derivation method "opensslv1" is deprecated. Using -pbkdf=>'pbkdf2' would be better.
Pass -nodeprecate=>1 to inhibit this message.
at /home/USER/perl5/lib/perl5/Session/Storage/Secure.pm line 213.
WARNING: The key derivation method "opensslv1" is deprecated. Using -pbkdf=>'pbkdf2' would be better.
Pass -nodeprecate=>1 to inhibit this message.
at /home/USER/perl5/lib/perl5/Session/Storage/Secure.pm line 213.
WARNING: The key derivation method "opensslv1" is deprecated. Using -pbkdf=>'pbkdf2' would be better.
Pass -nodeprecate=>1 to inhibit this message.
at /home/USER/perl5/lib/perl5/Session/Storage/Secure.pm line 213.
WARNING: The key derivation method "opensslv1" is deprecated. Using -pbkdf=>'pbkdf2' would be better.
Pass -nodeprecate=>1 to inhibit this message.
at /home/USER/perl5/lib/perl5/Session/Storage/Secure.pm line 213.
WARNING: The key derivation method "opensslv1" is deprecated. Using -pbkdf=>'pbkdf2' would be better.
Pass -nodeprecate=>1 to inhibit this message.
at /home/USER/perl5/lib/perl5/Session/Storage/Secure.pm line 213.
WARNING: The key derivation method "opensslv1" is deprecated. Using -pbkdf=>'pbkdf2' would be better.
Pass -nodeprecate=>1 to inhibit this message.
at /home/USER/perl5/lib/perl5/Session/Storage/Secure.pm line 213.
WARNING: The key derivation method "opensslv1" is deprecated. Using -pbkdf=>'pbkdf2' would be better.
Pass -nodeprecate=>1 to inhibit this message.
at /home/USER/perl5/lib/perl5/Session/Storage/Secure.pm line 213.
WARNING: The key derivation method "opensslv1" is deprecated. Using -pbkdf=>'pbkdf2' would be better.
Pass -nodeprecate=>1 to inhibit this message.
at /home/USER/perl5/lib/perl5/Session/Storage/Secure.pm line 213.
# change_session_id supported by Dancer2
WARNING: The key derivation method "opensslv1" is deprecated. Using -pbkdf=>'pbkdf2' would be better.
Pass -nodeprecate=>1 to inhibit this message.
at /home/USER/perl5/lib/perl5/Session/Storage/Secure.pm line 213.
WARNING: The key derivation method "opensslv1" is deprecated. Using -pbkdf=>'pbkdf2' would be better.
Pass -nodeprecate=>1 to inhibit this message.
at /home/USER/perl5/lib/perl5/Session/Storage/Secure.pm line 213.
WARNING: The key derivation method "opensslv1" is deprecated. Using -pbkdf=>'pbkdf2' would be better.
Pass -nodeprecate=>1 to inhibit this message.
at /home/USER/perl5/lib/perl5/Session/Storage/Secure.pm line 213.
WARNING: The key derivation method "opensslv1" is deprecated. Using -pbkdf=>'pbkdf2' would be better.
Pass -nodeprecate=>1 to inhibit this message.
at /home/USER/perl5/lib/perl5/Session/Storage/Secure.pm line 213.
WARNING: The key derivation method "opensslv1" is deprecated. Using -pbkdf=>'pbkdf2' would be better.
Pass -nodeprecate=>1 to inhibit this message.
at /home/USER/perl5/lib/perl5/Session/Storage/Secure.pm line 213.
WARNING: The key derivation method "opensslv1" is deprecated. Using -pbkdf=>'pbkdf2' would be better.
Pass -nodeprecate=>1 to inhibit this message.
at /home/USER/perl5/lib/perl5/Session/Storage/Secure.pm line 213.
WARNING: The key derivation method "opensslv1" is deprecated. Using -pbkdf=>'pbkdf2' would be better.
Pass -nodeprecate=>1 to inhibit this message.
at /home/USER/perl5/lib/perl5/Session/Storage/Secure.pm line 213.
WARNING: The key derivation method "opensslv1" is deprecated. Using -pbkdf=>'pbkdf2' would be better.
Pass -nodeprecate=>1 to inhibit this message.
at /home/USER/perl5/lib/perl5/Session/Storage/Secure.pm line 213.
WARNING: The key derivation method "opensslv1" is deprecated. Using -pbkdf=>'pbkdf2' would be better.
Pass -nodeprecate=>1 to inhibit this message.
at /home/USER/perl5/lib/perl5/Session/Storage/Secure.pm line 213.
WARNING: The key derivation method "opensslv1" is deprecated. Using -pbkdf=>'pbkdf2' would be better.
Pass -nodeprecate=>1 to inhibit this message.
at /home/USER/perl5/lib/perl5/Session/Storage/Secure.pm line 213.
# change_session_id supported by Dancer2
WARNING: The key derivation method "opensslv1" is deprecated. Using -pbkdf=>'pbkdf2' would be better.
Pass -nodeprecate=>1 to inhibit this message.
at /home/USER/perl5/lib/perl5/Session/Storage/Secure.pm line 213.
WARNING: The key derivation method "opensslv1" is deprecated. Using -pbkdf=>'pbkdf2' would be better.
Pass -nodeprecate=>1 to inhibit this message.
at /home/USER/perl5/lib/perl5/Session/Storage/Secure.pm line 213.
WARNING: The key derivation method "opensslv1" is deprecated. Using -pbkdf=>'pbkdf2' would be better.
Pass -nodeprecate=>1 to inhibit this message.
at /home/USER/perl5/lib/perl5/Session/Storage/Secure.pm line 213.
WARNING: The key derivation method "opensslv1" is deprecated. Using -pbkdf=>'pbkdf2' would be better.
Pass -nodeprecate=>1 to inhibit this message.
at /home/USER/perl5/lib/perl5/Session/Storage/Secure.pm line 213.
WARNING: The key derivation method "opensslv1" is deprecated. Using -pbkdf=>'pbkdf2' would be better.
Pass -nodeprecate=>1 to inhibit this message.
at /home/USER/perl5/lib/perl5/Session/Storage/Secure.pm line 213.
WARNING: The key derivation method "opensslv1" is deprecated. Using -pbkdf=>'pbkdf2' would be better.
Pass -nodeprecate=>1 to inhibit this message.
at /home/USER/perl5/lib/perl5/Session/Storage/Secure.pm line 213.
WARNING: The key derivation method "opensslv1" is deprecated. Using -pbkdf=>'pbkdf2' would be better.
Pass -nodeprecate=>1 to inhibit this message.
at /home/USER/perl5/lib/perl5/Session/Storage/Secure.pm line 213.
WARNING: The key derivation method "opensslv1" is deprecated. Using -pbkdf=>'pbkdf2' would be better.
Pass -nodeprecate=>1 to inhibit this message.
at /home/USER/perl5/lib/perl5/Session/Storage/Secure.pm line 213.
WARNING: The key derivation method "opensslv1" is deprecated. Using -pbkdf=>'pbkdf2' would be better.
Pass -nodeprecate=>1 to inhibit this message.
at /home/USER/perl5/lib/perl5/Session/Storage/Secure.pm line 213.
WARNING: The key derivation method "opensslv1" is deprecated. Using -pbkdf=>'pbkdf2' would be better.
Pass -nodeprecate=>1 to inhibit this message.
at /home/USER/perl5/lib/perl5/Session/Storage/Secure.pm line 213.
# change_session_id supported by Dancer2
WARNING: The key derivation method "opensslv1" is deprecated. Using -pbkdf=>'pbkdf2' would be better.
Pass -nodeprecate=>1 to inhibit this message.
at /home/USER/perl5/lib/perl5/Session/Storage/Secure.pm line 213.
WARNING: The key derivation method "opensslv1" is deprecated. Using -pbkdf=>'pbkdf2' would be better.
Pass -nodeprecate=>1 to inhibit this message.
at /home/USER/perl5/lib/perl5/Session/Storage/Secure.pm line 213.
WARNING: The key derivation method "opensslv1" is deprecated. Using -pbkdf=>'pbkdf2' would be better.
Pass -nodeprecate=>1 to inhibit this message.
at /home/USER/perl5/lib/perl5/Session/Storage/Secure.pm line 213.
WARNING: The key derivation method "opensslv1" is deprecated. Using -pbkdf=>'pbkdf2' would be better.
Pass -nodeprecate=>1 to inhibit this message.
at /home/USER/perl5/lib/perl5/Session/Storage/Secure.pm line 213.
WARNING: The key derivation method "opensslv1" is deprecated. Using -pbkdf=>'pbkdf2' would be better.
Pass -nodeprecate=>1 to inhibit this message.
at /home/USER/perl5/lib/perl5/Session/Storage/Secure.pm line 213.
t/session_lifecycle.t ..... ok
WARNING: The key derivation method "opensslv1" is deprecated. Using -pbkdf=>'pbkdf2' would be better.
Pass -nodeprecate=>1 to inhibit this message.
at /home/USER/perl5/lib/perl5/Session/Storage/Secure.pm line 213.
t/with_request_address.t .. ok
All tests successful.
Files=4, Tests=9, 8 wallclock secs ( 0.00 usr 0.13 sys + 1.85 cusr 4.71 csys = 6.69 CPU)
Result: PASS
------------------------------
PREREQUISITES
------------------------------
Prerequisite modules loaded:
requires:
Module Need Have
----------------------------------- -------- ----------
Dancer2 0.165 0.300005
Dancer2::Core::Role::SessionFactory 0 0.300005
Dancer2::Core::Types 0 0.300005
Moo 0 2.004000
perl 5.008001 5.030003
Session::Storage::Secure 0.011 0.011
strict 0 1.11
warnings 0 1.44
build_requires:
Module Need Have
----------------------------------- -------- ----------
Dancer2 0.165 0.300005
ExtUtils::MakeMaker 0 7.47_07
File::Spec 0 3.78
HTTP::Cookies 0 6.08
HTTP::Request::Common 0 6.25
IO::Handle 0 1.40
IPC::Open3 0 1.20
lib 0 0.65
Plack 1.0029 1.0048
Plack::Test 0 0
Test::MockObject 0 1.20200122
Test::More 0.96 1.302175
YAML 0 1.30
configure_requires:
Module Need Have
----------------------------------- -------- ----------
ExtUtils::MakeMaker 0 7.47_07
opt_build_requires:
Module Need Have
----------------------------------- -------- ----------
CPAN::Meta 2.120900 2.150010
------------------------------
ENVIRONMENT AND OTHER CONTEXT
------------------------------
Environment variables:
COMSPEC = C:\WINDOWS\system32\cmd.exe
LANG = ja_JP.UTF-8
NONINTERACTIVE_TESTING = 1
NUMBER_OF_PROCESSORS = 4
PATH = /usr/local/bin:/usr/bin:/cygdrive/c/WINDOWS/system32:/cygdrive/c/WINDOWS:/cygdrive/c/WINDOWS/System32/Wbem:/cygdrive/c/WINDOWS/System32/WindowsPowerShell/v1.0
PERL5LIB = /home/USER/perl5/lib/perl5
PERL5OPT =
PERL5_CPANPLUS_IS_RUNNING = 12599
PERL5_CPAN_IS_RUNNING = 12599
PERL_LOCAL_LIB_ROOT = /home/USER/perl5
PERL_MB_OPT = --install_base "/home/USER/perl5"
PERL_MM_OPT = INSTALL_BASE=/home/USER/perl5
PERL_MM_USE_DEFAULT = 1
PERL_USE_UNSAFE_INC = 1
PROCESSOR_IDENTIFIER = Intel64 Family 6 Model 58 Stepping 9, GenuineIntel
SHELL = /bin/bash
TEMP = /tmp
TERM = xterm
Perl special variables (and OS-specific diagnostics, for MSWin32):
$^X = /usr/bin/perl
$UID/$EUID = 197609 / 197609
$GID = 197121 197121 197610 545 4 66049 11 15 113 4095 66048 262154 401408
$EGID = 197121 197121 197610 545 4 66049 11 15 113 4095 66048 262154 401408
Perl module toolchain versions installed:
Module Have
------------------- --------
CPAN 2.28
CPAN::Meta 2.150010
Cwd 3.78
ExtUtils::CBuilder 0.280234
ExtUtils::Command 7.47_07
ExtUtils::Install 2.14
ExtUtils::MakeMaker 7.47_07
ExtUtils::Manifest 1.72
ExtUtils::ParseXS 3.40
File::Spec 3.78
JSON 4.02
JSON::PP 4.05
Module::Build 0.4231
Module::Signature 0.87
Parse::CPAN::Meta 2.150010
Test::Harness 3.42
Test::More 1.302175
YAML 1.30
YAML::Syck n/a
version 0.9924
--
Summary of my perl5 (revision 5 version 30 subversion 3) configuration:
Platform:
osname=cygwin
osvers=3.1.5(0.34053)
archname=x86_64-cygwin-threads-multi
uname='cygwin_nt-10.0 cygwinpro 3.1.5(0.34053) 2020-06-01 08:59 x86_64 cygwin '
config_args='-des -Dprefix=/usr -Dmksymlinks -Darchname=x86_64-cygwin-threads -Dlibperl=cygperl5_30.dll -Dcc=gcc -Dld=g++ -Accflags=-ggdb -O2 -pipe -Wall -Werror=format-security -D_FORTIFY_SOURCE=2 -fstack-protector-strong --param=ssp-buffer-size=4 -fdebug-prefix-map=/mnt/share/cygpkgs/perl/perl.x86_64/build=/usr/src/debug/perl-5.30.3-1 -fdebug-prefix-map=/mnt/share/cygpkgs/perl/perl.x86_64/src/perl-5.30.3=/usr/src/debug/perl-5.30.3-1 -fwrapv'
hint=recommended
useposix=true
d_sigaction=define
useithreads=define
usemultiplicity=define
use64bitint=define
use64bitall=define
uselongdouble=undef
usemymalloc=n
default_inc_excludes_dot=define
bincompat5005=undef
Compiler:
cc='gcc'
ccflags ='-DPERL_USE_SAFE_PUTENV -U__STRICT_ANSI__ -D_GNU_SOURCE -ggdb -O2 -pipe -Wall -Werror=format-security -D_FORTIFY_SOURCE=2 -fstack-protector-strong --param=ssp-buffer-size=4 -fdebug-prefix-map=/mnt/share/cygpkgs/perl/perl.x86_64/build=/usr/src/debug/perl-5.30.3-1 -fdebug-prefix-map=/mnt/share/cygpkgs/perl/perl.x86_64/src/perl-5.30.3=/usr/src/debug/perl-5.30.3-1 -fwrapv -fno-strict-aliasing'
optimize='-O3'
cppflags='-DPERL_USE_SAFE_PUTENV -U__STRICT_ANSI__ -D_GNU_SOURCE -ggdb -O2 -pipe -Wall -Werror=format-security -D_FORTIFY_SOURCE=2 -fstack-protector-strong --param=ssp-buffer-size=4 -fdebug-prefix-map=/mnt/share/cygpkgs/perl/perl.x86_64/build=/usr/src/debug/perl-5.30.3-1 -fdebug-prefix-map=/mnt/share/cygpkgs/perl/perl.x86_64/src/perl-5.30.3=/usr/src/debug/perl-5.30.3-1 -fwrapv -fno-strict-aliasing'
ccversion=''
gccversion='9.3.0'
gccosandvers=''
intsize=4
longsize=8
ptrsize=8
doublesize=8
byteorder=12345678
doublekind=3
d_longlong=define
longlongsize=8
d_longdbl=define
longdblsize=16
longdblkind=3
ivtype='long'
ivsize=8
nvtype='double'
nvsize=8
Off_t='off_t'
lseeksize=8
alignbytes=8
prototype=define
Linker and Libraries:
ld='g++'
ldflags =' -Wl,--enable-auto-import -Wl,--export-all-symbols -Wl,--enable-auto-image-base -fstack-protector-strong'
libpth=/usr/lib
libs=-lpthread -lnsl -lgdbm -ldb -ldl -lcrypt -lgdbm_compat
perllibs=-lpthread -lnsl -ldl -lcrypt
libc=/usr/lib/libcygwin.a
so=dll
useshrplib=true
libperl=cygperl5_30.dll
gnulibc_version=''
Dynamic Linking:
dlsrc=dl_dlopen.xs
dlext=dll
d_dlsymun=undef
ccdlflags=' '
cccdlflags=' '
lddlflags=' --shared -Wl,--enable-auto-import -Wl,--export-all-symbols -Wl,--enable-auto-image-base -fstack-protector-strong'
Characteristics of this binary (from libperl):
Compile-time options:
HAS_TIMES
MULTIPLICITY
PERLIO_LAYERS
PERL_COPY_ON_WRITE
PERL_DONT_CREATE_GVSV
PERL_IMPLICIT_CONTEXT
PERL_OP_PARENT
PERL_PRESERVE_IVUV
PERL_USE_SAFE_PUTENV
USE_64_BIT_ALL
USE_64_BIT_INT
USE_ITHREADS
USE_LARGE_FILES
USE_LOCALE
USE_LOCALE_COLLATE
USE_LOCALE_CTYPE
USE_LOCALE_NUMERIC
USE_LOCALE_TIME
USE_PERLIO
USE_PERL_ATOF
USE_REENTRANT_API
USE_THREAD_SAFE_LOCALE
Locally applied patches:
Cygwin: README
Cygwin: use auto-image-base instead of fixed DLL base address
Cygwin: modify hints
Cygwin: Configure correct libsearch
Cygwin: Configure correct libpth
Cygwin: Win32 correct UTF8 handling
Perl: InvLists moved back to interpreter level
Built under cygwin
Compiled at Jun 7 2020 10:01:50
%ENV:
PERL5LIB="/home/USER/perl5/lib/perl5"
PERL5OPT=""
PERL5_CPANPLUS_IS_RUNNING="12599"
PERL5_CPAN_IS_RUNNING="12599"
PERL_LOCAL_LIB_ROOT="/home/USER/perl5"
PERL_MB_OPT="--install_base "/home/USER/perl5""
PERL_MM_OPT="INSTALL_BASE=/home/USER/perl5"
PERL_MM_USE_DEFAULT="1"
PERL_USE_UNSAFE_INC="1"
@INC:
/home/USER/perl5/lib/perl5/5.30.3/x86_64-cygwin-threads-multi
/home/USER/perl5/lib/perl5/5.30.3
/home/USER/perl5/lib/perl5/x86_64-cygwin-threads-multi
/home/USER/perl5/lib/perl5
/usr/local/lib/perl5/site_perl/5.30/x86_64-cygwin-threads
/usr/local/share/perl5/site_perl/5.30
/usr/lib/perl5/vendor_perl/5.30/x86_64-cygwin-threads
/usr/share/perl5/vendor_perl/5.30
/usr/lib/perl5/5.30/x86_64-cygwin-threads
/usr/share/perl5/5.30
.