Report for Data-Util-0.63

Back
From: metabase:user:3260881c-2aae-11df-837a-5e0a49663a4f
Subject: PASS Data-Util-0.63 v5.20.0 Mac OS X
Date: 2014-08-24T16:14:54Z

This distribution has been tested as part of the CPAN Testers
project, supporting the Perl programming language.  See
http://wiki.cpantesters.org/ for more information or email
questions to cpan-testers-discuss@perl.org


--
Dear GFUJI,

This is a computer-generated report for Data-Util-0.63
on perl 5.20.0, created by App::cpanminus::reporter 0.11 (1.6937).

Thank you for uploading your work to CPAN.  Congratulations!
All tests were successful.

Sections of this report:

    * Tester comments
    * Program output
    * Prerequisites
    * Environment and other context

------------------------------
TESTER COMMENTS
------------------------------

Additional comments from tester:

none provided

------------------------------
PROGRAM OUTPUT
------------------------------

Output from '':

Building and testing Data-Util-0.63
cp lib/Data/Util/PurePerl.pm blib/lib/Data/Util/PurePerl.pm
cp lib/Data/Util/JA.pod blib/lib/Data/Util/JA.pod
cp lib/Data/Util/Curry.pod blib/lib/Data/Util/Curry.pod
cp lib/Data/Util/Error.pm blib/lib/Data/Util/Error.pm
cp lib/Data/Util.pm blib/lib/Data/Util.pm
Running Mkbootstrap for Data::Util ()
chmod 644 Util.bs
/Users/gabor/perl5/perlbrew/perls/perl-5.20.0/bin/perl "-Iinc" /Users/gabor/perl5/perlbrew/perls/perl-5.20.0/lib/5.20.0/ExtUtils/xsubpp  -typemap /Users/gabor/perl5/perlbrew/perls/perl-5.20.0/lib/5.20.0/ExtUtils/typemap -typemap typemap  DataUtil.xs > DataUtil.xsc && mv DataUtil.xsc DataUtil.c
cc -c  "-I." -fno-common -DPERL_DARWIN -fno-strict-aliasing -pipe -fstack-protector -I/usr/local/include -Wall -W -Wno-comment -O3   -DVERSION=\"0.63\" -DXS_VERSION=\"0.63\" -o DataUtil.o  "-I/Users/gabor/perl5/perlbrew/perls/perl-5.20.0/lib/5.20.0/darwin-2level/CORE"  -DUSE_PPPORT -DINLINE_STR_EQ DataUtil.c
cc -c  "-I." -fno-common -DPERL_DARWIN -fno-strict-aliasing -pipe -fstack-protector -I/usr/local/include -Wall -W -Wno-comment -O3   -DVERSION=\"0.63\" -DXS_VERSION=\"0.63\" -o misc_scalar.o  "-I/Users/gabor/perl5/perlbrew/perls/perl-5.20.0/lib/5.20.0/darwin-2level/CORE"  -DUSE_PPPORT -DINLINE_STR_EQ misc_scalar.c
cc -c  "-I." -fno-common -DPERL_DARWIN -fno-strict-aliasing -pipe -fstack-protector -I/usr/local/include -Wall -W -Wno-comment -O3   -DVERSION=\"0.63\" -DXS_VERSION=\"0.63\" -o subs.o  "-I/Users/gabor/perl5/perlbrew/perls/perl-5.20.0/lib/5.20.0/darwin-2level/CORE"  -DUSE_PPPORT -DINLINE_STR_EQ subs.c
rm -f blib/arch/auto/Data/Util/Util.bundle
env MACOSX_DEPLOYMENT_TARGET=10.3 cc  -bundle -undefined dynamic_lookup -L/usr/local/lib -fstack-protector DataUtil.o misc_scalar.o subs.o  -o blib/arch/auto/Data/Util/Util.bundle 	\
	     	\
	  
chmod 755 blib/arch/auto/Data/Util/Util.bundle
/Users/gabor/perl5/perlbrew/perls/perl-5.20.0/bin/perl "-Iinc" -MExtUtils::Command::MM -e 'cp_nonempty' -- Util.bs blib/arch/auto/Data/Util/Util.bs 644
Manifying blib/man3/Data::Util.3
Manifying blib/man3/Data::Util::Curry.3
Manifying blib/man3/Data::Util::Error.3
Manifying blib/man3/Data::Util::JA.3
Manifying blib/man3/Data::Util::PurePerl.3
Running Mkbootstrap for Data::Util ()
chmod 644 Util.bs
PERL_DL_NONLAZY=1 /Users/gabor/perl5/perlbrew/perls/perl-5.20.0/bin/perl "-MExtUtils::Command::MM" "-MTest::Harness" "-e" "undef *Test::Harness::Switches; test_harness(0, 'inc', 'blib/lib', 'blib/arch')" t/*.t
# Testing Data::Util 0.63 (XS)
t/00_load.t .................. ok
# Testing XS
t/01_refs.t .................. ok
t/02_inst.t .................. ok
t/03_gen.t ................... ok
t/04_overloaded.t ............ ok
t/05_get_stash.t ............. ok
t/06_subroutine.t ............ ok
t/08_mgvars.t ................ ok
Can't locate package A for @Bar::ISA during global destruction.
Can't locate package A for @Bar::ISA during global destruction.
t/09_paranoia.t .............. ok
t/10_neat.t .................. ok
t/11_fail_handler.t .......... ok
t/12_in_attr_handler.t ....... skipped: This test is for old perls
t/13_optlist.t ............... ok
t/14_uninst_subr.t ........... ok
t/15_curry.t ................. ok
t/16_modify.t ................ ok
t/17_nsclean.t ............... ok
t/18_is_value.t .............. ok
t/19_multiple_modifiers.t .... ok
t/20_lexical_sub.t ........... ok
t/21_get_code_ref.t .......... ok
t/22_install2.t .............. ok
t/23_largeargs.t ............. ok
t/24_eval_in_modifiers.t ..... ok
t/pp00_load.t ................ ok
# Testing PurePerl
t/pp01_refs.t ................ ok
t/pp02_inst.t ................ ok
t/pp03_gen.t ................. ok
t/pp04_overloaded.t .......... ok
t/pp05_get_stash.t ........... ok
t/pp06_subroutine.t .......... ok
t/pp08_mgvars.t .............. ok
t/pp10_neat.t ................ ok
t/pp11_fail_handler.t ........ ok
t/pp12_in_attr_handler.t ..... skipped: This test is for old perls
t/pp13_optlist.t ............. ok
t/pp14_uninst_subr.t ......... ok
t/pp15_curry.t ............... ok
t/pp16_modify.t .............. ok
t/pp17_nsclean.t ............. ok
t/pp18_is_value.t ............ ok
t/pp19_multiple_modifiers.t .. ok
t/pp20_lexical_sub.t ......... ok
t/pp21_get_code_ref.t ........ ok
t/pp22_install2.t ............ ok
t/pp23_largeargs.t ........... ok
t/pp24_eval_in_modifiers.t ... ok
All tests successful.
Files=47, Tests=1141,  3 wallclock secs ( 0.25 usr  0.11 sys +  1.80 cusr  0.26 csys =  2.42 CPU)
Result: PASS

------------------------------
PREREQUISITES
------------------------------

Prerequisite modules loaded:

    No requirements found

------------------------------
ENVIRONMENT AND OTHER CONTEXT
------------------------------

Environment variables:

    LANG = en_US.UTF-8
    PATH = /Users/gabor/dart/dart-sdk/bin/:/Users/gabor/bin:/Users/gabor/work/rakudo-star-2013.11/install/bin:/Users/gabor/python/bin:/usr/local/bin:/Users/gabor/perl5/perlbrew/bin:/Users/gabor/perl5/perlbrew/perls/perl-5.20.0/bin:/usr/bin:/bin:/usr/sbin:/sbin:/usr/local/bin:/opt/X11/bin:/Users/gabor/work/gabor/home/gabor/bin/:/usr/local/share/npm/lib/node_modules/less/bin/
    PERLBREW_BASHRC_VERSION = 0.63
    PERLBREW_HOME = /Users/gabor/.perlbrew
    PERLBREW_MANPATH = /Users/gabor/perl5/perlbrew/perls/perl-5.20.0/man
    PERLBREW_PATH = /Users/gabor/perl5/perlbrew/bin:/Users/gabor/perl5/perlbrew/perls/perl-5.20.0/bin
    PERLBREW_PERL = perl-5.20.0
    PERLBREW_ROOT = /Users/gabor/perl5/perlbrew
    PERLBREW_VERSION = 0.63
    SHELL = /bin/bash
    TERM = xterm-256color
    TMPDIR = /var/folders/ry/zng097t53ql9x62cr60wdbmw0000gn/T/

Perl special variables (and OS-specific diagnostics, for MSWin32):

    EGID = 20 20 12 61 79 80 81 98 33 100 204 398 399
    EUID = 501
    EXECUTABLE_NAME = /Users/gabor/perl5/perlbrew/perls/perl-5.20.0/bin/perl
    GID = 20 20 12 61 79 80 81 98 33 100 204 398 399
    UID = 501

Perl module toolchain versions installed:

    Module              Have    
    ------------------- --------
    CPAN                2.05    
    CPAN::Meta          2.140640
    Cwd                 3.47    
    ExtUtils::CBuilder  0.280216
    ExtUtils::Command   1.18    
    ExtUtils::Install   1.67    
    ExtUtils::MakeMaker 6.98    
    ExtUtils::Manifest  1.63    
    ExtUtils::ParseXS   3.24    
    File::Spec          3.47    
    JSON                2.90    
    JSON::PP            2.27203 
    Module::Build       0.4205  
    Module::Signature   n/a     
    Parse::CPAN::Meta   1.4414  
    Test::Harness       3.33    
    Test::More          1.001003
    YAML                0.90    
    YAML::Syck          1.27    
    version             0.9908  


--

Summary of my perl5 (revision 5 version 20 subversion 0) configuration:
   
  Platform:
    osname=darwin, osvers=13.2.0, archname=darwin-2level
    uname='darwin air.local 13.2.0 darwin kernel version 13.2.0: thu apr 17 23:03:13 pdt 2014; root:xnu-2422.100.13~1release_x86_64 x86_64 '
    config_args='-de -Dprefix=/Users/gabor/perl5/perlbrew/perls/perl-5.20.0 -Aeval:scriptdir=/Users/gabor/perl5/perlbrew/perls/perl-5.20.0/bin'
    hint=recommended, useposix=true, d_sigaction=define
    useithreads=undef, usemultiplicity=undef
    use64bitint=define, use64bitall=define, uselongdouble=undef
    usemymalloc=n, bincompat5005=undef
  Compiler:
    cc='cc', ccflags ='-fno-common -DPERL_DARWIN -fno-strict-aliasing -pipe -fstack-protector -I/usr/local/include',
    optimize='-O3',
    cppflags='-fno-common -DPERL_DARWIN -fno-strict-aliasing -pipe -fstack-protector -I/usr/local/include'
    ccversion='', gccversion='4.2.1 Compatible Apple LLVM 5.1 (clang-503.0.40)', gccosandvers=''
    intsize=4, longsize=8, ptrsize=8, doublesize=8, byteorder=12345678
    d_longlong=define, longlongsize=8, d_longdbl=define, longdblsize=16
    ivtype='long', ivsize=8, nvtype='double', nvsize=8, Off_t='off_t', lseeksize=8
    alignbytes=8, prototype=define
  Linker and Libraries:
    ld='env MACOSX_DEPLOYMENT_TARGET=10.3 cc', ldflags =' -fstack-protector -L/usr/local/lib'
    libpth=/usr/local/lib /Applications/Xcode.app/Contents/Developer/Toolchains/XcodeDefault.xctoolchain/usr/bin/../lib/clang/5.1/lib /Applications/Xcode.app/Contents/Developer/Toolchains/XcodeDefault.xctoolchain/usr/lib /usr/lib
    libs=-ldbm -ldl -lm -lutil -lc
    perllibs=-ldl -lm -lutil -lc
    libc=, so=dylib, useshrplib=false, libperl=libperl.a
    gnulibc_version=''
  Dynamic Linking:
    dlsrc=dl_dlopen.xs, dlext=bundle, d_dlsymun=undef, ccdlflags=' '
    cccdlflags=' ', lddlflags=' -bundle -undefined dynamic_lookup -L/usr/local/lib -fstack-protector'


Characteristics of this binary (from libperl): 
  Compile-time options: HAS_TIMES PERLIO_LAYERS PERL_DONT_CREATE_GVSV
                        PERL_HASH_FUNC_ONE_AT_A_TIME_HARD PERL_MALLOC_WRAP
                        PERL_NEW_COPY_ON_WRITE PERL_PRESERVE_IVUV
                        USE_64_BIT_ALL USE_64_BIT_INT USE_LARGE_FILES
                        USE_LOCALE USE_LOCALE_COLLATE USE_LOCALE_CTYPE
                        USE_LOCALE_NUMERIC USE_PERLIO USE_PERL_ATOF
  Built under darwin
  Compiled at May 27 2014 13:42:26
  %ENV:
    PERLBREW_BASHRC_VERSION="0.63"
    PERLBREW_HOME="/Users/gabor/.perlbrew"
    PERLBREW_MANPATH="/Users/gabor/perl5/perlbrew/perls/perl-5.20.0/man"
    PERLBREW_PATH="/Users/gabor/perl5/perlbrew/bin:/Users/gabor/perl5/perlbrew/perls/perl-5.20.0/bin"
    PERLBREW_PERL="perl-5.20.0"
    PERLBREW_ROOT="/Users/gabor/perl5/perlbrew"
    PERLBREW_VERSION="0.63"
  @INC:
    /Users/gabor/perl5/perlbrew/perls/perl-5.20.0/lib/site_perl/5.20.0/darwin-2level
    /Users/gabor/perl5/perlbrew/perls/perl-5.20.0/lib/site_perl/5.20.0
    /Users/gabor/perl5/perlbrew/perls/perl-5.20.0/lib/5.20.0/darwin-2level
    /Users/gabor/perl5/perlbrew/perls/perl-5.20.0/lib/5.20.0
    .