Back
From: metabase:user:322078bc-2aae-11df-837a-5e0a49663a4f
Subject: PASS Alien-Debian-Apt-PM-0.03 v5.14.2 FreeBSD
Date: 2011-10-02T16:58:42Z
This distribution has been tested as part of the CPAN Testers
project, supporting the Perl programming language. See
http://wiki.cpantesters.org/ for more information or email
questions to cpan-testers-discuss@perl.org
--
Dear JKUTEJ,
This is a computer-generated error report created automatically by
CPANPLUS, version 0.9111. Testers personal comments may appear
at the end of this report.
MAKE TEST passed:
t/distribution.t .. skipped: Test::Distribution not installed
t/pod-coverage.t .. skipped: Test::Pod::Coverage 1.08 required for testing POD coverage
t/pod-spell.t ..... skipped: Set the environment variable TEST_SPELLING to enable this test.
t/pod.t ........... skipped: Test::Pod 1.22 required for testing POD
Files=4, Tests=0, 0 wallclock secs ( 0.01 usr 0.03 sys + 0.05 cusr 0.05 csys = 0.14 CPU)
Result: NOTESTS
[MSG] [Sun Oct 2 17:58:33 2011] Sending test report for 'Alien-Debian-Apt-PM-0.03'
This report was machine-generated by CPANPLUS::Dist::YACSmoke 0.64.
Powered by minismokebox version 0.54
------------------------------
ENVIRONMENT AND OTHER CONTEXT
------------------------------
Environment variables:
AUTOMATED_TESTING = 1
PATH = /sbin:/bin:/usr/sbin:/usr/bin:/usr/games:/usr/local/sbin:/usr/local/bin:/home/cpan/bin
PERL5LIB = :/usr/home/cpan/pit/bare/conf/perl-5.14.2/.cpanplus/5.14.2/build/Alien-Debian-Apt-PM-0.03/blib/lib:/usr/home/cpan/pit/bare/conf/perl-5.14.2/.cpanplus/5.14.2/build/Alien-Debian-Apt-PM-0.03/blib/arch
PERL5_CPANPLUS_IS_RUNNING = 13836
PERL5_CPANPLUS_IS_VERSION = 0.9111
PERL5_MINISMOKEBOX = 0.54
PERL5_YACSMOKE_BASE = /usr/home/cpan/pit/bare/conf/perl-5.14.2
PERL_EXTUTILS_AUTOINSTALL = --defaultdeps
PERL_MM_USE_DEFAULT = 1
SHELL = /usr/local/bin/bash
TERM = screen
Perl special variables (and OS-specific diagnostics, for MSWin32):
Perl: $^X = /usr/home/cpan/pit/bare/perl-5.14.2/bin/perl5.14.2
UID: $< = 1002
EUID: $> = 1002
GID: $( = 1002 1002
EGID: $) = 1002 1002
-------------------------------
--
Summary of my perl5 (revision 5 version 14 subversion 2) configuration:
Platform:
osname=freebsd, osvers=9.0-beta1, archname=amd64-freebsd
uname='freebsd filthpig 9.0-beta1 freebsd 9.0-beta1 #0: thu jul 28 17:15:31 utc 2011 root@farrell.cse.buffalo.edu:usrobjusrsrcsysgeneric amd64 '
config_args='-des -Dprefix=/usr/home/cpan/pit/bare/perl-5.14.2'
hint=recommended, useposix=true, d_sigaction=define
useithreads=undef, usemultiplicity=undef
useperlio=define, d_sfio=undef, uselargefiles=define, usesocks=undef
use64bitint=define, use64bitall=define, uselongdouble=undef
usemymalloc=n, bincompat5005=undef
Compiler:
cc='cc', ccflags ='-DHAS_FPSETMASK -DHAS_FLOATINGPOINT_H -fno-strict-aliasing -pipe -fstack-protector -I/usr/local/include',
optimize='-O',
cppflags='-DHAS_FPSETMASK -DHAS_FLOATINGPOINT_H -fno-strict-aliasing -pipe -fstack-protector -I/usr/local/include'
ccversion='', gccversion='4.2.2 20070831 prerelease [FreeBSD]', gccosandvers=''
intsize=4, longsize=8, ptrsize=8, doublesize=8, byteorder=12345678
d_longlong=define, longlongsize=8, d_longdbl=define, longdblsize=16
ivtype='long', ivsize=8, nvtype='double', nvsize=8, Off_t='off_t', lseeksize=8
alignbytes=8, prototype=define
Linker and Libraries:
ld='cc', ldflags ='-Wl,-E -fstack-protector -L/usr/local/lib'
libpth=/usr/lib /usr/local/lib
libs=-lgdbm -lm -lcrypt -lutil -lc
perllibs=-lm -lcrypt -lutil -lc
libc=, so=so, useshrplib=false, libperl=libperl.a
gnulibc_version=''
Dynamic Linking:
dlsrc=dl_dlopen.xs, dlext=so, d_dlsymun=undef, ccdlflags=' '
cccdlflags='-DPIC -fPIC', lddlflags='-shared -L/usr/local/lib -fstack-protector'
Characteristics of this binary (from libperl):
Compile-time options: PERL_DONT_CREATE_GVSV PERL_MALLOC_WRAP
PERL_PRESERVE_IVUV USE_64_BIT_ALL USE_64_BIT_INT
USE_LARGE_FILES USE_PERLIO USE_PERL_ATOF
Built under freebsd
Compiled at Sep 27 2011 12:01:12
%ENV:
PERL5LIB=":/usr/home/cpan/pit/bare/conf/perl-5.14.2/.cpanplus/5.14.2/build/Alien-Debian-Apt-PM-0.03/blib/lib:/usr/home/cpan/pit/bare/conf/perl-5.14.2/.cpanplus/5.14.2/build/Alien-Debian-Apt-PM-0.03/blib/arch"
PERL5_CPANPLUS_IS_RUNNING="13836"
PERL5_CPANPLUS_IS_VERSION="0.9111"
PERL5_MINISMOKEBOX="0.54"
PERL5_YACSMOKE_BASE="/usr/home/cpan/pit/bare/conf/perl-5.14.2"
PERL_EXTUTILS_AUTOINSTALL="--defaultdeps"
PERL_MM_USE_DEFAULT="1"
@INC:
/usr/home/cpan/pit/bare/conf/perl-5.14.2/.cpanplus/5.14.2/build/Alien-Debian-Apt-PM-0.03/blib/lib
/usr/home/cpan/pit/bare/conf/perl-5.14.2/.cpanplus/5.14.2/build/Alien-Debian-Apt-PM-0.03/blib/arch
/usr/home/cpan/pit/bare/perl-5.14.2/lib/site_perl/5.14.2/amd64-freebsd
/usr/home/cpan/pit/bare/perl-5.14.2/lib/site_perl/5.14.2
/usr/home/cpan/pit/bare/perl-5.14.2/lib/5.14.2/amd64-freebsd
/usr/home/cpan/pit/bare/perl-5.14.2/lib/5.14.2
.