Data-Session v1.18 Perl 5 v5.37.7 x86_64-linux-thread-multi

Status
Pass
From
Andreas J. König (ANDK)
Dist
Data-Session v1.18
Platform
Perl 5 v5.37.7 x86_64-linux-thread-multi
Date
2022-12-24 07:01:26
ID
c8b23f20-8358-11ed-8a95-e1569c30547c
This distribution has been tested as part of the CPAN Testers
project, supporting the Perl programming language.  See
http://wiki.cpantesters.org/ for more information or email
questions to cpan-testers-discuss@perl.org


--
Dear Ron Savage,

This is a computer-generated report for Data-Session-1.18
on perl 5.37.7, created by CPAN-Reporter-1.2018.

Thank you for uploading your work to CPAN.  Congratulations!
All tests were successful.

Sections of this report:

    * Tester comments
    * Program output
    * Prerequisites
    * Environment and other context

------------------------------
TESTER COMMENTS
------------------------------

Additional comments from tester:

this report is from an automated smoke testing program
and was not reviewed by a human for accuracy

------------------------------
PROGRAM OUTPUT
------------------------------

Output from '/usr/bin/make test':

PERL_DL_NONLAZY=1 "/tmp/basesmoker-reloperl-j1ZI/bin/perl" "-MExtUtils::Command::MM" "-MTest::Harness" "-e" "undef *Test::Harness::Switches; test_harness(0, 'blib/lib', 'blib/arch')" t/*.t
# Testing Data::Session V 1.18
# Using autovivification V 0.18
# Using CGI V 4.54
# Using Class::Load V 0.25
# Using Config::Tiny V 2.28
# Using Data::Dumper V 2.187
# Using Data::UUID V 1.226
# Using DBD::SQLite V 1.72
# Using DBI V 1.643
# Using DBIx::Admin::CreateTable V 2.11
# Using Digest::MD5 V 2.58
# Using Digest::SHA V 6.03
# Using Fcntl V 1.15
# Using File::Basename V 2.86
# Using File::Path V 2.18
# Using File::Slurper V 0.014
# Using File::Spec V 3.88
# Using File::Temp V 0.2311
# Using FreezeThaw V 0.5001
# Using Hash::FieldHash V 0.15
# Using JSON V 4.10
# Using overload V 1.36
# Using parent V 0.239
# Using Safe V 2.44
# Using Scalar::Util V 1.63
# Using Storable V 3.28
# Using strict V 1.12
# Using Try::Tiny V 0.31
# Using vars V 1.05
# Using warnings V 1.61
# Using YAML::Tiny V 1.73
t/00.versions.t .. ok
# Test: File.1. DSN: dbi:File:. ID generator: AutoIncrement. Serializer: DataDumper
# id 1: 1002
# Test: File.1. DSN: dbi:File:. ID generator: AutoIncrement. Serializer: FreezeThaw
# id 1: 1008
# Test: File.1. DSN: dbi:File:. ID generator: AutoIncrement. Serializer: JSON
# id 1: 1014
# Test: File.1. DSN: dbi:File:. ID generator: AutoIncrement. Serializer: Storable
# id 1: 1020
# Test: File.1. DSN: dbi:File:. ID generator: AutoIncrement. Serializer: YAML
# id 1: 1026
# Test: File.1. DSN: dbi:File:. ID generator: MD5. Serializer: DataDumper
# id 1: c9ff7f08ed1d03986eef4aba95cfe3b9
# Test: File.1. DSN: dbi:File:. ID generator: MD5. Serializer: FreezeThaw
# id 1: ecce9bc281aef69ca67de0adf9318917
# Test: File.1. DSN: dbi:File:. ID generator: MD5. Serializer: JSON
# id 1: 2141e6e1dd5a045fa2eaaa03ef2a946e
# Test: File.1. DSN: dbi:File:. ID generator: MD5. Serializer: Storable
# id 1: d8ad40f562f8f0da48a20e9939fdd5ce
# Test: File.1. DSN: dbi:File:. ID generator: MD5. Serializer: YAML
# id 1: 84bfde0af465e8538e4947fec58bec17
# Test: File.1. DSN: dbi:File:. ID generator: SHA1. Serializer: DataDumper
# id 1: 2da7803f13851bc34d6dfe6f9ce25cb626091948
# Test: File.1. DSN: dbi:File:. ID generator: SHA1. Serializer: FreezeThaw
# id 1: 298d435db7e79cc75cd2c5e9238d666a0f8b2f00
# Test: File.1. DSN: dbi:File:. ID generator: SHA1. Serializer: JSON
# id 1: 552442d85fbc2b899602781b6c3084b92222e95f
# Test: File.1. DSN: dbi:File:. ID generator: SHA1. Serializer: Storable
# id 1: 8e94448582bcc3b14e49ca5a185d44b0bdc97630
# Test: File.1. DSN: dbi:File:. ID generator: SHA1. Serializer: YAML
# id 1: adcdea0f77dcd853cd0c4034d125bcfc2e567f82
# Test: File.1. DSN: dbi:File:. ID generator: SHA256. Serializer: DataDumper
# id 1: 59c15f07438620a1167210bb557e581297e1e3b6b474e25116664754aee559b3
# Test: File.1. DSN: dbi:File:. ID generator: SHA256. Serializer: FreezeThaw
# id 1: 143a3c58140ef082744074f0107ef82011384a6ada07579476ad3a5ea309a26a
# Test: File.1. DSN: dbi:File:. ID generator: SHA256. Serializer: JSON
# id 1: f9b3e57afb0fb538059a8bf73ecd48d2c78f589b2e8791386feac39d89b66274
# Test: File.1. DSN: dbi:File:. ID generator: SHA256. Serializer: Storable
# id 1: 7dd2fe7b0a0c22b4431398ca0242b6a0e4437dc7f586cf887f01a79187e127e0
# Test: File.1. DSN: dbi:File:. ID generator: SHA256. Serializer: YAML
# id 1: 12931963e67cc384d2fe6be06f52eac1b874bf70a670378a399052ad12fa0db0
# Test: File.1. DSN: dbi:File:. ID generator: SHA512. Serializer: DataDumper
# id 1: 590be30590f8b3064d2d8f02eac89c3505de44d41c7884b72652de5c801ed0b30bee934b4cd3491b0b51daea74253439e7d7a349f1fbbc5ade0b7d97d26dc355
# Test: File.1. DSN: dbi:File:. ID generator: SHA512. Serializer: FreezeThaw
# id 1: 0040eb678769a91b27199f674f905b96010fb071e6b65f4be47c067cb991b1683f0573024e2bac4a05dd9fc5ccbf4885eca134e8a667f0efa586b26a594de42b
# Test: File.1. DSN: dbi:File:. ID generator: SHA512. Serializer: JSON
# id 1: cd20de929b1ef7900bafdda3c8de30ec8efc61b6e994703cfda5b1a4bbed1a6738da75a978318d708984bf610f46f209f5c881317716488926e1c527193e92af
# Test: File.1. DSN: dbi:File:. ID generator: SHA512. Serializer: Storable
# id 1: ba77b5fd08f24d03d225024e8693b64e33d11d922615ee41f2ee3ca46693944ba64bdb60f774e0e566849b43fcf1e9b58159f6a79899402892daef0d2964fcf4
# Test: File.1. DSN: dbi:File:. ID generator: SHA512. Serializer: YAML
# id 1: bce4dce1eff93b3483f14c2a8e05b72eda7b948637dfb831c9c83a7007951e17185444a514e766ae05de80118b6072129ec06f8e42223d4a1ef9f7def8202fc0
# Test: File.1. DSN: dbi:File:. ID generator: Static. Serializer: DataDumper
# id 1: 1234
# Test: File.1. DSN: dbi:File:. ID generator: Static. Serializer: FreezeThaw
# id 1: 1234
# Test: File.1. DSN: dbi:File:. ID generator: Static. Serializer: JSON
# id 1: 1234
# Test: File.1. DSN: dbi:File:. ID generator: Static. Serializer: Storable
# id 1: 1234
# Test: File.1. DSN: dbi:File:. ID generator: Static. Serializer: YAML
# id 1: 1234
# Test: File.1. DSN: dbi:File:. ID generator: UUID34. Serializer: DataDumper
# id 1: 0xA9AE54E2835811ED86FB9A549C30547C
# Test: File.1. DSN: dbi:File:. ID generator: UUID34. Serializer: FreezeThaw
# id 1: 0xA9B1B3F8835811ED86FB9A549C30547C
# Test: File.1. DSN: dbi:File:. ID generator: UUID34. Serializer: JSON
# id 1: 0xA9B49942835811ED86FB9A549C30547C
# Test: File.1. DSN: dbi:File:. ID generator: UUID34. Serializer: Storable
# id 1: 0xA9B7725C835811ED86FB9A549C30547C
# Test: File.1. DSN: dbi:File:. ID generator: UUID34. Serializer: YAML
# id 1: 0xA9BA24B6835811ED86FB9A549C30547C
# Test: File.1. DSN: dbi:File:. ID generator: UUID36. Serializer: DataDumper
# id 1: A9BD26D4-8358-11ED-86FB-9A549C30547C
# Test: File.1. DSN: dbi:File:. ID generator: UUID36. Serializer: FreezeThaw
# id 1: A9C07820-8358-11ED-86FB-9A549C30547C
# Test: File.1. DSN: dbi:File:. ID generator: UUID36. Serializer: JSON
# id 1: A9C3D812-8358-11ED-86FB-9A549C30547C
# Test: File.1. DSN: dbi:File:. ID generator: UUID36. Serializer: Storable
# id 1: A9C6871A-8358-11ED-86FB-9A549C30547C
# Test: File.1. DSN: dbi:File:. ID generator: UUID36. Serializer: YAML
# id 1: A9C97EB6-8358-11ED-86FB-9A549C30547C
# Skipping dsn 'dbi:SQLite:dbname=/tmp/sessions.sqlite' because the SQLite directory does not exist
# 
# Testing HTTP header generation
# 
# Testing expire the session. Sleeping for 1 second ...
# Expiring id: A9CE4996-8358-11ED-86FB-9A549C30547C
# 
# Testing expire a session parameter. Sleeping for 1 second ...
t/basic.t ........ ok
# DSN name: File.1. DSN: dbi:File:. ID generator: MD5. Serializer: DataDumper
# id1: 14da3efed9758eb226cdfeb907425313
# 1: Recovered known id 7e0308993b6d76236dc55eed4da48896 from traverse
# 2: Recovered known id ef6274296d53954b1d0f517e60a9984f from traverse
# 3: Recovered known id c068d5995a48ce27a6346e9ebda0c149 from traverse
# 4: Recovered known id c3b163afd9042a2da4788f2e8dd84eb1 from traverse
# Skipping dsn 'dbi:SQLite:dbname=/tmp/sessions.sqlite' because the SQLite directory does not exist
t/traverse.t ..... ok
All tests successful.
Files=3, Tests=52,  8 wallclock secs ( 0.08 usr  0.01 sys +  0.93 cusr  0.23 csys =  1.25 CPU)
Result: PASS

------------------------------
PREREQUISITES
------------------------------

Prerequisite modules loaded:

requires:

    Module                   Need     Have    
    ------------------------ -------- --------
    autovivification         0        0.18    
    CGI                      3.63     4.54    
    Class::Load              0.19     0.25    
    Config::Tiny             2.14     2.28    
    Data::Dumper             2.145    2.187   
    Data::UUID               1.218    1.226   
    DBD::SQLite              1.39     1.72    
    DBI                      1.627    1.643   
    DBIx::Admin::CreateTable 2.07     2.11    
    Digest::MD5              2.52     2.58    
    Digest::SHA              5.84     6.03    
    Fcntl                    1.06     1.15    
    File::Basename           2.77     2.86    
    File::Path               2.07     2.18    
    File::Slurper            0.012    0.014   
    File::Spec               3.3      3.88    
    File::Temp               0.22     0.2311  
    FreezeThaw               0.5001   0.5001  
    Hash::FieldHash          0.14     0.15    
    JSON                     2.59     4.10    
    overload                 0        1.36    
    parent                   0        0.239   
    Safe                     2.35     2.44    
    Scalar::Util             1.27     1.63    
    Storable                 2.39     3.28    
    strict                   0        1.12    
    Try::Tiny                0.12     0.31    
    vars                     0        1.05    
    warnings                 0        1.61    
    YAML::Tiny               1.51     1.73    

build_requires:

    Module                   Need     Have    
    ------------------------ -------- --------
    ExtUtils::MakeMaker      0        7.64    
    Test::More               1.001014 1.302191
    Test::Pod                1.48     1.52    

configure_requires:

    Module                   Need     Have    
    ------------------------ -------- --------
    ExtUtils::MakeMaker      0        7.64    


------------------------------
ENVIRONMENT AND OTHER CONTEXT
------------------------------

Environment variables:

    AUTOMATED_TESTING = 1
    LANG = en_US.UTF-8
    LANGUAGE = en_US:en
    PATH = /home/sand/bin:/usr/local/bin:/usr/bin:/bin:/usr/games:/usr/local/perl/bin:/usr/X11/bin:/sbin:/usr/sbin
    PERL5LIB = 
    PERL5OPT = 
    PERL5_CPANPLUS_IS_RUNNING = 2543257
    PERL5_CPAN_IS_RUNNING = 2543257
    PERL_CANARY_STABILITY_NOPROMPT = 1
    PERL_MM_USE_DEFAULT = 1
    PERL_USE_UNSAFE_INC = 1
    SHELL = /usr/bin/zsh
    TERM = screen

Perl special variables (and OS-specific diagnostics, for MSWin32):

    $^X = /tmp/basesmoker-reloperl-j1ZI/bin/perl
    $UID/$EUID = 1005 / 1005
    $GID = 1005 1005
    $EGID = 1005 1005

Perl module toolchain versions installed:

    Module              Have    
    ------------------- --------
    CPAN                2.34    
    CPAN::Meta          2.150010
    Cwd                 3.88    
    ExtUtils::CBuilder  0.280238
    ExtUtils::Command   7.64    
    ExtUtils::Install   2.20    
    ExtUtils::MakeMaker 7.64    
    ExtUtils::Manifest  1.73    
    ExtUtils::ParseXS   3.49    
    File::Spec          3.88    
    JSON                4.10    
    JSON::PP            4.12    
    Module::Build       0.4232  
    Module::Signature   0.88    
    Parse::CPAN::Meta   2.150010
    Test::Harness       3.44    
    Test::More          1.302191
    YAML                1.30    
    YAML::Syck          1.34    
    version             0.9929  


--

Summary of my perl5 (revision 5 version 37 subversion 7) configuration:
  Commit id: b1163c2ae562670f2bf4c7700087f0c9d0ad8fe5
  Platform:
    osname=linux
    osvers=6.0.0-5-amd64
    archname=x86_64-linux-thread-multi
    uname='linux k93msid 6.0.0-5-amd64 #1 smp preempt_dynamic debian 6.0.10-2 (2022-12-01) x86_64 gnulinux '
    config_args='-Dprefix=/home/sand/src/perl/repoperls/installed-perls/host/k93msid/v5.37.7/29fb -Dmyhostname=k93msid -Dinstallusrbinperl=n -Uversiononly -Dusedevel -des -Ui_db -Dlibswanted=cl pthread socket inet nsl gdbm dbm malloc dl ld sun m crypt sec util c cposix posix ucb BSD gdbm_compat -Duseithreads -Uuselongdouble -DEBUGGING=both'
    hint=recommended
    useposix=true
    d_sigaction=define
    useithreads=define
    usemultiplicity=define
    use64bitint=define
    use64bitall=define
    uselongdouble=undef
    usemymalloc=n
    default_inc_excludes_dot=define
  Compiler:
    cc='cc'
    ccflags ='-D_REENTRANT -D_GNU_SOURCE -fwrapv -DDEBUGGING -fno-strict-aliasing -pipe -fstack-protector-strong -I/usr/local/include -D_LARGEFILE_SOURCE -D_FILE_OFFSET_BITS=64 -D_FORTIFY_SOURCE=2'
    optimize='-O2 -g'
    cppflags='-D_REENTRANT -D_GNU_SOURCE -fwrapv -DDEBUGGING -fno-strict-aliasing -pipe -fstack-protector-strong -I/usr/local/include'
    ccversion=''
    gccversion='12.2.0'
    gccosandvers=''
    intsize=4
    longsize=8
    ptrsize=8
    doublesize=8
    byteorder=12345678
    doublekind=3
    d_longlong=define
    longlongsize=8
    d_longdbl=define
    longdblsize=16
    longdblkind=3
    ivtype='long'
    ivsize=8
    nvtype='double'
    nvsize=8
    Off_t='off_t'
    lseeksize=8
    alignbytes=8
    prototype=define
  Linker and Libraries:
    ld='cc'
    ldflags =' -fstack-protector-strong -L/usr/local/lib'
    libpth=/usr/local/lib /usr/lib/x86_64-linux-gnu /usr/lib /usr/lib64
    libs=-lpthread -lnsl -ldl -lm -lcrypt -lutil -lc
    perllibs=-lpthread -lnsl -ldl -lm -lcrypt -lutil -lc
    libc=/lib/x86_64-linux-gnu/libc.so.6
    so=so
    useshrplib=false
    libperl=libperl.a
    gnulibc_version='2.36'
  Dynamic Linking:
    dlsrc=dl_dlopen.xs
    dlext=so
    d_dlsymun=undef
    ccdlflags='-Wl,-E'
    cccdlflags='-fPIC'
    lddlflags='-shared -O2 -g -L/usr/local/lib -fstack-protector-strong'


Characteristics of this binary (from libperl): 
  Compile-time options:
    DEBUGGING
    HAS_TIMES
    MULTIPLICITY
    PERLIO_LAYERS
    PERL_COPY_ON_WRITE
    PERL_DONT_CREATE_GVSV
    PERL_HASH_FUNC_SIPHASH13
    PERL_HASH_USE_SBOX32
    PERL_MALLOC_WRAP
    PERL_OP_PARENT
    PERL_PRESERVE_IVUV
    PERL_TRACK_MEMPOOL
    PERL_USE_DEVEL
    PERL_USE_SAFE_PUTENV
    USE_64_BIT_ALL
    USE_64_BIT_INT
    USE_ITHREADS
    USE_LARGE_FILES
    USE_LOCALE
    USE_LOCALE_COLLATE
    USE_LOCALE_CTYPE
    USE_LOCALE_NUMERIC
    USE_LOCALE_TIME
    USE_PERLIO
    USE_PERL_ATOF
    USE_REENTRANT_API
    USE_THREAD_SAFE_LOCALE
  Built under linux
  Compiled at Dec 20 2022 20:44:17
  %ENV:
    PERL5LIB=""
    PERL5OPT=""
    PERL5_CPANPLUS_IS_RUNNING="2543257"
    PERL5_CPAN_IS_RUNNING="2543257"
    PERL_CANARY_STABILITY_NOPROMPT="1"
    PERL_MM_USE_DEFAULT="1"
    PERL_USE_UNSAFE_INC="1"
  @INC:
    /home/sand/src/perl/repoperls/installed-perls/host/k93msid/v5.37.7/29fb/lib/site_perl/5.37.7/x86_64-linux-thread-multi
    /home/sand/src/perl/repoperls/installed-perls/host/k93msid/v5.37.7/29fb/lib/site_perl/5.37.7
    /home/sand/src/perl/repoperls/installed-perls/host/k93msid/v5.37.7/29fb/lib/5.37.7/x86_64-linux-thread-multi
    /home/sand/src/perl/repoperls/installed-perls/host/k93msid/v5.37.7/29fb/lib/5.37.7
    .