Data-Roundtrip v0.29 Perl 5 v5.30.2 i86pc-solaris-thread-multi-64
- Status
- Pass
- From
- David Cantrell (DCANTRELL)
- Dist
-
Data-Roundtrip v0.29
- Platform
- Perl 5 v5.30.2 i86pc-solaris-thread-multi-64
- Date
- 2025-04-21 05:02:11
- ID
- c8b4ef1a-1e6d-11f0-94d5-c8de27c853df
This distribution has been tested as part of the CPAN Testers
project, supporting the Perl programming language. See
http://wiki.cpantesters.org/ for more information or email
questions to cpan-testers-discuss@perl.org
--
Dear Andreas Hadjiprocopis,
This is a computer-generated report for Data-Roundtrip-0.29
on perl 5.30.2, created by CPAN-Reporter-1.2018.
Thank you for uploading your work to CPAN. Congratulations!
All tests were successful.
Sections of this report:
* Tester comments
* Program output
* Prerequisites
* Environment and other context
------------------------------
TESTER COMMENTS
------------------------------
Additional comments from tester:
this report is from an automated smoke testing program
and was not reviewed by a human for accuracy
------------------------------
PROGRAM OUTPUT
------------------------------
Output from '/usr/bin/make test':
PERL_DL_NONLAZY=1 "/home/david/cpantesting/perl-5.30.2/bin/perl" "-MExtUtils::Command::MM" "-MTest::Harness" "-e" "undef *Test::Harness::Switches; test_harness(0, 'blib/lib', 'blib/arch')" t/*.t
# Testing Data::Roundtrip 0.29, Perl 5.030002, /home/david/cpantesting/perl-5.30.2/bin/perl
t/00-load.t ..................................... ok
dump2perl() : WARNING, eval()'ing input string, are you sure you did check its content ?
dump2perl() : WARNING, this sub will be removed in future releases.
dump2perl() : WARNING, eval()'ing input string, are you sure you did check its content ?
dump2perl() : WARNING, this sub will be removed in future releases.
dump2perl() : WARNING, eval()'ing input string, are you sure you did check its content ?
dump2perl() : WARNING, this sub will be removed in future releases.
dump2perl() : WARNING, eval()'ing input string, are you sure you did check its content ?
dump2perl() : WARNING, this sub will be removed in future releases.
dump2perl() : WARNING, eval()'ing input string, are you sure you did check its content ?
dump2perl() : WARNING, this sub will be removed in future releases.
dump2perl() : WARNING, eval()'ing input string, are you sure you did check its content ?
dump2perl() : WARNING, this sub will be removed in future releases.
t/01-basic.t .................................... ok
dump2perl() : WARNING, eval()'ing input string, are you sure you did check its content ?
dump2perl() : WARNING, this sub will be removed in future releases.
dump2perl() : WARNING, eval()'ing input string, are you sure you did check its content ?
dump2perl() : WARNING, this sub will be removed in future releases.
dump2perl() : WARNING, eval()'ing input string, are you sure you did check its content ?
dump2perl() : WARNING, this sub will be removed in future releases.
dump2perl() : WARNING, eval()'ing input string, are you sure you did check its content ?
dump2perl() : WARNING, this sub will be removed in future releases.
dump2perl() : WARNING, eval()'ing input string, are you sure you did check its content ?
dump2perl() : WARNING, this sub will be removed in future releases.
dump2perl() : WARNING, eval()'ing input string, are you sure you did check its content ?
dump2perl() : WARNING, this sub will be removed in future releases.
perl2yaml() : pretty-printing is not supported for YAML output
t/02-random-data-structure.t .................... ok
dump2perl() : WARNING, eval()'ing input string, are you sure you did check its content ?
dump2perl() : WARNING, this sub will be removed in future releases.
dump2perl() : WARNING, eval()'ing input string, are you sure you did check its content ?
dump2perl() : WARNING, this sub will be removed in future releases.
dump2perl() : WARNING, eval()'ing input string, are you sure you did check its content ?
dump2perl() : WARNING, this sub will be removed in future releases.
dump2perl() : WARNING, eval()'ing input string, are you sure you did check its content ?
dump2perl() : WARNING, this sub will be removed in future releases.
dump2perl() : WARNING, eval()'ing input string, are you sure you did check its content ?
dump2perl() : WARNING, this sub will be removed in future releases.
dump2perl() : WARNING, eval()'ing input string, are you sure you did check its content ?
dump2perl() : WARNING, this sub will be removed in future releases.
perl2yaml() : pretty-printing is not supported for YAML output
dump2perl() : WARNING, eval()'ing input string, are you sure you did check its content ?
dump2perl() : WARNING, this sub will be removed in future releases.
dump2perl() : WARNING, eval()'ing input string, are you sure you did check its content ?
dump2perl() : WARNING, this sub will be removed in future releases.
dump2perl() : WARNING, eval()'ing input string, are you sure you did check its content ?
dump2perl() : WARNING, this sub will be removed in future releases.
t/03-random-data-structure-UTF8.t ............... ok
t/04-dump2-use-is-explicit.t .................... ok
dump2perl() : WARNING, eval()'ing input string, are you sure you did check its content ?
dump2perl() : WARNING, this sub will be removed in future releases.
dump2perl() : WARNING, eval()'ing input string, are you sure you did check its content ?
dump2perl() : WARNING, this sub will be removed in future releases.
dump2perl() : WARNING, eval()'ing input string, are you sure you did check its content ?
dump2perl() : WARNING, this sub will be removed in future releases.
dump2perl() : WARNING, eval()'ing input string, are you sure you did check its content ?
dump2perl() : WARNING, this sub will be removed in future releases.
t/05-perl2dump-no-escape-unicode-temporarily.t .. ok
dump2perl() : WARNING, eval()'ing input string, are you sure you did check its content ?
dump2perl() : WARNING, this sub will be removed in future releases.
dump2perl() : WARNING, eval()'ing input string, are you sure you did check its content ?
dump2perl() : WARNING, this sub will be removed in future releases.
dump2perl() : WARNING, eval()'ing input string, are you sure you did check its content ?
dump2perl() : WARNING, this sub will be removed in future releases.
dump2perl() : WARNING, eval()'ing input string, are you sure you did check its content ?
dump2perl() : WARNING, this sub will be removed in future releases.
t/06-perl2dump-no-escape-unicode-permanently.t .. ok
dump2perl() : WARNING, eval()'ing input string, are you sure you did check its content ?
dump2perl() : WARNING, this sub will be removed in future releases.
dump2perl() : WARNING, eval()'ing input string, are you sure you did check its content ?
dump2perl() : WARNING, this sub will be removed in future releases.
dump2perl() : WARNING, eval()'ing input string, are you sure you did check its content ?
dump2perl() : WARNING, this sub will be removed in future releases.
dump2perl() : WARNING, eval()'ing input string, are you sure you did check its content ?
dump2perl() : WARNING, this sub will be removed in future releases.
t/07-perl2dump-escape-unicode-permanently.t ..... ok
t/10-scripts.t .................................. ok
t/11-scripts-pod.t .............................. ok
# temp dir: '/tmp/msLT_utaPj' ...
t/12-from-file.t ................................ ok
t/13-yaml-tricky-cases.t ........................ ok
t/14-yaml-tainted-input.t ....................... ok
dump2perl() : WARNING, eval()'ing input string, are you sure you did check its content ?
dump2perl() : WARNING, this sub will be removed in future releases.
dump2perl() : WARNING, eval()'ing input string, are you sure you did check its content ?
dump2perl() : WARNING, this sub will be removed in future releases.
t/20-synopsis.t ................................. ok
t/manifest.t .................................... skipped: Author tests not required for installation
t/pod-coverage.t ................................ skipped: Author tests not required for installation
t/pod.t ......................................... skipped: Author tests not required for installation
All tests successful.
Files=17, Tests=412, 143 wallclock secs ( 1.37 usr 0.65 sys + 83.17 cusr 43.47 csys = 128.66 CPU)
Result: PASS
------------------------------
PREREQUISITES
------------------------------
Prerequisite modules loaded:
requires:
Module Need Have
----------------------------- ------ --------
Data::Dump 0 1.25
Data::Dump::Filtered 0 0
Data::Dumper 0 2.183
Encode 3.0 3.21
JSON 4.0 4.10
perl 5.008 5.030002
Unicode::Escape v0.0.2 0.0.2
YAML::PP 0 v0.38.0
build_requires:
Module Need Have
----------------------------- ------ --------
Benchmark 0 1.22
Data::Random::Structure 0 0.01
Data::Random::Structure::UTF8 0.06 0.06
ExtUtils::MakeMaker 0 7.70
File::Spec 0 3.75
File::Temp 0 0.2311
Test2::Plugin::UTF8 0 1.302207
Test::More 0 1.302207
Test::Pod 1.51 1.52
Test::Script 1.28 1.29
Test::Taint 0 1.08
YAML::PP 0 v0.38.0
configure_requires:
Module Need Have
----------------------------- ------ --------
ExtUtils::MakeMaker 0 7.70
------------------------------
ENVIRONMENT AND OTHER CONTEXT
------------------------------
Environment variables:
AUTOMATED_TESTING = 1
LANG = en_GB.UTF-8
NONINTERACTIVE_TESTING = 1
PATH = /home/david/bin:/home/david/perl5/perlbrew/bin:/home/david/perl5/perlbrew/perls/perl-5.32.0/bin:/home/david/.cargo/bin:/home/david/bin:/usr/bin:/usr/sbin:/sbin:/usr/gnu/bin:/opt/ooce/bin:/home/david/.fzf.git/bin:/opt/ooce/bin
PERL = 5.30.2
PERL5LIB =
PERL5OPT =
PERL5_CPANPLUS_IS_RUNNING = 1772
PERL5_CPAN_IS_RUNNING = 1772
PERLBREW_HOME = /home/david/.perlbrew
PERLBREW_MANPATH = /home/david/perl5/perlbrew/perls/perl-5.32.0/man
PERLBREW_PATH = /home/david/perl5/perlbrew/bin:/home/david/perl5/perlbrew/perls/perl-5.32.0/bin
PERLBREW_PERL = perl-5.32.0
PERLBREW_ROOT = /home/david/perl5/perlbrew
PERLBREW_SHELLRC_VERSION = 0.89
PERLBREW_VERSION = 0.89
PERLVER = 5.30.2
PERL_INLINE_DIRECTORY = /home/david/.Inline-5.30.2
PERL_MM_USE_DEFAULT = 1
PERL_USE_UNSAFE_INC = 0
SHELL = /bin/bash
TERM = screen
Perl special variables (and OS-specific diagnostics, for MSWin32):
$^X = /home/david/cpantesting/perl-5.30.2/bin/perl
$UID/$EUID = 100 / 100
$GID = 1 1 100
$EGID = 1 1 100
Perl module toolchain versions installed:
Module Have
------------------- --------
CPAN 2.22
CPAN::Meta 2.150010
Cwd 3.75
ExtUtils::CBuilder 0.280236
ExtUtils::Command 7.70
ExtUtils::Install 2.22
ExtUtils::MakeMaker 7.70
ExtUtils::Manifest 1.75
ExtUtils::ParseXS 3.51
File::Spec 3.75
JSON 4.10
JSON::PP 4.16
Module::Build 0.4234
Module::Signature n/a
Parse::CPAN::Meta 2.150010
Test::Harness 3.50
Test::More 1.302207
YAML 1.31
YAML::Syck n/a
version 0.9933
--
Summary of my perl5 (revision 5 version 30 subversion 2) configuration:
Platform:
osname=solaris
osvers=2.11
archname=i86pc-solaris-thread-multi-64
uname='sunos cpantesting-illumos 5.11 omnios-r151036-4a32ffb911 i86pc i386 i86pc '
config_args='-de -Dcc=gcc -Dprefix=/home/david/cpantesting/perl-5.30.2 -Dusethreads'
hint=recommended
useposix=true
d_sigaction=define
useithreads=define
usemultiplicity=define
use64bitint=define
use64bitall=define
uselongdouble=undef
usemymalloc=n
default_inc_excludes_dot=define
bincompat5005=undef
Compiler:
cc='gcc'
ccflags ='-D_REENTRANT -fwrapv -fno-strict-aliasing -pipe -fstack-protector-strong -m64 -D_LARGEFILE_SOURCE -D_FILE_OFFSET_BITS=64 -D_FORTIFY_SOURCE=2 -DPERL_USE_SAFE_PUTENV'
optimize='-O'
cppflags='-D_REENTRANT -fwrapv -fno-strict-aliasing -pipe -fstack-protector-strong'
ccversion=''
gccversion='9.3.0'
gccosandvers=''
intsize=4
longsize=8
ptrsize=8
doublesize=8
byteorder=12345678
doublekind=3
d_longlong=define
longlongsize=8
d_longdbl=define
longdblsize=16
longdblkind=3
ivtype='long'
ivsize=8
nvtype='double'
nvsize=8
Off_t='off_t'
lseeksize=8
alignbytes=8
prototype=define
Linker and Libraries:
ld='gcc'
ldflags =' -fstack-protector-strong -L/usr/gnu/lib -m64 '
libpth=/opt/gcc-9/lib /opt/gcc-9/lib/gcc/x86_64-pc-solaris2.11/9.3.0/include-fixed /usr/lib /usr/gnu/lib /usr/ccs/lib
libs=-lpthread -lsocket -lnsl -ldl -lm -lc
perllibs=-lpthread -lsocket -lnsl -ldl -lm -lc
libc=/lib/libc.so
so=so
useshrplib=true
libperl=libperl.so
gnulibc_version=''
Dynamic Linking:
dlsrc=dl_dlopen.xs
dlext=so
d_dlsymun=undef
ccdlflags=' -R /home/david/cpantesting/perl-5.30.2/lib/5.30.2/i86pc-solaris-thread-multi-64/CORE'
cccdlflags='-fPIC'
lddlflags=' -shared -m64 -L/usr/gnu/lib -fstack-protector-strong'
Characteristics of this binary (from libperl):
Compile-time options:
HAS_TIMES
MULTIPLICITY
PERLIO_LAYERS
PERL_COPY_ON_WRITE
PERL_DONT_CREATE_GVSV
PERL_IMPLICIT_CONTEXT
PERL_MALLOC_WRAP
PERL_OP_PARENT
PERL_PRESERVE_IVUV
PERL_USE_SAFE_PUTENV
USE_64_BIT_ALL
USE_64_BIT_INT
USE_ITHREADS
USE_LARGE_FILES
USE_LOCALE
USE_LOCALE_COLLATE
USE_LOCALE_CTYPE
USE_LOCALE_NUMERIC
USE_LOCALE_TIME
USE_PERLIO
USE_PERL_ATOF
USE_REENTRANT_API
USE_THREAD_SAFE_LOCALE
Built under solaris
Compiled at Dec 12 2020 00:49:07
%ENV:
PERL="5.30.2"
PERL5LIB=""
PERL5OPT=""
PERL5_CPANPLUS_IS_RUNNING="1772"
PERL5_CPAN_IS_RUNNING="1772"
PERLBREW_HOME="/home/david/.perlbrew"
PERLBREW_MANPATH="/home/david/perl5/perlbrew/perls/perl-5.32.0/man"
PERLBREW_PATH="/home/david/perl5/perlbrew/bin:/home/david/perl5/perlbrew/perls/perl-5.32.0/bin"
PERLBREW_PERL="perl-5.32.0"
PERLBREW_ROOT="/home/david/perl5/perlbrew"
PERLBREW_SHELLRC_VERSION="0.89"
PERLBREW_VERSION="0.89"
PERLVER="5.30.2"
PERL_INLINE_DIRECTORY="/home/david/.Inline-5.30.2"
PERL_MM_USE_DEFAULT="1"
PERL_USE_UNSAFE_INC="0"
@INC:
/home/david/cpantesting/perl-5.30.2/lib/site_perl/5.30.2/i86pc-solaris-thread-multi-64
/home/david/cpantesting/perl-5.30.2/lib/site_perl/5.30.2
/home/david/cpantesting/perl-5.30.2/lib/5.30.2/i86pc-solaris-thread-multi-64
/home/david/cpantesting/perl-5.30.2/lib/5.30.2