Sys-Filesystem v1.408 Perl 5 v5.36.0 cygwin-thread-multi

Status
Pass
From
Ken Cotterill
Dist
Sys-Filesystem v1.408
Platform
Perl 5 v5.36.0 cygwin-thread-multi
Date
2022-11-23 03:04:58
ID
c8bba9a5-6fcc-1014-976c-ca3f48e576eb
This distribution has been tested as part of the CPAN Testers
project, supporting the Perl programming language.  See
http://wiki.cpantesters.org/ for more information or email
questions to cpan-testers-discuss@perl.org


--
Dear Jens Rehsack,

This is a computer-generated report for Sys-Filesystem-1.408
on perl 5.36.0, created by CPAN-Reporter-1.2018.

Thank you for uploading your work to CPAN.  Congratulations!
All tests were successful.

Sections of this report:

    * Tester comments
    * Program output
    * Prerequisites
    * Environment and other context

------------------------------
TESTER COMMENTS
------------------------------

Additional comments from tester:

none provided

------------------------------
PROGRAM OUTPUT
------------------------------

Output from '/usr/bin/make test':

PERL_DL_NONLAZY=1 "/home/ken/perl5/perlbrew/perls/perl-5.36.0/bin/perl.exe" "-MExtUtils::Command::MM" "-MTest::Harness" "-e" "undef *Test::Harness::Switches; test_harness(0, 'blib/lib', 'blib/arch')" t/*.t xt/*.t
# Testing Sys::Filesystem 1.408, Perl 5.036000 (/home/ken/perl5/perlbrew/perls/perl-5.36.0/bin/perl) on cygwin-3.2.0(0.34053)
t/01_load.t ...... ok
# filesystem - mounted - special - device - options - format - volume - label - type
# / - 1 - 0 - C:/cygwin64 - binary,auto - ntfs - 1 - 1 - ntfs
# /cygdrive/c - 1 - 0 - C: - binary,posix=0,user,noumount,auto - ntfs - 1 - 1 - ntfs
# /cygdrive/d - 1 - 0 - D: - binary,posix=0,user,noumount,auto - ntfs - 1 - 1 - ntfs
# /usr/bin - 1 - 0 - C:/cygwin64/bin - binary,auto - ntfs - 1 - 1 - ntfs
# /usr/lib - 1 - 0 - C:/cygwin64/lib - binary,auto - ntfs - 1 - 1 - ntfs
t/02_basic.t ..... ok
# Checking '/cygdrive/c' being mountpoint for '/home/ken/perl5/perlbrew/perls/perl-5.36.0/bin/perl.exe' or '/home/ken/.cpan/build/Sys-Filesystem-1.408-0/t/03_whereami.t' ...
# Checking '/cygdrive/d' being mountpoint for '/home/ken/perl5/perlbrew/perls/perl-5.36.0/bin/perl.exe' or '/home/ken/.cpan/build/Sys-Filesystem-1.408-0/t/03_whereami.t' ...
# Checking '/usr/bin' being mountpoint for '/home/ken/perl5/perlbrew/perls/perl-5.36.0/bin/perl.exe' or '/home/ken/.cpan/build/Sys-Filesystem-1.408-0/t/03_whereami.t' ...
# Checking '/usr/lib' being mountpoint for '/home/ken/perl5/perlbrew/perls/perl-5.36.0/bin/perl.exe' or '/home/ken/.cpan/build/Sys-Filesystem-1.408-0/t/03_whereami.t' ...
# Checking '/' being mountpoint for '/home/ken/perl5/perlbrew/perls/perl-5.36.0/bin/perl.exe' or '/home/ken/.cpan/build/Sys-Filesystem-1.408-0/t/03_whereami.t' ...
t/03_whereami.t .. ok
t/04_special.t ... ok
t/05_error.t ..... ok
t/06_settings.t .. ok
All tests successful.

Test Summary Report
-------------------
t/03_whereami.t (Wstat: 0 Tests: 3 Failed: 0)
  TODO passed:   2-3
Files=6, Tests=76,  2 wallclock secs ( 0.00 usr  0.03 sys +  0.53 cusr  0.93 csys =  1.48 CPU)
Result: PASS

------------------------------
PREREQUISITES
------------------------------

Prerequisite modules loaded:

requires:

    Module              Need     Have    
    ------------------- -------- --------
    Carp                0        1.52    
    Cwd                 0        3.84    
    File::Spec          0        3.84    
    FindBin             0        1.53    
    IO                  0        1.50    
    IPC::Cmd            0.80     1.04    
    Module::Pluggable   4.8      5.2     
    Params::Util        1.00     1.102   
    perl                5.008001 5.036000

build_requires:

    Module              Need     Have    
    ------------------- -------- --------
    Test::More          0.9      1.302190

configure_requires:

    Module              Need     Have    
    ------------------- -------- --------
    Carp                0        1.52    
    Cwd                 0        3.84    
    ExtUtils::MakeMaker 0        7.64    
    File::Spec          0        3.84    
    FindBin             0        1.53    
    IO                  0        1.50    
    IPC::Cmd            0.80     1.04    
    Module::Pluggable   4.8      5.2     
    Params::Util        1.00     1.102   

opt_requires:

    Module              Need     Have    
    ------------------- -------- --------
    perl                5.018001 5.036000


------------------------------
ENVIRONMENT AND OTHER CONTEXT
------------------------------

Environment variables:

    ACTIVEPERL_CONFIG_SILENT = 1
    COMSPEC = C:\WINDOWS\system32\cmd.exe
    CPAN_AUTHOR_TEST = 1
    CPAN_AUTHOR_TESTS_FOR__IAD_TKX = 1
    LANG = en_AU.UTF-8
    LC_ALL = en_AU.UTF-8
    LC_COLLATE = en_AU.UTF-8
    LC_CTYPE = en_AU.UTF-8
    LC_MESSAGES = en_AU.UTF-8
    LC_MONETARY = en_AU.UTF-8
    LC_NUMERIC = en_AU.UTF-8
    LC_TIME = en_AU.UTF-8
    NUMBER_OF_PROCESSORS = 12
    PATH = /home/ken/local/bin:/home/ken/perl5/perlbrew/bin:/home/ken/perl5/perlbrew/perls/perl-5.36.0/bin:/usr/local/bin:/usr/bin:/cygdrive/c/Program Files/NVIDIA GPU Computing Toolkit/CUDA/v11.4/bin:/cygdrive/c/Program Files/NVIDIA GPU Computing Toolkit/CUDA/v11.4/libnvvp:/cygdrive/c/Users/ken/local/opt/strawberry_perl/5_026_003/install/perl/site/bin:/cygdrive/c/Users/ken/local/opt/strawberry_perl/5_026_003/install/perl/bin:/cygdrive/c/Users/ken/local/opt/strawberry_perl/5_026_003/install/c/bin:/cygdrive/c/Program Files (x86)/Common Files/Oracle/Java/javapath:/cygdrive/c/Program Files (x86)/Intel/Intel(R) Management Engine Components/iCLS:/cygdrive/c/Program Files/Intel/Intel(R) Management Engine Components/iCLS:/cygdrive/c/Windows/system32:/cygdrive/c/Windows:/cygdrive/c/Windows/System32/Wbem:/cygdrive/c/Windows/System32/WindowsPowerShell/v1.0:/cygdrive/c/Windows/System32/OpenSSH:/cygdrive/c/Program Files/NVIDIA Corporation/NVIDIA NGX:/cygdrive/c/Program Files (x86)/OpenVPN/bin:/cygdrive/c/Program Files (x86)/Intel/Intel(R) Management Engine Components/DAL:/cygdrive/c/Program Files/Intel/Intel(R) Management Engine Components/DAL:/cygdrive/c/Program Files (x86)/Intel/Intel(R) Management Engine Components/IPT:/cygdrive/c/Program Files/Intel/Intel(R) Management Engine Components/IPT:/cygdrive/c/WINDOWS/system32:/cygdrive/c/WINDOWS:/cygdrive/c/WINDOWS/System32/Wbem:/cygdrive/c/WINDOWS/System32/WindowsPowerShell/v1.0:/cygdrive/c/WINDOWS/System32/OpenSSH:/cygdrive/c/Program Files (x86)/Universal Extractor:/cygdrive/c/Program Files (x86)/Universal Extractor/bin:/cygdrive/c/Program Files/Git/cmd:/cygdrive/c/Program Files (x86)/DArTtoolbox/bin:/cygdrive/c/Program Files/NVIDIA Corporation/Nsight Compute 2021.2.0:/cygdrive/c/Program Files (x86)/NVIDIA Corporation/PhysX/Common:/cygdrive/c/Program Files/NVIDIA Corporation/NVIDIA NvDLISR:/cygdrive/c/Program Files (x86)/Calibre2:/cygdrive/c/Users/ken/AppData/Local/Microsoft/WindowsApps:/cygdrive/c/Users/ken/local/bin:/cygdrive/c/Program Files (x86)/Graphviz2.38/bin:/cygdrive/c/Users/ken/AppData/Local/Pandoc:/usr/lib/lapack:/home/ken/.rakubrew/bin
    PERL5LIB = 
    PERL5OPT = 
    PERL5_CPANPLUS_IS_RUNNING = 1713
    PERL5_CPAN_IS_RUNNING = 1713
    PERLBREW_HOME = /home/ken/.perlbrew
    PERLBREW_MANPATH = /home/ken/perl5/perlbrew/perls/perl-5.36.0/man
    PERLBREW_PATH = /home/ken/perl5/perlbrew/bin:/home/ken/perl5/perlbrew/perls/perl-5.36.0/bin
    PERLBREW_PERL = perl-5.36.0
    PERLBREW_ROOT = /home/ken/perl5/perlbrew
    PERLBREW_SHELLRC_VERSION = 0.86
    PERLBREW_VERSION = 0.86
    PERL_READLINE_NOWARN = 1
    PERL_USE_UNSAFE_INC = 1
    PROCESSOR_IDENTIFIER = Intel64 Family 6 Model 158 Stepping 10, GenuineIntel
    SHELL = /bin/bash
    TEMP = /tmp
    TERM = xterm

Perl special variables (and OS-specific diagnostics, for MSWin32):

    $^X = /home/ken/perl5/perlbrew/perls/perl-5.36.0/bin/perl
    $UID/$EUID = 197610 / 197610
    $GID = 197121 197121 559 545 4 66049 11 15 113 4095 66048 262154 401408
    $EGID = 197121 197121 559 545 4 66049 11 15 113 4095 66048 262154 401408

Perl module toolchain versions installed:

    Module              Have    
    ------------------- --------
    CPAN                2.34    
    CPAN::Meta          2.150010
    Cwd                 3.84    
    ExtUtils::CBuilder  0.280236
    ExtUtils::Command   7.64    
    ExtUtils::Install   2.20    
    ExtUtils::MakeMaker 7.64    
    ExtUtils::Manifest  1.73    
    ExtUtils::ParseXS   3.45    
    File::Spec          3.84    
    JSON                4.06    
    JSON::PP            4.07    
    Module::Build       0.4231  
    Module::Signature   0.88    
    Parse::CPAN::Meta   2.150010
    Test::Harness       3.44    
    Test::More          1.302190
    YAML                1.30    
    YAML::Syck          n/a     
    version             0.9929  


--

Summary of my perl5 (revision 5 version 36 subversion 0) configuration:
   
  Platform:
    osname=cygwin
    osvers=3.2.0(0.34053)
    archname=cygwin-thread-multi
    uname='cygwin_nt-10.0 titan 3.2.0(0.34053) 2021-03-29 08:42 x86_64 cygwin '
    config_args='-de -Dprefix=/home/ken/perl5/perlbrew/perls/perl-5.36.0 -Aeval:scriptdir=/home/ken/perl5/perlbrew/perls/perl-5.36.0/bin'
    hint=recommended
    useposix=true
    d_sigaction=define
    useithreads=define
    usemultiplicity=define
    use64bitint=define
    use64bitall=define
    uselongdouble=undef
    usemymalloc=n
    default_inc_excludes_dot=define
  Compiler:
    cc='gcc'
    ccflags ='-DPERL_USE_SAFE_PUTENV -U__STRICT_ANSI__ -D_GNU_SOURCE -fwrapv -fno-strict-aliasing -pipe -fstack-protector-strong -D_FORTIFY_SOURCE=2'
    optimize='-O3'
    cppflags='-DPERL_USE_SAFE_PUTENV -U__STRICT_ANSI__ -D_GNU_SOURCE -fwrapv -fno-strict-aliasing -pipe -fstack-protector-strong'
    ccversion=''
    gccversion='10.2.0'
    gccosandvers=''
    intsize=4
    longsize=8
    ptrsize=8
    doublesize=8
    byteorder=12345678
    doublekind=3
    d_longlong=define
    longlongsize=8
    d_longdbl=define
    longdblsize=16
    longdblkind=3
    ivtype='long'
    ivsize=8
    nvtype='double'
    nvsize=8
    Off_t='off_t'
    lseeksize=8
    alignbytes=8
    prototype=define
  Linker and Libraries:
    ld='g++'
    ldflags =' -Wl,--enable-auto-import -Wl,--export-all-symbols -Wl,--enable-auto-image-base -fstack-protector-strong -L/usr/local/lib'
    libpth=/usr/lib /usr/lib/w32api /usr/local/lib /lib
    libs=-lpthread -ldl
    perllibs=-lpthread -ldl
    libc=/usr/lib/libc.a
    so=dll
    useshrplib=true
    libperl=cygperl5_36_0.dll
    gnulibc_version=''
  Dynamic Linking:
    dlsrc=dl_dlopen.xs
    dlext=dll
    d_dlsymun=undef
    ccdlflags=' '
    cccdlflags=' '
    lddlflags=' --shared  -Wl,--enable-auto-import -Wl,--export-all-symbols -Wl,--enable-auto-image-base -L/usr/local/lib -fstack-protector-strong'


Characteristics of this binary (from libperl): 
  Compile-time options:
    HAS_TIMES
    MULTIPLICITY
    PERLIO_LAYERS
    PERL_COPY_ON_WRITE
    PERL_DONT_CREATE_GVSV
    PERL_OP_PARENT
    PERL_PRESERVE_IVUV
    PERL_USE_SAFE_PUTENV
    USE_64_BIT_ALL
    USE_64_BIT_INT
    USE_ITHREADS
    USE_LARGE_FILES
    USE_LOCALE
    USE_LOCALE_COLLATE
    USE_LOCALE_CTYPE
    USE_LOCALE_NUMERIC
    USE_LOCALE_TIME
    USE_PERLIO
    USE_PERL_ATOF
    USE_REENTRANT_API
    USE_THREAD_SAFE_LOCALE
  Built under cygwin
  Compiled at May 31 2022 12:16:12
  %ENV:
    PERL5LIB=""
    PERL5OPT=""
    PERL5_CPANPLUS_IS_RUNNING="1713"
    PERL5_CPAN_IS_RUNNING="1713"
    PERLBREW_HOME="/home/ken/.perlbrew"
    PERLBREW_MANPATH="/home/ken/perl5/perlbrew/perls/perl-5.36.0/man"
    PERLBREW_PATH="/home/ken/perl5/perlbrew/bin:/home/ken/perl5/perlbrew/perls/perl-5.36.0/bin"
    PERLBREW_PERL="perl-5.36.0"
    PERLBREW_ROOT="/home/ken/perl5/perlbrew"
    PERLBREW_SHELLRC_VERSION="0.86"
    PERLBREW_VERSION="0.86"
    PERL_READLINE_NOWARN="1"
    PERL_USE_UNSAFE_INC="1"
  @INC:
    /home/ken/perl5/perlbrew/perls/perl-5.36.0/lib/site_perl/5.36.0/cygwin-thread-multi
    /home/ken/perl5/perlbrew/perls/perl-5.36.0/lib/site_perl/5.36.0
    /home/ken/perl5/perlbrew/perls/perl-5.36.0/lib/5.36.0/cygwin-thread-multi
    /home/ken/perl5/perlbrew/perls/perl-5.36.0/lib/5.36.0
    .