Report for App-SmokeBox-PerlVersion-0.16

Back
From: metabase:user:322078bc-2aae-11df-837a-5e0a49663a4f
Subject: PASS App-SmokeBox-PerlVersion-0.16 v5.22.0 OpenBSD
Date: 2015-11-17T21:11:35Z

This distribution has been tested as part of the CPAN Testers
project, supporting the Perl programming language.  See
http://wiki.cpantesters.org/ for more information or email
questions to cpan-testers-discuss@perl.org


--

Dear Chris Williams,

This is a computer-generated error report created automatically by
CPANPLUS, version 0.9156. Testers personal comments may appear
at the end of this report.


Thank you for uploading your work to CPAN.  Congratulations!
All tests were successful.

TEST RESULTS:

Below is the error stack from stage 'make test':

PERL_DL_NONLAZY=1 "/opt/perl-5.22.0/bin/perl" "-MExtUtils::Command::MM" "-MTest::Harness" "-e" "undef *Test::Harness::Switches; test_harness(0, 'blib/lib', 'blib/arch')" t/*.t
t/00-compile.t ............ ok
# Using Perl /opt/perl-5.22.0/bin/perl
# 
# This is perl 5, version 22, subversion 0 (v5.22.0) built for OpenBSD.amd64-openbsd
# 
# Copyright 1987-2015, Larry Wall
# 
# Perl may be copied only under the terms of either the Artistic License or the
# GNU General Public License, which may be found in the Perl 5 source kit.
# 
# Complete documentation for Perl, including FAQ lists, should be found on
# this system using "man perl" or "perldoc perl".  If you have access to the
# Internet, point your browser at http://www.perl.org/, the Perl Home Page.
# 
t/01-event.t .............. ok
# Using Perl /opt/perl-5.22.0/bin/perl
# 
# This is perl 5, version 22, subversion 0 (v5.22.0) built for OpenBSD.amd64-openbsd
# 
# Copyright 1987-2015, Larry Wall
# 
# Perl may be copied only under the terms of either the Artistic License or the
# GNU General Public License, which may be found in the Perl 5 source kit.
# 
# Complete documentation for Perl, including FAQ lists, should be found on
# this system using "man perl" or "perldoc perl".  If you have access to the
# Internet, point your browser at http://www.perl.org/, the Perl Home Page.
# 
t/02-postback.t ........... ok
t/release-pod-coverage.t .. skipped: these tests are for release candidate testing
t/release-pod-syntax.t .... skipped: these tests are for release candidate testing
All tests successful.
Files=5, Tests=17,  2 wallclock secs ( 0.03 usr  0.27 sys +  0.56 cusr  0.43 csys =  1.29 CPU)
Result: PASS


PREREQUISITES:

Here is a list of prerequisites you specified and versions we
managed to load:

	  Module Name                        Have     Want
	  File::Spec                         3.59        0
	  IO::Handle                         1.35        0
	  IPC::Cmd                           0.92        0
	  IPC::Open3                         1.18        0
	  POE                               1.367    1.293
	  POE::Wheel::Run                   1.367        0
	  Test::More                     1.001014        0

Perl module toolchain versions installed:
	Module Name                        Have
	CPANPLUS                         0.9156
	CPANPLUS::Dist::Build              0.78
	Cwd                                3.59
	ExtUtils::CBuilder             0.280224
	ExtUtils::Command                  7.10
	ExtUtils::Install                  2.04
	ExtUtils::MakeMaker                7.10
	ExtUtils::Manifest                 1.70
	ExtUtils::ParseXS                  3.30
	File::Spec                         3.59
	Module::Build                    0.4214
	Pod::Parser                        1.63
	Pod::Simple                        3.32
	Test::Harness                      3.35
	Test::More                     1.001014
	version                          0.9912

******************************** NOTE ********************************
The comments above are created mechanically, possibly without manual
checking by the sender.  As there are many people performing automatic
tests on each upload to CPAN, it is likely that you will receive
identical messages about the same problem.

If you believe that the message is mistaken, please reply to the first
one with correction and/or additional informations, and do not take
it personally.  We appreciate your patience. :)
**********************************************************************

Additional comments:


This report was machine-generated by CPANPLUS::Dist::YACSmoke 0.94.

------------------------------
ENVIRONMENT AND OTHER CONTEXT
------------------------------

Environment variables:

    AUTOMATED_TESTING = 1
    PATH = /sbin:/usr/sbin:/bin:/usr/bin:/usr/X11R6/bin:/usr/local/sbin:/usr/local/bin
    PERL5LIB = :/opt/perl-5.22.0/.cpanplus/5.22.0/build/fj8FMDb1tH/App-SmokeBox-PerlVersion-0.16/blib/lib:/opt/perl-5.22.0/.cpanplus/5.22.0/build/fj8FMDb1tH/App-SmokeBox-PerlVersion-0.16/blib/arch
    PERL5_CPANIDX_URL = http://cpan.mirror.local/cpanidx/
    PERL5_CPANPLUS_IS_RUNNING = 25455
    PERL5_CPANPLUS_IS_VERSION = 0.9156
    PERL_EXTUTILS_AUTOINSTALL = --defaultdeps
    PERL_INSTALL_QUIET = 1
    PERL_MM_USE_DEFAULT = 1
    SHELL = /bin/ksh
    TERM = vt220

Perl special variables (and OS-specific diagnostics, for MSWin32):

    Perl: $^X = /opt/perl-5.22.0/bin/perl
    UID:  $<  = 0
    EUID: $>  = 0
    GID:  $(  = 0 0 2 3 4 5 20 31
    EGID: $)  = 0 0 2 3 4 5 20 31


-------------------------------


--

Summary of my perl5 (revision 5 version 22 subversion 0) configuration:
   
  Platform:
    osname=openbsd, osvers=5.8, archname=OpenBSD.amd64-openbsd
    uname='openbsd olew.bingosnet.co.uk 5.8 generic#1170 amd64 '
    config_args='-des -Dprefix=/opt/perl-5.22.0'
    hint=recommended, useposix=true, d_sigaction=define
    useithreads=undef, usemultiplicity=undef
    use64bitint=define, use64bitall=define, uselongdouble=undef
    usemymalloc=n, bincompat5005=undef
  Compiler:
    cc='cc', ccflags ='-fno-strict-aliasing -pipe -fstack-protector-strong -I/usr/local/include -D_FORTIFY_SOURCE=2',
    optimize='-O2',
    cppflags='-fno-strict-aliasing -pipe -fstack-protector-strong -I/usr/local/include'
    ccversion='', gccversion='4.2.1 20070719 ', gccosandvers='openbsd5.8'
    intsize=4, longsize=8, ptrsize=8, doublesize=8, byteorder=12345678, doublekind=3
    d_longlong=define, longlongsize=8, d_longdbl=define, longdblsize=16, longdblkind=3
    ivtype='long', ivsize=8, nvtype='double', nvsize=8, Off_t='off_t', lseeksize=8
    alignbytes=8, prototype=define
  Linker and Libraries:
    ld='cc', ldflags ='-Wl,-E  -fstack-protector-strong -L/usr/local/lib'
    libpth=/usr/lib /usr/local/lib
    libs=-lpthread -lgdbm -lm -lutil -lc
    perllibs=-lpthread -lm -lutil -lc
    libc=/usr/lib/libc.so.80.1, so=so, useshrplib=false, libperl=libperl.a
    gnulibc_version=''
  Dynamic Linking:
    dlsrc=dl_dlopen.xs, dlext=so, d_dlsymun=undef, ccdlflags=' '
    cccdlflags='-DPIC -fPIC ', lddlflags='-shared -fPIC  -L/usr/local/lib -fstack-protector-strong'


Characteristics of this binary (from libperl): 
  Compile-time options: HAS_TIMES PERLIO_LAYERS PERL_DONT_CREATE_GVSV
                        PERL_HASH_FUNC_ONE_AT_A_TIME_HARD PERL_MALLOC_WRAP
                        PERL_NEW_COPY_ON_WRITE PERL_PRESERVE_IVUV
                        USE_64_BIT_ALL USE_64_BIT_INT USE_LARGE_FILES
                        USE_LOCALE USE_LOCALE_COLLATE USE_LOCALE_CTYPE
                        USE_LOCALE_NUMERIC USE_LOCALE_TIME USE_PERLIO
                        USE_PERL_ATOF
  Built under openbsd
  Compiled at Nov 17 2015 20:02:01
  %ENV:
    PERL5LIB=":/opt/perl-5.22.0/.cpanplus/5.22.0/build/fj8FMDb1tH/App-SmokeBox-PerlVersion-0.16/blib/lib:/opt/perl-5.22.0/.cpanplus/5.22.0/build/fj8FMDb1tH/App-SmokeBox-PerlVersion-0.16/blib/arch"
    PERL5_CPANIDX_URL="http://cpan.mirror.local/cpanidx/"
    PERL5_CPANPLUS_IS_RUNNING="25455"
    PERL5_CPANPLUS_IS_VERSION="0.9156"
    PERL_EXTUTILS_AUTOINSTALL="--defaultdeps"
    PERL_INSTALL_QUIET="1"
    PERL_MM_USE_DEFAULT="1"
  @INC:
    /opt/perl-5.22.0/.cpanplus/5.22.0/build/fj8FMDb1tH/App-SmokeBox-PerlVersion-0.16/blib/lib
    /opt/perl-5.22.0/.cpanplus/5.22.0/build/fj8FMDb1tH/App-SmokeBox-PerlVersion-0.16/blib/arch
    /opt/perl-5.22.0/lib/site_perl/5.22.0/OpenBSD.amd64-openbsd
    /opt/perl-5.22.0/lib/site_perl/5.22.0
    /opt/perl-5.22.0/lib/5.22.0/OpenBSD.amd64-openbsd
    /opt/perl-5.22.0/lib/5.22.0
    .