Back
From: metabase:user:30977d10-2aae-11df-837a-5e0a49663a4f
Subject: PASS Git-PurePerl-Walker-0.004001 v5.22.2 SunOS/Solaris
Date: 2017-03-17T21:57:59Z
This distribution has been tested as part of the CPAN Testers
project, supporting the Perl programming language. See
http://wiki.cpantesters.org/ for more information or email
questions to cpan-testers-discuss@perl.org
--
Dear Kent Fredric,
This is a computer-generated report for Git-PurePerl-Walker-0.004001
on perl 5.22.2, created by CPAN-Reporter-1.2018.
Thank you for uploading your work to CPAN. Congratulations!
All tests were successful.
Sections of this report:
* Tester comments
* Program output
* Prerequisites
* Environment and other context
------------------------------
TESTER COMMENTS
------------------------------
Additional comments from tester:
this report is from an automated smoke testing program
and was not reviewed by a human for accuracy
------------------------------
PROGRAM OUTPUT
------------------------------
Output from '/usr/bin/make test':
PERL_DL_NONLAZY=1 "/home/stro/perl/5.22.2/bin/perl" "-MExtUtils::Command::MM" "-MTest::Harness" "-e" "undef *Test::Harness::Switches; test_harness(0, 'blib/lib', 'blib/arch')" t/*.t t/00-compile/*.t
t/00-compile/lib_Git_PurePerl_Walker_Method_FirstParent_FromHEAD_pm.t .. ok
t/00-compile/lib_Git_PurePerl_Walker_Method_FirstParent_pm.t ........... ok
t/00-compile/lib_Git_PurePerl_Walker_OnCommit_CallBack_pm.t ............ ok
t/00-compile/lib_Git_PurePerl_Walker_OnCommit_List_pm.t ................ ok
t/00-compile/lib_Git_PurePerl_Walker_pm.t .............................. ok
t/00-compile/lib_Git_PurePerl_Walker_Role_HasRepo_pm.t ................. ok
t/00-compile/lib_Git_PurePerl_Walker_Role_Method_pm.t .................. ok
t/00-compile/lib_Git_PurePerl_Walker_Role_OnCommit_pm.t ................ ok
t/00-compile/lib_Git_PurePerl_Walker_Types_pm.t ........................ ok
#
# Versions for all modules listed in MYMETA.json (including optional ones):
#
# === Configure Requires ===
#
# Module Want Have
# ------------------- ---- ----
# ExtUtils::MakeMaker any 7.24
#
# === Configure Recommends ===
#
# Module Want Have
# ------------------- ---- ----
# ExtUtils::MakeMaker 7.00 7.24
#
# === Build Requires ===
#
# Module Want Have
# ------------------- ---- ----
# ExtUtils::MakeMaker any 7.24
#
# === Test Requires ===
#
# Module Want Have
# ------------------- ---- --------
# Archive::Tar any 2.24
# ExtUtils::MakeMaker any 7.24
# File::Spec any 3.62
# File::Temp any 0.2304
# File::pushd any 1.014
# FindBin any 1.51
# Package::Stash any 0.37
# Scalar::Util any 1.47
# Test::More any 1.302075
# lib any 0.63
#
# === Test Recommends ===
#
# Module Want Have
# ------------------- -------- --------
# CPAN::Meta 2.120900 2.150010
# ExtUtils::MakeMaker 7.00 7.24
# Test::More 0.99 1.302075
#
# === Runtime Requires ===
#
# Module Want Have
# -------------------- ---- ------
# Carp any 1.38
# Git::PurePerl any 0.53
# Module::Runtime any 0.014
# Moose any 2.2004
# Moose::Role any 2.2004
# MooseX::Clone any 0.06
# MooseX::Types any 0.50
# MooseX::Types::Moose any 0.50
# Path::Tiny any 0.100
# namespace::autoclean any 0.28
# strict any 1.09
# warnings any 1.34
#
# === Runtime Recommends ===
#
# Module Want Have
# ---------- ----- ------
# Moose 2.000 2.2004
# Path::Tiny 0.058 0.100
#
t/00-report-prereqs.t .................................................. ok
t/01_test.t ............................................................ ok
t/0200_firstparent.t ................................................... ok
t/0201_firstparent_fromhead.t .......................................... ok
t/03_callback.t ........................................................ ok
t/04_list.t ............................................................ ok
All tests successful.
Files=15, Tests=36, 9 wallclock secs ( 0.04 usr 0.02 sys + 6.68 cusr 0.83 csys = 7.57 CPU)
Result: PASS
------------------------------
PREREQUISITES
------------------------------
Prerequisite modules loaded:
requires:
Module Need Have
-------------------- -------- --------
Carp 0 1.38
Git::PurePerl 0 0.53
Module::Runtime 0 0.014
Moose 0 2.2004
Moose::Role 0 2.2004
MooseX::Clone 0 0.06
MooseX::Types 0 0.50
MooseX::Types::Moose 0 0.50
namespace::autoclean 0 0.28
Path::Tiny 0 0.100
perl 5.006 5.022002
strict 0 1.09
warnings 0 1.34
build_requires:
Module Need Have
-------------------- -------- --------
Archive::Tar 0 2.24
ExtUtils::MakeMaker 0 7.24
File::pushd 0 1.014
File::Spec 0 3.62
File::Temp 0 0.2304
FindBin 0 1.51
lib 0 0.63
Package::Stash 0 0.37
Scalar::Util 0 1.47
Test::More 0 1.302075
configure_requires:
Module Need Have
-------------------- -------- --------
ExtUtils::MakeMaker 0 7.24
perl 5.006 5.022002
opt_requires:
Module Need Have
-------------------- -------- --------
Moose 2.000 2.2004
Path::Tiny 0.058 0.100
opt_build_requires:
Module Need Have
-------------------- -------- --------
CPAN::Meta 2.120900 2.150010
ExtUtils::MakeMaker 7.00 7.24
Test::More 0.99 1.302075
------------------------------
ENVIRONMENT AND OTHER CONTEXT
------------------------------
Environment variables:
AUTOMATED_TESTING = 1
LANG = en_US.UTF-8
PATH = /usr/gnu/bin:/usr/bin:/usr/sbin:/sbin:/usr/sfw/bin:
PERL5LIB =
PERL5OPT =
PERL5_CPANPLUS_IS_RUNNING = 26146
PERL5_CPAN_IS_RUNNING = 26146
PERL5_CPAN_IS_RUNNING_IN_RECURSION = 10947,26146
PERL_CR_SMOKER_CURRENT = Git-PurePerl-Walker-0.004001
PERL_EXTUTILS_AUTOINSTALL = --defaultdeps
PERL_MM_USE_DEFAULT = 1
SHELL = /bin/bash
TERM = xterm
Perl special variables (and OS-specific diagnostics, for MSWin32):
$^X = /home/stro/perl/5.22.2/bin/perl
$UID/$EUID = 101 / 101
$GID = 10 10
$EGID = 10 10
Perl module toolchain versions installed:
Module Have
------------------- --------
CPAN 2.14
CPAN::Meta 2.150010
Cwd 3.62
ExtUtils::CBuilder 0.280221
ExtUtils::Command 7.24
ExtUtils::Install 2.04
ExtUtils::MakeMaker 7.24
ExtUtils::Manifest 1.70
ExtUtils::ParseXS 3.28
File::Spec 3.62
JSON 2.90
JSON::PP 2.27400
Module::Build 0.4220
Module::Signature 0.81
Parse::CPAN::Meta 2.150010
Test::Harness 3.35
Test::More 1.302075
YAML 1.22
YAML::Syck 1.29
version 0.9909
--
Summary of my perl5 (revision 5 version 22 subversion 2) configuration:
Platform:
osname=solaris, osvers=2.11, archname=i86pc-solaris
uname='sunos vm-openindiana-001 5.11 illumos-2816291 i86pc i386 i86pc '
config_args='-Dcc=gcc'
hint=recommended, useposix=true, d_sigaction=define
useithreads=undef, usemultiplicity=undef
use64bitint=undef, use64bitall=undef, uselongdouble=undef
usemymalloc=n, bincompat5005=undef
Compiler:
cc='gcc', ccflags ='-fno-strict-aliasing -pipe -I/usr/gnu/include -D_LARGEFILE_SOURCE -D_FILE_OFFSET_BITS=64 -DPERL_USE_SAFE_PUTENV',
optimize='-O',
cppflags='-fno-strict-aliasing -pipe -I/usr/gnu/include'
ccversion='', gccversion='3.4.3 (csl-sol210-3_4-20050802)', gccosandvers='solaris2.11'
intsize=4, longsize=4, ptrsize=4, doublesize=8, byteorder=1234, doublekind=3
d_longlong=define, longlongsize=8, d_longdbl=define, longdblsize=12, longdblkind=3
ivtype='long', ivsize=4, nvtype='double', nvsize=8, Off_t='off_t', lseeksize=8
alignbytes=4, prototype=define
Linker and Libraries:
ld='gcc', ldflags =' -L/usr/gnu/lib '
libpth=/usr/gcc/3.4/lib /usr/lib /usr/gnu/lib /usr/ccs/lib
libs=-lpthread -lsocket -lnsl -lgdbm -ldb -ldl -lm -lc
perllibs=-lpthread -lsocket -lnsl -ldl -lm -lc
libc=/lib/libc.so, so=so, useshrplib=false, libperl=libperl.a
gnulibc_version=''
Dynamic Linking:
dlsrc=dl_dlopen.xs, dlext=so, d_dlsymun=undef, ccdlflags=' '
cccdlflags='-fPIC', lddlflags='-shared -L/usr/gnu/lib'
Characteristics of this binary (from libperl):
Compile-time options: HAS_TIMES PERLIO_LAYERS PERL_DONT_CREATE_GVSV
PERL_HASH_FUNC_ONE_AT_A_TIME_HARD PERL_MALLOC_WRAP
PERL_NEW_COPY_ON_WRITE PERL_PRESERVE_IVUV
PERL_USE_SAFE_PUTENV USE_LARGE_FILES USE_LOCALE
USE_LOCALE_COLLATE USE_LOCALE_CTYPE
USE_LOCALE_NUMERIC USE_LOCALE_TIME USE_PERLIO
USE_PERL_ATOF
Built under solaris
Compiled at Dec 24 2016 01:49:44
%ENV:
PERL5LIB=""
PERL5OPT=""
PERL5_CPANPLUS_IS_RUNNING="26146"
PERL5_CPAN_IS_RUNNING="26146"
PERL5_CPAN_IS_RUNNING_IN_RECURSION="10947,26146"
PERL_CR_SMOKER_CURRENT="Git-PurePerl-Walker-0.004001"
PERL_EXTUTILS_AUTOINSTALL="--defaultdeps"
PERL_MM_USE_DEFAULT="1"
@INC:
/home/stro/perl/5.22.2/lib/site_perl/5.22.2/i86pc-solaris
/home/stro/perl/5.22.2/lib/site_perl/5.22.2
/home/stro/perl/5.22.2/lib/5.22.2/i86pc-solaris
/home/stro/perl/5.22.2/lib/5.22.2
.