Back
From: metabase:user:9820532a-708b-1014-9a05-b18a96298da1
Subject: PASS File-PathInfo-Ext-1.30 v5.12.1 GNU/Linux
Date: 2010-10-08T20:58:21Z
This distribution has been tested as part of the CPAN Testers
project, supporting the Perl programming language. See
http://wiki.cpantesters.org/ for more information or email
questions to cpan-testers-discuss@perl.org
--
Dear Leo Charre,
This is a computer-generated report for File-PathInfo-Ext-1.30
on perl 5.12.1, created by CPAN-Reporter-1.1803.
Thank you for uploading your work to CPAN. Congratulations!
All tests were successful.
Sections of this report:
* Tester comments
* Program output
* Prerequisites
* Environment and other context
------------------------------
TESTER COMMENTS
------------------------------
Additional comments from tester:
this report is from an automated smoke testing program
and was not reviewed by a human for accuracy
------------------------------
PROGRAM OUTPUT
------------------------------
Output from '/usr/bin/make test':
PERL_DL_NONLAZY=1 /home/test/perl/bin/perl5.12.1 "-MExtUtils::Command::MM" "-e" "test_harness(0, 'blib/lib', 'blib/arch')" t/*.t
===================
PART [1], ./T/PUBLIC_HTML/DEMO
stat key 'ctime' = '1286571500'
stat key 'mtime' = '1286571473'
stat key 'nlink' = '2'
stat key 'size' = '4096'
stat key 'blocks' = '8'
stat key 'atime_pretty' = '2010/10/08 21:58'
stat key 'mtime_pretty' = '2010/10/08 21:57'
stat key 'ctime_pretty' = '2010/10/08 21:58'
stat key 'ino' = '868677'
===================
PART [2], ./T/PUBLIC_HTML/SEVEN.PDF
stat key 'ctime' = '1286571500'
stat key 'mtime' = '1179497048'
stat key 'nlink' = '1'
stat key 'size' = '769239'
stat key 'blocks' = '1512'
stat key 'atime_pretty' = '2010/10/08 21:57'
stat key 'mtime_pretty' = '2007/05/18 15:04'
stat key 'ctime_pretty' = '2010/10/08 21:58'
stat key 'ino' = '868675'
===================
PART [3], DEMO
stat key 'ctime' = '1286571500'
stat key 'mtime' = '1286571473'
stat key 'nlink' = '2'
stat key 'size' = '4096'
stat key 'blocks' = '8'
stat key 'atime_pretty' = '2010/10/08 21:58'
stat key 'mtime_pretty' = '2010/10/08 21:57'
stat key 'ctime_pretty' = '2010/10/08 21:58'
stat key 'ino' = '868677'
===================
PART [4], ./T/PUBLIC_HTML/DEMO/HELLOKITTY.GIF
stat key 'ctime' = '1286571500'
stat key 'mtime' = '1174604434'
stat key 'nlink' = '1'
stat key 'size' = '4099'
stat key 'blocks' = '16'
stat key 'atime_pretty' = '2010/10/08 21:57'
stat key 'mtime_pretty' = '2007/03/22 23:00'
stat key 'ctime_pretty' = '2010/10/08 21:58'
stat key 'ino' = '868678'
===================
PART [5], ./T/PUBLIC_HTML/DEMO/../DEMO/CIVIL.TXT
stat key 'ctime' = '1286571500'
stat key 'mtime' = '1174604434'
stat key 'nlink' = '1'
stat key 'size' = '51460'
stat key 'blocks' = '112'
stat key 'atime_pretty' = '2010/10/08 21:57'
stat key 'mtime_pretty' = '2007/03/22 23:00'
stat key 'ctime_pretty' = '2010/10/08 21:58'
stat key 'ino' = '868679'
===================
PART [6], DEMO/../DEMO/CIVIL.TXT
stat key 'ctime' = '1286571500'
stat key 'mtime' = '1174604434'
stat key 'nlink' = '1'
stat key 'size' = '51460'
stat key 'blocks' = '112'
stat key 'atime_pretty' = '2010/10/08 21:58'
stat key 'mtime_pretty' = '2007/03/22 23:00'
stat key 'ctime_pretty' = '2010/10/08 21:58'
stat key 'ino' = '868679'
===================
PART [7], DEMO/CIVIL.TXT
stat key 'ctime' = '1286571500'
stat key 'mtime' = '1174604434'
stat key 'nlink' = '1'
stat key 'size' = '51460'
stat key 'blocks' = '112'
stat key 'atime_pretty' = '2010/10/08 21:58'
stat key 'mtime_pretty' = '2007/03/22 23:00'
stat key 'ctime_pretty' = '2010/10/08 21:58'
stat key 'ino' = '868679'
t/0.t ................. ok
newname cannot contain slashes at lib/File/PathInfo/Ext.pm line 16
File::PathInfo::Ext::rename('File::PathInfo::Ext=HASH(0xcd1c40)', 'awe/gfaw/egawg/\pou*()^T)(T3wt//n23') called at t/1.t line 21
ls for [/home/test/.cpan/build/File-PathInfo-Ext-1.30-jtlZWe]
ls for [/home/test/.cpan/build/File-PathInfo-Ext-1.30-jtlZWe/tmp2]
ls for [/home/test/.cpan/build/File-PathInfo-Ext-1.30-jtlZWe/tmp2]
t/1.t ................. ok
SET 2
# on move newloc is : /home/test/.cpan/build/File-PathInfo-Ext-1.30-jtlZWe/t/public_html/timp/incoming/movedme.txt
Can't move to '/home/test/.cpan/build/File-PathInfo-Ext-1.30-jtlZWe/t/public_html/timp/movedme.txt', destination already exists at lib/File/PathInfo/Ext.pm line 136
File::PathInfo::Ext::move('File::PathInfo::Ext=HASH(0x202c890)', '/home/test/.cpan/build/File-PathInfo-Ext-1.30-jtlZWe/t/public...') called at t/2_move.t line 92
t/2_move.t ............ ok
Can't move '/home/test/.cpan/build/File-PathInfo-Ext-1.30-jtlZWe/t/f1' to '/home/test/.cpan/build/File-PathInfo-Ext-1.30-jtlZWe/t/f2', already exists. at lib/File/PathInfo/Ext.pm line 152
File::PathInfo::Ext::move('File::PathInfo::Ext=HASH(0x231e948)', '/home/test/.cpan/build/File-PathInfo-Ext-1.30-jtlZWe/t/f2') called at lib/File/PathInfo/Ext.pm line 17
File::PathInfo::Ext::rename('File::PathInfo::Ext=HASH(0x231e948)', 'f2') called at t/3.t line 21
Use of uninitialized value in numeric eq (==) at t/3.t line 21.
t/3.t ................. ok
### $val: undef
### $val: 'this is'
### $val: 'this is a val for errstr'
--------------
----
--------------
----
### $val: '/home/test/.cpan/build/File-PathInfo-Ext-1.30-jtlZWe/t/tmp/dir/file.txt'
--------------others
----
Use of uninitialized value $err in concatenation (.) or string at t/4_resolve_arg_to.t line 74.
arg './file.txt' = [/home/test/.cpan/build/File-PathInfo-Ext-1.30-jtlZWe/file.txt]
err?
arg './' = [NO RESULT]
err? Can't set destination to '/home/test/.cpan/build/File-PathInfo-Ext-1.30-jtlZWe', already exists.
arg '.' = [NO RESULT]
err? Can't resolve arg ..
Use of uninitialized value $err in concatenation (.) or string at t/4_resolve_arg_to.t line 74.
arg './../file.txt' = [/home/test/.cpan/build/file.txt]
err?
arg './../bogus/thing' = [NO RESULT]
err? Can't resolve arg ../bogus/thing
arg './t/tmp/bogusdir/' = [NO RESULT]
err? Can't resolve arg t/tmp/bogusdir/
t/4_resolve_arg_to.t .. ok
# NOW try to dirs
### $r: '/home/test/.cpan/build/File-PathInfo-Ext-1.30-jtlZWe/t/tmp/dir/filealso.txt'
t/5_copy.t ............ ok
t/99_cleanup.t ........ ok
All tests successful.
Files=7, Tests=204, 1 wallclock secs ( 0.07 usr 0.00 sys + 0.48 cusr 0.14 csys = 0.69 CPU)
Result: PASS
------------------------------
PREREQUISITES
------------------------------
Prerequisite modules loaded:
requires:
Module Need Have
------------------- ---- -------
Carp 1 1.16
Cwd 3 3.31
Digest::MD5 2 2.39
File::Copy 2 2.18
File::Path 1 2.08_01
File::PathInfo 1.27 1.27
File::Type 0 0.22
Test::Simple 0 0.94
YAML 0 0.72
configure_requires:
Module Need Have
------------------- ---- -------
ExtUtils::MakeMaker 0 6.56
------------------------------
ENVIRONMENT AND OTHER CONTEXT
------------------------------
Environment variables:
AUTOMATED_TESTING = 1
LANG = C
LC_ALL = C
PATH = /home/test/perl/bin:~/bin:/usr/bin:/bin
PERL5LIB = /home/test/.cpan/build/File-Type-0.22-Je4cFm/blib/arch:/home/test/.cpan/build/File-Type-0.22-Je4cFm/blib/lib:/home/test/.cpan/build/File-PathInfo-1.27-1hLkOI/blib/arch:/home/test/.cpan/build/File-PathInfo-1.27-1hLkOI/blib/lib:/home/test/.cpan/build/Smart-Comments-1.0.4-kevpzn/blib/arch:/home/test/.cpan/build/Smart-Comments-1.0.4-kevpzn/blib/lib:/home/test/.cpan/build/Time-Format-1.11-arGl9q/blib/arch:/home/test/.cpan/build/Time-Format-1.11-arGl9q/blib/lib:/home/test/.cpan/build/YAML-0.72-VxyKwB/blib/arch:/home/test/.cpan/build/YAML-0.72-VxyKwB/blib/lib
PERL5OPT =
PERL5_CPANPLUS_IS_RUNNING = 27356
PERL5_CPAN_IS_RUNNING = 27356
PERL5_CPAN_IS_RUNNING_IN_RECURSION = 2369,27356
PERL_CR_SMOKER_CURRENT = File-PathInfo-Ext-1.30
PERL_EXTUTILS_AUTOINSTALL = --defaultdeps
PERL_MM_USE_DEFAULT = 1
SHELL = /bin/bash
TERM = linux
Perl special variables (and OS-specific diagnostics, for MSWin32):
$^X = /home/test/perl/bin/perl5.12.1
$UID/$EUID = 1001 / 1001
$GID = 1001 1001
$EGID = 1001 1001
Perl module toolchain versions installed:
Module Have
------------------- -------
CPAN 1.94_56
Cwd 3.31
ExtUtils::CBuilder 0.27
ExtUtils::Command 1.16
ExtUtils::Install 1.55
ExtUtils::MakeMaker 6.56
ExtUtils::Manifest 1.57
ExtUtils::ParseXS 2.21
File::Spec 3.31
Module::Build 0.3603
Module::Signature n/a
Test::Harness 3.17
Test::More 0.94
YAML 0.72
YAML::Syck 1.15
version 0.82
--
Summary of my perl5 (revision 5 version 12 subversion 1) configuration:
Platform:
osname=linux, osvers=2.6.26-2-amd64, archname=x86_64-linux-thread-multi-ld
uname='linux zippy 2.6.26-2-amd64 #1 smp tue jan 12 22:12:20 utc 2010 x86_64 gnulinux '
config_args='-des -Dusedevel -des -Duselongdouble -Duse64bitall -Dusethreads -Dprefix=~/perl'
hint=recommended, useposix=true, d_sigaction=define
useithreads=define, usemultiplicity=define
useperlio=define, d_sfio=undef, uselargefiles=define, usesocks=undef
use64bitint=define, use64bitall=define, uselongdouble=define
usemymalloc=n, bincompat5005=undef
Compiler:
cc='cc', ccflags ='-D_REENTRANT -D_GNU_SOURCE -fno-strict-aliasing -pipe -fstack-protector -I/usr/local/include -D_LARGEFILE_SOURCE -D_FILE_OFFSET_BITS=64',
optimize='-O2',
cppflags='-D_REENTRANT -D_GNU_SOURCE -fno-strict-aliasing -pipe -fstack-protector -I/usr/local/include'
ccversion='', gccversion='4.4.4', gccosandvers=''
intsize=4, longsize=8, ptrsize=8, doublesize=8, byteorder=12345678
d_longlong=define, longlongsize=8, d_longdbl=define, longdblsize=16
ivtype='long', ivsize=8, nvtype='long double', nvsize=16, Off_t='off_t', lseeksize=8
alignbytes=16, prototype=define
Linker and Libraries:
ld='cc', ldflags =' -fstack-protector -L/usr/local/lib'
libpth=/usr/local/lib /lib /usr/lib /lib64 /usr/lib64
libs=-lnsl -ldb -ldl -lm -lcrypt -lutil -lpthread -lc
perllibs=-lnsl -ldl -lm -lcrypt -lutil -lpthread -lc
libc=/lib/libc-2.11.2.so, so=so, useshrplib=false, libperl=libperl.a
gnulibc_version='2.11.2'
Dynamic Linking:
dlsrc=dl_dlopen.xs, dlext=so, d_dlsymun=undef, ccdlflags='-Wl,-E'
cccdlflags='-fPIC', lddlflags='-shared -O2 -L/usr/local/lib -fstack-protector'
Characteristics of this binary (from libperl):
Compile-time options: MULTIPLICITY PERL_DONT_CREATE_GVSV
PERL_IMPLICIT_CONTEXT PERL_MALLOC_WRAP PERL_USE_DEVEL
USE_64_BIT_ALL USE_64_BIT_INT USE_ITHREADS
USE_LARGE_FILES USE_LONG_DOUBLE USE_PERLIO
USE_PERL_ATOF USE_REENTRANT_API
Built under linux
Compiled at Aug 23 2010 11:08:01
%ENV:
PERL5LIB="/home/test/.cpan/build/File-Type-0.22-Je4cFm/blib/arch:/home/test/.cpan/build/File-Type-0.22-Je4cFm/blib/lib:/home/test/.cpan/build/File-PathInfo-1.27-1hLkOI/blib/arch:/home/test/.cpan/build/File-PathInfo-1.27-1hLkOI/blib/lib:/home/test/.cpan/build/Smart-Comments-1.0.4-kevpzn/blib/arch:/home/test/.cpan/build/Smart-Comments-1.0.4-kevpzn/blib/lib:/home/test/.cpan/build/Time-Format-1.11-arGl9q/blib/arch:/home/test/.cpan/build/Time-Format-1.11-arGl9q/blib/lib:/home/test/.cpan/build/YAML-0.72-VxyKwB/blib/arch:/home/test/.cpan/build/YAML-0.72-VxyKwB/blib/lib"
PERL5OPT=""
PERL5_CPANPLUS_IS_RUNNING="27356"
PERL5_CPAN_IS_RUNNING="27356"
PERL5_CPAN_IS_RUNNING_IN_RECURSION="2369,27356"
PERL_CR_SMOKER_CURRENT="File-PathInfo-Ext-1.30"
PERL_EXTUTILS_AUTOINSTALL="--defaultdeps"
PERL_MM_USE_DEFAULT="1"
@INC:
/home/test/.cpan/build/File-Type-0.22-Je4cFm/blib/arch
/home/test/.cpan/build/File-Type-0.22-Je4cFm/blib/lib
/home/test/.cpan/build/File-PathInfo-1.27-1hLkOI/blib/arch
/home/test/.cpan/build/File-PathInfo-1.27-1hLkOI/blib/lib
/home/test/.cpan/build/Smart-Comments-1.0.4-kevpzn/blib/arch
/home/test/.cpan/build/Smart-Comments-1.0.4-kevpzn/blib/lib
/home/test/.cpan/build/Time-Format-1.11-arGl9q/blib/arch
/home/test/.cpan/build/Time-Format-1.11-arGl9q/blib/lib
/home/test/.cpan/build/YAML-0.72-VxyKwB/blib/arch
/home/test/.cpan/build/YAML-0.72-VxyKwB/blib/lib
/home/test/perl/lib/site_perl/5.12.1/x86_64-linux-thread-multi-ld
/home/test/perl/lib/site_perl/5.12.1
/home/test/perl/lib/5.12.1/x86_64-linux-thread-multi-ld
/home/test/perl/lib/5.12.1
.