Report for XML-Parser-2.41

Back
From: metabase:user:323dcade-2aae-11df-837a-5e0a49663a4f
Subject: PASS XML-Parser-2.41 v5.17.2 GNU/Linux
Date: 2012-07-03T23:21:15Z

This distribution has been tested as part of the CPAN Testers
project, supporting the Perl programming language.  See
http://wiki.cpantesters.org/ for more information or email
questions to cpan-testers-discuss@perl.org


--
Dear Todd Rinaldo,

This is a computer-generated report for XML-Parser-2.41
on perl 5.17.2, created by CPAN-Reporter-1.2006.

Thank you for uploading your work to CPAN.  Congratulations!
All tests were successful.

Sections of this report:

    * Tester comments
    * Program output
    * Prerequisites
    * Environment and other context

------------------------------
TESTER COMMENTS
------------------------------

Additional comments from tester:

none provided

------------------------------
PROGRAM OUTPUT
------------------------------

Output from '/usr/bin/make test':

make[1]: Entering directory `/root/.cpan/build/XML-Parser-2.41-BrZYNM/Expat'
make[1]: Leaving directory `/root/.cpan/build/XML-Parser-2.41-BrZYNM/Expat'
PERL_DL_NONLAZY=1 /usr/local/bin/perl5.17.2 "-MExtUtils::Command::MM" "-e" "test_harness(0, 'blib/lib', 'blib/arch')" t/*.t
t/astress.t ....... ok
t/cdata.t ......... ok
t/decl.t .......... ok
t/defaulted.t ..... ok
t/encoding.t ...... ok
t/external_ent.t .. ok
t/file.t .......... ok
t/finish.t ........ ok
t/namespaces.t .... ok
t/parament.t ...... ok
t/partial.t ....... ok
t/skip.t .......... ok
t/stream.t ........ ok
t/styles.t ........ ok
All tests successful.
Files=14, Tests=130,  1 wallclock secs ( 0.04 usr  0.02 sys +  0.43 cusr  0.07 csys =  0.56 CPU)
Result: PASS

------------------------------
PREREQUISITES
------------------------------

Prerequisite modules loaded:

requires:

    Module              Need    Have    
    ------------------- ------- --------
    LWP                 0       6.04    
    perl                5.00405 5.017002

build_requires:

    Module              Need    Have    
    ------------------- ------- --------
    ExtUtils::MakeMaker 0       6.63_02 

configure_requires:

    Module              Need    Have    
    ------------------- ------- --------
    ExtUtils::MakeMaker 0       6.63_02 


------------------------------
ENVIRONMENT AND OTHER CONTEXT
------------------------------

Environment variables:

    LANG = en_US.UTF-8
    PATH = /home/rurban/bin:/usr/local/cpanel/bin:/usr/local/cpanel/3rdparty/bin:/usr/kerberos/bin:/usr/local/bin:/bin:/usr/bin
    PERL5LIB = 
    PERL5OPT = 
    PERL5_CPANPLUS_IS_RUNNING = 19118
    PERL5_CPAN_IS_RUNNING = 19118
    SHELL = /bin/bash
    TERM = xterm

Perl special variables (and OS-specific diagnostics, for MSWin32):

    $^X = /usr/local/bin/perl5.17.2
    $UID/$EUID = 500 / 500
    $GID = 500 10 500
    $EGID = 500 10 500

Perl module toolchain versions installed:

    Module              Have    
    ------------------- --------
    CPAN                1.9800  
    CPAN::Meta          2.120921
    Cwd                 3.39_02 
    ExtUtils::CBuilder  0.280208
    ExtUtils::Command   1.17    
    ExtUtils::Install   1.58    
    ExtUtils::MakeMaker 6.63_02 
    ExtUtils::Manifest  1.61    
    ExtUtils::ParseXS   3.17    
    File::Spec          3.39_02 
    JSON                2.53    
    JSON::PP            2.27200 
    Module::Build       0.4001  
    Module::Signature   n/a     
    Parse::CPAN::Meta   1.4404  
    Test::Harness       3.25_01 
    Test::More          0.98    
    YAML                0.81    
    YAML::Syck          n/a     
    version             0.99    


--

Summary of my perl5 (revision 5 version 17 subversion 2) configuration:
  Commit id: 099fcb99614db013a056694d91f9fb78c3610dd4
  Platform:
    osname=linux, osvers=2.6.18-308.1.1.el5, archname=x86_64-linux-git
    uname='linux perl514.cpanel.net 2.6.18-308.1.1.el5 #1 smp wed mar 7 04:16:51 est 2012 x86_64 x86_64 x86_64 gnulinux '
    config_args='-de -Dusedevel -Darchname=x86_64-linux-git -Doptimize=-Os -Acflags=-fPIC -DPIC -m64 -I/usr/local/cpanel/include -Aldflags=-L/usr/local/cpanel/lib -L/usr/lib64 -L/lib64 -lresolv -lnsl -ldl -lm -lcrypt -lutil -lc -Dlibpth=/usr/local/cpanel/lib /usr/local/lib64 /usr/local/lib /lib64 /usr/lib64 -Dlocincpth=/usr/local/cpanel/include /usr/local/include'
    hint=recommended, useposix=true, d_sigaction=define
    useithreads=undef, usemultiplicity=undef
    useperlio=define, d_sfio=undef, uselargefiles=define, usesocks=undef
    use64bitint=define, use64bitall=define, uselongdouble=undef
    usemymalloc=n, bincompat5005=undef
  Compiler:
    cc='cc', ccflags ='-fno-strict-aliasing -pipe -fstack-protector -I/usr/local/cpanel/include -I/usr/local/include -D_LARGEFILE_SOURCE -D_FILE_OFFSET_BITS=64',
    optimize='-Os',
    cppflags='-fno-strict-aliasing -pipe -fstack-protector -I/usr/local/cpanel/include -I/usr/local/include'
    ccversion='', gccversion='4.4.6 20110731 (Red Hat 4.4.6-3)', gccosandvers=''
    intsize=4, longsize=8, ptrsize=8, doublesize=8, byteorder=12345678
    d_longlong=define, longlongsize=8, d_longdbl=define, longdblsize=16
    ivtype='long', ivsize=8, nvtype='double', nvsize=8, Off_t='off_t', lseeksize=8
    alignbytes=8, prototype=define
  Linker and Libraries:
    ld='cc', ldflags =' -L/usr/local/cpanel/lib -L/usr/lib64 -L/lib64 -lresolv -lnsl -ldl -lm -lcrypt -lutil -lc -fstack-protector -L/usr/local/lib'
    libpth=/usr/local/cpanel/lib /usr/local/lib64 /usr/local/lib /lib64 /usr/lib64
    libs=-lnsl -lgdbm -ldb -ldl -lm -lcrypt -lutil -lc -lgdbm_compat
    perllibs=-lnsl -ldl -lm -lcrypt -lutil -lc
    libc=/lib/libc-2.5.so, so=so, useshrplib=false, libperl=libperl.a
    gnulibc_version='2.5'
  Dynamic Linking:
    dlsrc=dl_dlopen.xs, dlext=so, d_dlsymun=undef, ccdlflags='-Wl,-E'
    cccdlflags='-fPIC', lddlflags='-shared -Os -L/usr/local/cpanel/lib -L/usr/lib64 -L/lib64 -L/usr/local/lib -fstack-protector'


Characteristics of this binary (from libperl): 
  Compile-time options: HAS_TIMES PERLIO_LAYERS PERL_DONT_CREATE_GVSV
                        PERL_MALLOC_WRAP PERL_PRESERVE_IVUV PERL_USE_DEVEL
                        USE_64_BIT_ALL USE_64_BIT_INT USE_LARGE_FILES
                        USE_LOCALE USE_LOCALE_COLLATE USE_LOCALE_CTYPE
                        USE_LOCALE_NUMERIC USE_PERLIO USE_PERL_ATOF
  Built under linux
  Compiled at Jul  3 2012 11:22:07
  %ENV:
    PERL5LIB=""
    PERL5OPT=""
    PERL5_CPANPLUS_IS_RUNNING="19118"
    PERL5_CPAN_IS_RUNNING="19118"
  @INC:
    /usr/local/lib/perl5/site_perl/5.17.2/x86_64-linux-git
    /usr/local/lib/perl5/site_perl/5.17.2
    /usr/local/lib/perl5/5.17.2/x86_64-linux-git
    /usr/local/lib/perl5/5.17.2
    /usr/local/lib/perl5/site_perl
    .